BEGIN:VCALENDAR
CALSCALE:GREGORIAN
METHOD:PUBLISH
PRODID:-//github.com/ical-org/ical.net//NONSGML ical.net 4.0//EN
VERSION:2.0
X-WR-TIMEZONE:US/Eastern
BEGIN:VEVENT
CATEGORIES:Apothecary Museum
CATEGORIES:Museums
CATEGORIES:Old & Historic Alexandria
CATEGORIES:Old Town
DESCRIPTION:Imported on Apr 23\, 2026\, 3 days before the event.\nTo verif
 y info please see https://apps.alexandriava.gov/CalendarTest/Detail.aspx?
 si=62470\n\nLearn about the muggle botanical science that inspired the po
 tions and herbology of Harry Potter's wizarding world on a tour of this 1
 9th century apothecary\, and make your own magical potion! Recommended fo
 r ages 8 and up. Children must be accompanied by a ticket-holding adult.\
 n\n\n\n\n\nLocation: Stabler-Leadbeater Apothecary Museum\, 105-107 S. Fa
 irfax St.\nFees: $15/$12 for Historic Alexandria Members and Volunteers\n
 Audience: Anyone may attend\nTags: Apothecary Museum\, Museums\, Old & Hi
 storic Alexandria\, Old Town\n\nWeb resources:\n\nPurchase tickets online
 \nhttps://shop.alexandriava.gov/Events.aspx\n
DTEND:20260426T160000Z
DTSTAMP:20260319T013018Z
DTSTART:20260426T150000Z
GEO:38.804291;-77.042693
LOCATION:Stabler-Leadbeater Apothecary Museum\, 105-107 S. Fairfax St.
SEQUENCE:4
STATUS:CONFIRMED
SUMMARY:Specialty Tour: A Magical Apothecary
TRANSP:OPAQUE
UID:9be1d890-fb8c-4d91-b877-83916b509588
URL:https://shop.alexandriava.gov/Events.aspx
X-ALT-DESC;FMTTYPE=text/html:Imported on Apr 23\, 2026\, 3 days before the
  event.<br />To verify info please see <a href="https://apps.alexandriava
 .gov/CalendarTest/Detail.aspx?si=62470">https://apps.alexandriava.gov/Cal
 endarTest/Detail.aspx?si=62470</a><br />\n<br />Learn about the muggle bo
 tanical science that inspired the potions and herbology of Harry Potter&#
 39\;s wizarding world on a tour of this 19th century apothecary\, and mak
 e your own magical potion! Recommended for ages 8 and up. Children must b
 e accompanied by a ticket-holding adult.\n<br />\n<br />\n<br />\n<br />\
 n<br />\n<br />Location: Stabler-Leadbeater Apothecary Museum\, 105-107 S
 . Fairfax St.\n<br />Fees: $15/$12 for Historic Alexandria Members and Vo
 lunteers\n<br />Audience: Anyone may attend\n<br />Tags: Apothecary Museu
 m\, Museums\, Old &amp\; Historic Alexandria\, Old Town<br>\n<a href="htt
 ps://shop.alexandriava.gov/Events.aspx">Purchase tickets online</a><br>\n
X-COA-DTSTAMP:20260319T013018Z
BEGIN:VALARM
ACTION:DISPLAY
DESCRIPTION:Specialty Tour: A Magical Apothecary: Please visit website to 
 confirm time\, location\, etc.
DURATION:PT30M
REPEAT:2
TRIGGER:-PT30M
END:VALARM
END:VEVENT
END:VCALENDAR
