BEGIN:VCALENDAR
CALSCALE:GREGORIAN
METHOD:PUBLISH
PRODID:-//github.com/ical-org/ical.net//NONSGML ical.net 4.0//EN
VERSION:2.0
X-WR-TIMEZONE:US/Eastern
BEGIN:VEVENT
CATEGORIES:Arts
CATEGORIES:Boards & Commissions
CATEGORIES:Commission Meeting
DESCRIPTION:To verify info please see https://apps.alexandriava.gov/Calend
 arTest/Detail.aspx?si=61984\n\nMonthly meeting of the Executive Committee
  for the Commission for the Arts\n\nLocation: Patrick Henry Recreation Ce
 nter\, 4653 Taney Ave.\nContact Person: Diane Ruggiero\nContact Phone: 70
 3.746.5590\nContact Email: diane.ruggiero@alexandriava.gov\nAudience: Any
 one may attend\nTags: Arts\, Boards & Commissions\, Commission Meeting
DTEND:20260408T000001Z
DTSTAMP:20260105T191235Z
DTSTART:20260407T230000Z
GEO:38.816255;-77.111492
LOCATION:Patrick Henry Recreation Center\, 4653 Taney Ave.
SEQUENCE:4
STATUS:CONFIRMED
SUMMARY:Arts Commission Executive Committee Meeting
TRANSP:TRANSPARENT
UID:abb9da7a-54a4-45b1-9a13-15cce51e3a0b
X-ALT-DESC;FMTTYPE=text/html:To verify info please see <a href="https://ap
 ps.alexandriava.gov/CalendarTest/Detail.aspx?si=61984">https://apps.alexa
 ndriava.gov/CalendarTest/Detail.aspx?si=61984</a><br />\n<br />Monthly me
 eting of the Executive Committee for the Commission for the Arts\n<br />\
 n<br />Location: Patrick Henry Recreation Center\, 4653 Taney Ave.\n<br /
 >Contact Person: Diane Ruggiero\n<br />Contact Phone: 703.746.5590\n<br /
 >Contact Email: diane.ruggiero@alexandriava.gov\n<br />Audience: Anyone m
 ay attend\n<br />Tags: Arts\, Boards &amp\; Commissions\, Commission Meet
 ing
X-COA-DTSTAMP:20260105T191235Z
END:VEVENT
BEGIN:VEVENT
CATEGORIES:Arts
CATEGORIES:Health
CATEGORIES:Healthier Alexandria
CATEGORIES:Landmark/Van Dorn
CATEGORIES:Recreation Centers
DESCRIPTION:To verify info please see https://apps.alexandriava.gov/Calend
 arTest/Detail.aspx?si=62539\n\nJoin the coalition on April 18 from 11 a.m
 . to 1 p.m. at Patrick Henry Recreation Center for crafts and conversatio
 ns about building a healthier Landmark/Van Dorn. The City's Mobile Art La
 b will offer activities for all age. RSVP to get creative and share what 
 you think the coalition should focus on over the next five years!\n\nLoca
 tion: Patrick Henry Recreation Center\, 4653 Taney Ave.\nContact Person: 
 Sean Curry\nContact Phone: 703.746.4988\nContact Email: sean.curry@vdh.vi
 rginia.gov\nAudience: The same as NULL value.\nTags: Arts\, Health\, Heal
 thier Alexandria\, Landmark/Van Dorn\, Recreation Centers\n\nWeb resource
 s:\n\nRSVP\nhttps://forms.office.com/pages/responsepage.aspx?id=qeUKYsFOo
 E-GQV2fOGxzCRi5aCRGll1JlqTWFm04XLFUNVVOTTJHWDM5Uks5ODFPQlBYS1dUMTNDSi4u&r
 oute=shorturl\n
DTEND:20260418T170000Z
DTSTAMP:20260407T185855Z
DTSTART:20260418T150000Z
GEO:38.816255;-77.111492
LOCATION:Patrick Henry Recreation Center\, 4653 Taney Ave.
SEQUENCE:4
STATUS:CONFIRMED
SUMMARY:Landmark/Van Dorn Coalition April Meeting
TRANSP:OPAQUE
UID:86728c45-e5b7-4078-bb33-72238d18c24c
URL:https://forms.office.com/pages/responsepage.aspx?id=qeUKYsFOoE-GQV2fOG
 xzCRi5aCRGll1JlqTWFm04XLFUNVVOTTJHWDM5Uks5ODFPQlBYS1dUMTNDSi4u&route=shor
 turl
X-ALT-DESC;FMTTYPE=text/html:To verify info please see <a href="https://ap
 ps.alexandriava.gov/CalendarTest/Detail.aspx?si=62539">https://apps.alexa
 ndriava.gov/CalendarTest/Detail.aspx?si=62539</a><br />\n<br />Join the c
 oalition on April 18 from 11 a.m. to 1 p.m. at Patrick Henry Recreation C
 enter for crafts and conversations about building a healthier Landmark/Va
 n Dorn. The City?s Mobile Art Lab will offer activities for all age. RSVP
  to get creative and share what you think the coalition should focus on o
 ver the next five years!\n<br />\n<br />Location: Patrick Henry Recreatio
 n Center\, 4653 Taney Ave.\n<br />Contact Person: Sean Curry\n<br />Conta
 ct Phone: 703.746.4988\n<br />Contact Email: sean.curry@vdh.virginia.gov\
 n<br />Audience: The same as NULL value.\n<br />Tags: Arts\, Health\, Hea
 lthier Alexandria\, Landmark/Van Dorn\, Recreation Centers<br>\n<a href="
 https://forms.office.com/pages/responsepage.aspx?id=qeUKYsFOoE-GQV2fOGxzC
 Ri5aCRGll1JlqTWFm04XLFUNVVOTTJHWDM5Uks5ODFPQlBYS1dUMTNDSi4u&amp\;route=sh
 orturl">RSVP</a><br>\n
X-COA-DTSTAMP:20260407T185855Z
END:VEVENT
BEGIN:VEVENT
CATEGORIES:Community Engagement
CATEGORIES:Community Meeting
CATEGORIES:Community Outreach
CATEGORIES:Planning Meeting
CATEGORIES:Zoning
DESCRIPTION:Imported on Apr 19\, 2026\, 9 days before the event.\nTo verif
 y info please see https://apps.alexandriava.gov/CalendarTest/Detail.aspx?
 si=62580\n\nCommunity meeting for substandard lot zoning text amendment\n
 \nLocation: Patrick Henry Recreation Center\, 4653 Taney Ave.\nContact Pe
 rson: Sam Shelby\nContact Phone: 703.746.4666\nContact Email: sam.shelby@
 alexandriava.gov\nAudience: The same as NULL value.\nTags: Community Enga
 gement\, Community Meeting\, Community Outreach\, Planning Meeting\, Zoni
 ng\n\nWeb resources:\n\nProject website\nhttps://www.alexandriava.gov/zon
 ing/substandard-lots-and-outlots\n
DTEND:20260429T000001Z
DTSTAMP:20260416T202801Z
DTSTART:20260428T230000Z
GEO:38.816255;-77.111492
LOCATION:Patrick Henry Recreation Center\, 4653 Taney Ave.
SEQUENCE:5
STATUS:CONFIRMED
SUMMARY:Community Meeting for Substandard Lot ZTA
TRANSP:OPAQUE
UID:66b9e59c-7a92-4a3b-a9aa-cf6bb56079cd
URL:https://www.alexandriava.gov/zoning/substandard-lots-and-outlots
X-ALT-DESC;FMTTYPE=text/html:Imported on Apr 19\, 2026\, 9 days before the
  event.<br />To verify info please see <a href="https://apps.alexandriava
 .gov/CalendarTest/Detail.aspx?si=62580">https://apps.alexandriava.gov/Cal
 endarTest/Detail.aspx?si=62580</a><br />\n<br />Community meeting for sub
 standard lot zoning text amendment\n<br />\n<br />Location: Patrick Henry
  Recreation Center\, 4653 Taney Ave.\n<br />Contact Person: Sam Shelby\n<
 br />Contact Phone: 703.746.4666\n<br />Contact Email: sam.shelby@alexand
 riava.gov\n<br />Audience: The same as NULL value.\n<br />Tags: Community
  Engagement\, Community Meeting\, Community Outreach\, Planning Meeting\,
  Zoning<br>\n<a href="https://www.alexandriava.gov/zoning/substandard-lot
 s-and-outlots">Project website</a><br>\n
X-COA-DTSTAMP:20260416T202801Z
BEGIN:VALARM
ACTION:DISPLAY
DESCRIPTION:Community Meeting for Substandard Lot ZTA: Please visit websit
 e to confirm time\, location\, etc.
DURATION:PT30M
REPEAT:2
TRIGGER:-PT30M
END:VALARM
END:VEVENT
BEGIN:VEVENT
CATEGORIES:City Council
CATEGORIES:Community Engagement
CATEGORIES:Community Meeting
DESCRIPTION:Imported on Apr 19\, 2026\, 11 days before the event.\nTo veri
 fy info please see https://apps.alexandriava.gov/CalendarTest/Detail.aspx
 ?si=62397\n\nCity Council Naming Committee Public Hearing \n\nLocation: P
 atrick Henry Recreation Center\, 4653 Taney Ave.\nContact Person: Dana We
 deles\nContact Email: dana.wedeles@alexandriava.gov\nAudience: The same a
 s NULL value.\nTags: City Council\, Community Engagement\, Community Meet
 ing\n\nWeb resources:\n\nhttps://www.alexandriava.gov/subcommittees/city-
 council-naming-committee\n
DTEND:20260501T003000Z
DTSTAMP:20260311T210223Z
DTSTART:20260430T230000Z
GEO:38.816255;-77.111492
LOCATION:Patrick Henry Recreation Center\, 4653 Taney Ave.
SEQUENCE:4
STATUS:CONFIRMED
SUMMARY:City Council Naming Committee Public Hearing
TRANSP:OPAQUE
UID:e16ca32c-e937-4487-ad31-08078c5adce4
URL:https://www.alexandriava.gov/subcommittees/city-council-naming-committ
 ee
X-ALT-DESC;FMTTYPE=text/html:Imported on Apr 19\, 2026\, 11 days before th
 e event.<br />To verify info please see <a href="https://apps.alexandriav
 a.gov/CalendarTest/Detail.aspx?si=62397">https://apps.alexandriava.gov/Ca
 lendarTest/Detail.aspx?si=62397</a><br />\n<br />City Council Naming Comm
 ittee Public Hearing \n<br />\n<br />Location: Patrick Henry Recreation C
 enter\, 4653 Taney Ave.\n<br />Contact Person: Dana Wedeles\n<br />Contac
 t Email: dana.wedeles@alexandriava.gov\n<br />Audience: The same as NULL 
 value.\n<br />Tags: City Council\, Community Engagement\, Community Meeti
 ng<br>\n<a href="https://www.alexandriava.gov/subcommittees/city-council-
 naming-committee">https://www.alexandriava.gov/subcommittees/city-council
 -naming-committee</a><br>\n
X-COA-DTSTAMP:20260311T210223Z
BEGIN:VALARM
ACTION:DISPLAY
DESCRIPTION:City Council Naming Committee Public Hearing: Please visit web
 site to confirm time\, location\, etc.
DURATION:PT30M
REPEAT:2
TRIGGER:-PT30M
END:VALARM
END:VEVENT
BEGIN:VEVENT
CATEGORIES:Arts
CATEGORIES:Community Outreach
CATEGORIES:DCHS
CATEGORIES:Exercise
CATEGORIES:Family
CATEGORIES:Mobile Art Lab
CATEGORIES:Nature
CATEGORIES:Office of the Arts
CATEGORIES:Parks
CATEGORIES:Performing Arts
CATEGORIES:Recreation
CATEGORIES:Recreation Centers
CATEGORIES:Schools
CATEGORIES:Sports
CATEGORIES:Summer Fun for Kids
CATEGORIES:T&ES Events
CATEGORIES:Teens
CATEGORIES:Toddlers
CATEGORIES:Youth
DESCRIPTION:Imported on Apr 19\, 2026\, 13 days before the event.\nTo veri
 fy info please see https://apps.alexandriava.gov/CalendarTest/Detail.aspx
 ?si=62389\n\nMark your calendars! RecFest 2025 is happening on Saturday\,
  May 2\, from 10 a.m.-2 p.m. at Patrick Henry Recreation Center - and you
  won't want to miss it!\n\nGet ready for a day packed with excitement as 
 we showcase everything recreation has to offer! From games and sports to 
 arts and nature activities\, there's something for everyone. Enjoy delici
 ous food\, live music from a DJ\, interactive experiences\, and special f
 eatures from other City of Alexandria departments.\n\nWhether you're look
 ing to try something new\, connect with the community\, or just have fun\
 , RecFest 2025 is the place to be. Bring your family\, friends\, and neig
 hbors\, and join us for a day of discovery\, play\, and adventure!\n\nVis
 it the link below for more details on activities\, entertainment\, and sp
 ecial guests.\n\nWe'll see you at RecFest! \n\nLocation: Patrick Henry Re
 creation Center\, 4653 Taney Ave.\nContact Person: Gladstone Harriott\nCo
 ntact Phone: 703.746.5557\nContact Email: gladstone.harriott@alexandriava
 .gov\nAudience: Anyone may attend\nTags: Arts\, Community Outreach\, DCHS
 \, Exercise\, Family\, Mobile Art Lab\, Nature\, Office of the Arts\, Par
 ks\, Performing Arts\, Recreation\, Recreation Centers\, Schools\, Sports
 \, Summer Fun for Kids\, T&ES Events\, Teens\, Toddlers\, Youth\n\nWeb re
 sources:\n\nRPCA's RecFest\nhttps://www.alexandriava.gov/rpca/recfest\nLe
 arn more about RPCA's FREE event at Patrick Henry Recreation Center!\n\nR
 PCA Website\nhttps://www.alexandriava.gov/Recreation\nFind out more about
  the Department of Recreation\, Parks & Cultural Activities (RPCA).\n\nRP
 CA Social Media\nhttps://www.alexandriava.gov/Recreation#ConnectwithUs\nF
 ollow us on Instagram\, Facebook\, & Twitter!\n
DTEND:20260502T180000Z
DTSTAMP:20260309T185348Z
DTSTART:20260502T140000Z
GEO:38.816255;-77.111492
LOCATION:Patrick Henry Recreation Center\, 4653 Taney Ave.
SEQUENCE:4
STATUS:CONFIRMED
SUMMARY:Rec Fest 2026
TRANSP:TRANSPARENT
UID:c3c1e032-71bd-4011-bb92-b7639a83e53d
URL:https://www.alexandriava.gov/rpca/recfest
X-ALT-DESC;FMTTYPE=text/html:Imported on Apr 19\, 2026\, 13 days before th
 e event.<br />To verify info please see <a href="https://apps.alexandriav
 a.gov/CalendarTest/Detail.aspx?si=62389">https://apps.alexandriava.gov/Ca
 lendarTest/Detail.aspx?si=62389</a><br />\n<br />Mark your calendars! Rec
 Fest 2025 is happening on Saturday\, May 2\, from 10 a.m.-2 p.m. at Patri
 ck Henry Recreation Center ? and you won?t want to miss it!\n<br />\n<br 
 />Get ready for a day packed with excitement as we showcase everything re
 creation has to offer! From games and sports to arts and nature activitie
 s\, there?s something for everyone. Enjoy delicious food\, live music fro
 m a DJ\, interactive experiences\, and special features from other City o
 f Alexandria departments.\n<br />\n<br />Whether you?re looking to try so
 mething new\, connect with the community\, or just have fun\, RecFest 202
 5 is the place to be. Bring your family\, friends\, and neighbors\, and j
 oin us for a day of discovery\, play\, and adventure!\n<br />\n<br />Visi
 t the link below for more details on activities\, entertainment\, and spe
 cial guests.\n<br />\n<br />We?ll see you at RecFest! \n<br />\n<br />Loc
 ation: Patrick Henry Recreation Center\, 4653 Taney Ave.\n<br />Contact P
 erson: Gladstone Harriott\n<br />Contact Phone: 703.746.5557\n<br />Conta
 ct Email: gladstone.harriott@alexandriava.gov\n<br />Audience: Anyone may
  attend\n<br />Tags: Arts\, Community Outreach\, DCHS\, Exercise\, Family
 \, Mobile Art Lab\, Nature\, Office of the Arts\, Parks\, Performing Arts
 \, Recreation\, Recreation Centers\, Schools\, Sports\, Summer Fun for Ki
 ds\, T&amp\;ES Events\, Teens\, Toddlers\, Youth<br>\n<a href="https://ww
 w.alexandriava.gov/rpca/recfest">RPCA&#39\;s RecFest</a><br>\nLearn more 
 about RPCA&#39\;s FREE event at Patrick Henry Recreation Center!<br>\n<a 
 href="https://www.alexandriava.gov/Recreation">RPCA Website</a><br>\nFind
  out more about the Department of Recreation\, Parks &amp\; Cultural Acti
 vities (RPCA).<br>\n<a href="https://www.alexandriava.gov/Recreation#Conn
 ectwithUs">RPCA Social Media</a><br>\nFollow us on Instagram\, Facebook\,
  &amp\; Twitter!<br>\n
X-COA-DTSTAMP:20260309T185348Z
END:VEVENT
BEGIN:VEVENT
CATEGORIES:Arts
CATEGORIES:Boards & Commissions
CATEGORIES:Commission Meeting
DESCRIPTION:Imported on Apr 19\, 2026\, 16 days before the event.\nTo veri
 fy info please see https://apps.alexandriava.gov/CalendarTest/Detail.aspx
 ?si=61985\n\nMonthly meeting of the Executive Committee for the Commissio
 n for the Arts\n\nLocation: Patrick Henry Recreation Center\, 4653 Taney 
 Ave.\nContact Person: Diane Ruggiero\nContact Phone: 703.746.5590\nContac
 t Email: diane.ruggiero@alexandriava.gov\nAudience: Anyone may attend\nTa
 gs: Arts\, Boards & Commissions\, Commission Meeting
DTEND:20260506T000001Z
DTSTAMP:20260105T191235Z
DTSTART:20260505T230000Z
GEO:38.816255;-77.111492
LOCATION:Patrick Henry Recreation Center\, 4653 Taney Ave.
SEQUENCE:4
STATUS:CONFIRMED
SUMMARY:Arts Commission Executive Committee Meeting
TRANSP:TRANSPARENT
UID:b78c658b-073f-4383-a4ad-e7fe4c5501a7
X-ALT-DESC;FMTTYPE=text/html:Imported on Apr 19\, 2026\, 16 days before th
 e event.<br />To verify info please see <a href="https://apps.alexandriav
 a.gov/CalendarTest/Detail.aspx?si=61985">https://apps.alexandriava.gov/Ca
 lendarTest/Detail.aspx?si=61985</a><br />\n<br />Monthly meeting of the E
 xecutive Committee for the Commission for the Arts\n<br />\n<br />Locatio
 n: Patrick Henry Recreation Center\, 4653 Taney Ave.\n<br />Contact Perso
 n: Diane Ruggiero\n<br />Contact Phone: 703.746.5590\n<br />Contact Email
 : diane.ruggiero@alexandriava.gov\n<br />Audience: Anyone may attend\n<br
  />Tags: Arts\, Boards &amp\; Commissions\, Commission Meeting
X-COA-DTSTAMP:20260105T191235Z
END:VEVENT
BEGIN:VEVENT
CATEGORIES:Awareness Month
CATEGORIES:Community Event
CATEGORIES:Community Outreach
CATEGORIES:Food
CATEGORIES:Parents
CATEGORIES:Recreation
CATEGORIES:Recreation Centers
CATEGORIES:Teens
CATEGORIES:Toddlers
CATEGORIES:Youth
DESCRIPTION:Imported on Apr 19\, 2026\, 41 days before the event.\nTo veri
 fy info please see https://apps.alexandriava.gov/CalendarTest/Detail.aspx
 ?si=62424\n\nCelebrate Asian American and Pacific Islander cultures throu
 gh food\, music\, performances\, art\, and community storytelling. This f
 amily-friendly event features local vendors\, live entertainment\, cultur
 al demonstrations\, youth activities\, and resources highlighting the div
 ersity\, history\, and contributions of AAPI communities. All are welcome
  to connect\, learn\, and celebrate together with neighbors present.\n\nL
 ocation: Patrick Henry Recreation Center\, 4653 Taney Ave.\nContact Perso
 n: Gladstone Harriott\nContact Phone: 703.746.5557\nContact Email: gladst
 one.harriott@alexandriava.gov\nAudience: Anyone may attend\nTags: Awarene
 ss Month\, Community Event\, Community Outreach\, Food\, Parents\, Recrea
 tion\, Recreation Centers\, Teens\, Toddlers\, Youth\n\nWeb resources:\n\
 nRSVP here\nhttps://vaalexandriaweb.myvscloud.com/webtrac/web/iteminfo.ht
 ml?Module=AR&FMID=80418249\nLearn more about RPCA's FREE event at Patrick
  Henry Recreation Center!\n\nRPCA Website\nhttps://www.alexandriava.gov/R
 ecreation\nFind out more about the Department of Recreation\, Parks & Cul
 tural Activities (RPCA).\n\nRPCA Social Media\nhttps://www.alexandriava.g
 ov/Recreation#ConnectwithUs\nFollow us on Instagram\, Facebook\, & Twitte
 r!\n
DTEND:20260530T230000Z
DTSTAMP:20260312T183212Z
DTSTART:20260530T190000Z
GEO:38.816255;-77.111492
LOCATION:Patrick Henry Recreation Center\, 4653 Taney Ave.
SEQUENCE:4
STATUS:CONFIRMED
SUMMARY:Asian American Pacific Islander Month Celebration
TRANSP:TRANSPARENT
UID:4b40de12-e5e8-4d94-864a-7e7a8250de9c
URL:https://vaalexandriaweb.myvscloud.com/webtrac/web/iteminfo.html?Module
 =AR&FMID=80418249
X-ALT-DESC;FMTTYPE=text/html:Imported on Apr 19\, 2026\, 41 days before th
 e event.<br />To verify info please see <a href="https://apps.alexandriav
 a.gov/CalendarTest/Detail.aspx?si=62424">https://apps.alexandriava.gov/Ca
 lendarTest/Detail.aspx?si=62424</a><br />\n<br />Celebrate Asian American
  and Pacific Islander cultures through food\, music\, performances\, art\
 , and community storytelling. This family-friendly event features local v
 endors\, live entertainment\, cultural demonstrations\, youth activities\
 , and resources highlighting the diversity\, history\, and contributions 
 of AAPI communities. All are welcome to connect\, learn\, and celebrate t
 ogether with neighbors present.\n<br />\n<br />Location: Patrick Henry Re
 creation Center\, 4653 Taney Ave.\n<br />Contact Person: Gladstone Harrio
 tt\n<br />Contact Phone: 703.746.5557\n<br />Contact Email: gladstone.har
 riott@alexandriava.gov\n<br />Audience: Anyone may attend\n<br />Tags: Aw
 areness Month\, Community Event\, Community Outreach\, Food\, Parents\, R
 ecreation\, Recreation Centers\, Teens\, Toddlers\, Youth<br>\n<a href="h
 ttps://vaalexandriaweb.myvscloud.com/webtrac/web/iteminfo.html?Module=AR&
 amp\;FMID=80418249">RSVP here</a><br>\nLearn more about RPCA&#39\;s FREE 
 event at Patrick Henry Recreation Center!<br>\n<a href="https://www.alexa
 ndriava.gov/Recreation">RPCA Website</a><br>\nFind out more about the Dep
 artment of Recreation\, Parks &amp\; Cultural Activities (RPCA).<br>\n<a 
 href="https://www.alexandriava.gov/Recreation#ConnectwithUs">RPCA Social 
 Media</a><br>\nFollow us on Instagram\, Facebook\, &amp\; Twitter!<br>\n
X-COA-DTSTAMP:20260312T183212Z
END:VEVENT
BEGIN:VEVENT
CATEGORIES:Arts
CATEGORIES:Boards & Commissions
CATEGORIES:Commission Meeting
DESCRIPTION:Imported on Apr 19\, 2026\, 44 days before the event.\nTo veri
 fy info please see https://apps.alexandriava.gov/CalendarTest/Detail.aspx
 ?si=61986\n\nMonthly meeting of the Executive Committee for the Commissio
 n for the Arts\n\nLocation: Patrick Henry Recreation Center\, 4653 Taney 
 Ave.\nContact Person: Diane Ruggiero\nContact Phone: 703.746.5590\nContac
 t Email: diane.ruggiero@alexandriava.gov\nAudience: Anyone may attend\nTa
 gs: Arts\, Boards & Commissions\, Commission Meeting
DTEND:20260603T000001Z
DTSTAMP:20260105T191235Z
DTSTART:20260602T230000Z
GEO:38.816255;-77.111492
LOCATION:Patrick Henry Recreation Center\, 4653 Taney Ave.
SEQUENCE:4
STATUS:CONFIRMED
SUMMARY:Arts Commission Executive Committee Meeting
TRANSP:TRANSPARENT
UID:89034f17-74d3-4949-9800-e1e2c5deb9c0
X-ALT-DESC;FMTTYPE=text/html:Imported on Apr 19\, 2026\, 44 days before th
 e event.<br />To verify info please see <a href="https://apps.alexandriav
 a.gov/CalendarTest/Detail.aspx?si=61986">https://apps.alexandriava.gov/Ca
 lendarTest/Detail.aspx?si=61986</a><br />\n<br />Monthly meeting of the E
 xecutive Committee for the Commission for the Arts\n<br />\n<br />Locatio
 n: Patrick Henry Recreation Center\, 4653 Taney Ave.\n<br />Contact Perso
 n: Diane Ruggiero\n<br />Contact Phone: 703.746.5590\n<br />Contact Email
 : diane.ruggiero@alexandriava.gov\n<br />Audience: Anyone may attend\n<br
  />Tags: Arts\, Boards &amp\; Commissions\, Commission Meeting
X-COA-DTSTAMP:20260105T191235Z
END:VEVENT
END:VCALENDAR
