BEGIN:VCALENDAR
CALSCALE:GREGORIAN
METHOD:PUBLISH
PRODID:-//github.com/ical-org/ical.net//NONSGML ical.net 4.0//EN
VERSION:2.0
X-WR-TIMEZONE:US/Eastern
BEGIN:VEVENT
CATEGORIES:DCHS
DESCRIPTION:Imported on Apr 25\, 2026\, 62 days before the event.\nTo veri
 fy info please see https://apps.alexandriava.gov/CalendarTest/Detail.aspx
 ?si=62603\n\nThe Alexandria LGBTQIA+ Task Force invites you to the 9th An
 nual Alexandria Pride Fair! Enjoy live music\, DJ\, LGBTQ+ story time\, 1
 00 exhibitors\, food trucks\, health services\, mobile art lab\, dancing 
 and more! All ages welcome! \n\nWant to register as an exhibitor? Email e
 rika.kleiner@alexandriava.gov. \n \nFor reasonable disability accommodati
 on\, contact danelle.johnson@alexandriava.gov or 703.746.5791\, Virginia 
 Relay 711.\n\n\nLocation: John Carlyle Square Park\nContact Person: Erika
  Callaway Kleiner\nContact Email: erika.kleiner@alexandriava.gov\nAudienc
 e: The same as NULL value.\nTags: DCHS\n\nWeb resources:\n\nhttps://www.a
 lexandriava.gov/LGBTQ\n
DTEND:20260627T220000Z
DTSTAMP:20260424T201759Z
DTSTART:20260627T180000Z
LOCATION:John Carlyle Square Park
SEQUENCE:8
STATUS:CONFIRMED
SUMMARY:9th Annual Alexandria Pride
TRANSP:OPAQUE
UID:adc53a7c-6c97-4c58-a098-619167545b2d
URL:https://www.alexandriava.gov/LGBTQ
X-ALT-DESC;FMTTYPE=text/html:Imported on Apr 25\, 2026\, 62 days before th
 e event.<br />To verify info please see <a href="https://apps.alexandriav
 a.gov/CalendarTest/Detail.aspx?si=62603">https://apps.alexandriava.gov/Ca
 lendarTest/Detail.aspx?si=62603</a><br />\n<br />The Alexandria LGBTQIA+ 
 Task Force invites you to the 9th Annual Alexandria Pride Fair! Enjoy liv
 e music\, DJ\, LGBTQ+ story time\, 100 exhibitors\, food trucks\, health 
 services\, mobile art lab\, dancing and more! All ages welcome! \n<br />\
 n<br />Want to register as an exhibitor? Email erika.kleiner@alexandriava
 .gov. \n<br /> \n<br />For reasonable disability accommodation\, contact 
 danelle.johnson@alexandriava.gov or 703.746.5791\, Virginia Relay 711.\n<
 br />\n<br />\n<br />Location: John Carlyle Square Park\n<br />Contact Pe
 rson: Erika Callaway Kleiner\n<br />Contact Email: erika.kleiner@alexandr
 iava.gov\n<br />Audience: The same as NULL value.\n<br />Tags: DCHS<br>\n
 <a href="https://www.alexandriava.gov/LGBTQ">https://www.alexandriava.gov
 /LGBTQ</a><br>\n
X-COA-DTSTAMP:20260424T201759Z
BEGIN:VALARM
ACTION:DISPLAY
DESCRIPTION:9th Annual Alexandria Pride: Please visit website to confirm t
 ime\, location\, etc.
DURATION:PT30M
REPEAT:2
TRIGGER:-PT30M
END:VALARM
END:VEVENT
END:VCALENDAR
