BEGIN:VCALENDAR
CALSCALE:GREGORIAN
METHOD:PUBLISH
PRODID:-//github.com/ical-org/ical.net//NONSGML ical.net 4.0//EN
VERSION:2.0
X-WR-TIMEZONE:US/Eastern
BEGIN:VEVENT
CATEGORIES:Arts
DESCRIPTION:Imported on Apr 25\, 2026\, 8 days before the event.\nTo verif
 y info please see https://apps.alexandriava.gov/CalendarTest/Detail.aspx?
 si=62596\n\nView a cross-section of Croatia's history\, wildlife\, scienc
 e\, and heritage through over 35 years of independent postal history. Thi
 s unique showcase is a joint realization by the Croatian Post and the Min
 istry of Foreign and European Affairs.\n\nLocation: TFAC Grand Hall\nAudi
 ence: The same as NULL value.\nTags: Arts
DTEND:20260504T220000Z
DTSTAMP:20260424T153106Z
DTSTART:20260504T140000Z
LOCATION:TFAC Grand Hall
SEQUENCE:9
STATUS:CONFIRMED
SUMMARY:Croatian Postage Stamp Exhibit
TRANSP:OPAQUE
UID:71ae5505-6f09-41b2-967a-0e30fa5a78e2
X-ALT-DESC;FMTTYPE=text/html:Imported on Apr 25\, 2026\, 8 days before the
  event.<br />To verify info please see <a href="https://apps.alexandriava
 .gov/CalendarTest/Detail.aspx?si=62596">https://apps.alexandriava.gov/Cal
 endarTest/Detail.aspx?si=62596</a><br />\n<br />View a cross-section of C
 roatia?s history\, wildlife\, science\, and heritage through over 35 year
 s of independent postal history. This unique showcase is a joint realizat
 ion by the Croatian Post and the Ministry of Foreign and European Affairs
 .\n<br />\n<br />Location: TFAC Grand Hall\n<br />Audience: The same as N
 ULL value.\n<br />Tags: Arts
X-COA-DTSTAMP:20260424T153106Z
BEGIN:VALARM
ACTION:DISPLAY
DESCRIPTION:Croatian Postage Stamp Exhibit: Please visit website to confir
 m time\, location\, etc.
DURATION:PT30M
REPEAT:2
TRIGGER:-PT30M
END:VALARM
END:VEVENT
BEGIN:VEVENT
CATEGORIES:Arts
DESCRIPTION:Imported on Apr 25\, 2026\, 9 days before the event.\nTo verif
 y info please see https://apps.alexandriava.gov/CalendarTest/Detail.aspx?
 si=62597\n\nView a cross-section of Croatia's history\, wildlife\, scienc
 e\, and heritage through over 35 years of independent postal history. Thi
 s unique showcase is a joint realization by the Croatian Post and the Min
 istry of Foreign and European Affairs.\n\nLocation: TFAC Grand Hall\nAudi
 ence: The same as NULL value.\nTags: Arts
DTEND:20260505T220000Z
DTSTAMP:20260424T153106Z
DTSTART:20260505T140000Z
LOCATION:TFAC Grand Hall
SEQUENCE:6
STATUS:CONFIRMED
SUMMARY:Croatian Postage Stamp Exhibit
TRANSP:OPAQUE
UID:a5928c23-16b2-4915-8011-a70fa8bd47f2
X-ALT-DESC;FMTTYPE=text/html:Imported on Apr 25\, 2026\, 9 days before the
  event.<br />To verify info please see <a href="https://apps.alexandriava
 .gov/CalendarTest/Detail.aspx?si=62597">https://apps.alexandriava.gov/Cal
 endarTest/Detail.aspx?si=62597</a><br />\n<br />View a cross-section of C
 roatia?s history\, wildlife\, science\, and heritage through over 35 year
 s of independent postal history. This unique showcase is a joint realizat
 ion by the Croatian Post and the Ministry of Foreign and European Affairs
 .\n<br />\n<br />Location: TFAC Grand Hall\n<br />Audience: The same as N
 ULL value.\n<br />Tags: Arts
X-COA-DTSTAMP:20260424T153106Z
BEGIN:VALARM
ACTION:DISPLAY
DESCRIPTION:Croatian Postage Stamp Exhibit: Please visit website to confir
 m time\, location\, etc.
DURATION:PT30M
REPEAT:2
TRIGGER:-PT30M
END:VALARM
END:VEVENT
BEGIN:VEVENT
CATEGORIES:Arts
DESCRIPTION:Imported on Apr 25\, 2026\, 10 days before the event.\nTo veri
 fy info please see https://apps.alexandriava.gov/CalendarTest/Detail.aspx
 ?si=62598\n\nView a cross-section of Croatia's history\, wildlife\, scien
 ce\, and heritage through over 35 years of independent postal history. Th
 is unique showcase is a joint realization by the Croatian Post and the Mi
 nistry of Foreign and European Affairs.\n\nLocation: TFAC Grand Hall\nAud
 ience: The same as NULL value.\nTags: Arts
DTEND:20260506T220000Z
DTSTAMP:20260424T153106Z
DTSTART:20260506T140000Z
LOCATION:TFAC Grand Hall
SEQUENCE:6
STATUS:CONFIRMED
SUMMARY:Croatian Postage Stamp Exhibit
TRANSP:OPAQUE
UID:90c96e09-28eb-4cf5-bbae-2612818c5eb5
X-ALT-DESC;FMTTYPE=text/html:Imported on Apr 25\, 2026\, 10 days before th
 e event.<br />To verify info please see <a href="https://apps.alexandriav
 a.gov/CalendarTest/Detail.aspx?si=62598">https://apps.alexandriava.gov/Ca
 lendarTest/Detail.aspx?si=62598</a><br />\n<br />View a cross-section of 
 Croatia?s history\, wildlife\, science\, and heritage through over 35 yea
 rs of independent postal history. This unique showcase is a joint realiza
 tion by the Croatian Post and the Ministry of Foreign and European Affair
 s.\n<br />\n<br />Location: TFAC Grand Hall\n<br />Audience: The same as 
 NULL value.\n<br />Tags: Arts
X-COA-DTSTAMP:20260424T153106Z
BEGIN:VALARM
ACTION:DISPLAY
DESCRIPTION:Croatian Postage Stamp Exhibit: Please visit website to confir
 m time\, location\, etc.
DURATION:PT30M
REPEAT:2
TRIGGER:-PT30M
END:VALARM
END:VEVENT
BEGIN:VEVENT
CATEGORIES:Arts
DESCRIPTION:Imported on Apr 25\, 2026\, 11 days before the event.\nTo veri
 fy info please see https://apps.alexandriava.gov/CalendarTest/Detail.aspx
 ?si=62599\n\nView a cross-section of Croatia's history\, wildlife\, scien
 ce\, and heritage through over 35 years of independent postal history. Th
 is unique showcase is a joint realization by the Croatian Post and the Mi
 nistry of Foreign and European Affairs.\n\nLocation: TFAC Grand Hall\nAud
 ience: The same as NULL value.\nTags: Arts
DTEND:20260507T220000Z
DTSTAMP:20260424T153106Z
DTSTART:20260507T140000Z
LOCATION:TFAC Grand Hall
SEQUENCE:6
STATUS:CONFIRMED
SUMMARY:Croatian Postage Stamp Exhibit
TRANSP:OPAQUE
UID:b73b9c77-5e3c-42ab-87a8-6d4a57efd754
X-ALT-DESC;FMTTYPE=text/html:Imported on Apr 25\, 2026\, 11 days before th
 e event.<br />To verify info please see <a href="https://apps.alexandriav
 a.gov/CalendarTest/Detail.aspx?si=62599">https://apps.alexandriava.gov/Ca
 lendarTest/Detail.aspx?si=62599</a><br />\n<br />View a cross-section of 
 Croatia?s history\, wildlife\, science\, and heritage through over 35 yea
 rs of independent postal history. This unique showcase is a joint realiza
 tion by the Croatian Post and the Ministry of Foreign and European Affair
 s.\n<br />\n<br />Location: TFAC Grand Hall\n<br />Audience: The same as 
 NULL value.\n<br />Tags: Arts
X-COA-DTSTAMP:20260424T153106Z
BEGIN:VALARM
ACTION:DISPLAY
DESCRIPTION:Croatian Postage Stamp Exhibit: Please visit website to confir
 m time\, location\, etc.
DURATION:PT30M
REPEAT:2
TRIGGER:-PT30M
END:VALARM
END:VEVENT
BEGIN:VEVENT
CATEGORIES:Arts
DESCRIPTION:Imported on Apr 25\, 2026\, 12 days before the event.\nTo veri
 fy info please see https://apps.alexandriava.gov/CalendarTest/Detail.aspx
 ?si=62600\n\nView a cross-section of Croatia's history\, wildlife\, scien
 ce\, and heritage through over 35 years of independent postal history. Th
 is unique showcase is a joint realization by the Croatian Post and the Mi
 nistry of Foreign and European Affairs.\n\nLocation: TFAC Grand Hall\nAud
 ience: The same as NULL value.\nTags: Arts
DTEND:20260508T220000Z
DTSTAMP:20260424T153106Z
DTSTART:20260508T140000Z
LOCATION:TFAC Grand Hall
SEQUENCE:6
STATUS:CONFIRMED
SUMMARY:Croatian Postage Stamp Exhibit
TRANSP:OPAQUE
UID:f5385f7c-6016-4883-b40a-fe14d82f1105
X-ALT-DESC;FMTTYPE=text/html:Imported on Apr 25\, 2026\, 12 days before th
 e event.<br />To verify info please see <a href="https://apps.alexandriav
 a.gov/CalendarTest/Detail.aspx?si=62600">https://apps.alexandriava.gov/Ca
 lendarTest/Detail.aspx?si=62600</a><br />\n<br />View a cross-section of 
 Croatia?s history\, wildlife\, science\, and heritage through over 35 yea
 rs of independent postal history. This unique showcase is a joint realiza
 tion by the Croatian Post and the Ministry of Foreign and European Affair
 s.\n<br />\n<br />Location: TFAC Grand Hall\n<br />Audience: The same as 
 NULL value.\n<br />Tags: Arts
X-COA-DTSTAMP:20260424T153106Z
BEGIN:VALARM
ACTION:DISPLAY
DESCRIPTION:Croatian Postage Stamp Exhibit: Please visit website to confir
 m time\, location\, etc.
DURATION:PT30M
REPEAT:2
TRIGGER:-PT30M
END:VALARM
END:VEVENT
BEGIN:VEVENT
CATEGORIES:Arts
DESCRIPTION:Imported on Apr 25\, 2026\, 13 days before the event.\nTo veri
 fy info please see https://apps.alexandriava.gov/CalendarTest/Detail.aspx
 ?si=62601\n\nView a cross-section of Croatia's history\, wildlife\, scien
 ce\, and heritage through over 35 years of independent postal history. Th
 is unique showcase is a joint realization by the Croatian Post and the Mi
 nistry of Foreign and European Affairs.\n\nLocation: TFAC Grand Hall\nAud
 ience: The same as NULL value.\nTags: Arts
DTEND:20260509T220000Z
DTSTAMP:20260424T153106Z
DTSTART:20260509T140000Z
LOCATION:TFAC Grand Hall
SEQUENCE:6
STATUS:CONFIRMED
SUMMARY:Croatian Postage Stamp Exhibit
TRANSP:OPAQUE
UID:af263168-0512-4aec-91b9-bf4d745d6351
X-ALT-DESC;FMTTYPE=text/html:Imported on Apr 25\, 2026\, 13 days before th
 e event.<br />To verify info please see <a href="https://apps.alexandriav
 a.gov/CalendarTest/Detail.aspx?si=62601">https://apps.alexandriava.gov/Ca
 lendarTest/Detail.aspx?si=62601</a><br />\n<br />View a cross-section of 
 Croatia?s history\, wildlife\, science\, and heritage through over 35 yea
 rs of independent postal history. This unique showcase is a joint realiza
 tion by the Croatian Post and the Ministry of Foreign and European Affair
 s.\n<br />\n<br />Location: TFAC Grand Hall\n<br />Audience: The same as 
 NULL value.\n<br />Tags: Arts
X-COA-DTSTAMP:20260424T153106Z
BEGIN:VALARM
ACTION:DISPLAY
DESCRIPTION:Croatian Postage Stamp Exhibit: Please visit website to confir
 m time\, location\, etc.
DURATION:PT30M
REPEAT:2
TRIGGER:-PT30M
END:VALARM
END:VEVENT
BEGIN:VEVENT
CATEGORIES:Arts
DESCRIPTION:Imported on Apr 25\, 2026\, 14 days before the event.\nTo veri
 fy info please see https://apps.alexandriava.gov/CalendarTest/Detail.aspx
 ?si=62602\n\nView a cross-section of Croatia's history\, wildlife\, scien
 ce\, and heritage through over 35 years of independent postal history. Th
 is unique showcase is a joint realization by the Croatian Post and the Mi
 nistry of Foreign and European Affairs.\n\nLocation: TFAC Grand Hall\nAud
 ience: The same as NULL value.\nTags: Arts
DTEND:20260510T220000Z
DTSTAMP:20260424T153106Z
DTSTART:20260510T140000Z
LOCATION:TFAC Grand Hall
SEQUENCE:6
STATUS:CONFIRMED
SUMMARY:Croatian Postage Stamp Exhibit
TRANSP:OPAQUE
UID:2806b50a-5c2e-4a3e-8da5-72c0e08dd328
X-ALT-DESC;FMTTYPE=text/html:Imported on Apr 25\, 2026\, 14 days before th
 e event.<br />To verify info please see <a href="https://apps.alexandriav
 a.gov/CalendarTest/Detail.aspx?si=62602">https://apps.alexandriava.gov/Ca
 lendarTest/Detail.aspx?si=62602</a><br />\n<br />View a cross-section of 
 Croatia?s history\, wildlife\, science\, and heritage through over 35 yea
 rs of independent postal history. This unique showcase is a joint realiza
 tion by the Croatian Post and the Ministry of Foreign and European Affair
 s.\n<br />\n<br />Location: TFAC Grand Hall\n<br />Audience: The same as 
 NULL value.\n<br />Tags: Arts
X-COA-DTSTAMP:20260424T153106Z
BEGIN:VALARM
ACTION:DISPLAY
DESCRIPTION:Croatian Postage Stamp Exhibit: Please visit website to confir
 m time\, location\, etc.
DURATION:PT30M
REPEAT:2
TRIGGER:-PT30M
END:VALARM
END:VEVENT
END:VCALENDAR
