BEGIN:VCALENDAR
CALSCALE:GREGORIAN
METHOD:PUBLISH
PRODID:-//github.com/ical-org/ical.net//NONSGML ical.net 4.0//EN
VERSION:2.0
X-WR-TIMEZONE:US/Eastern
BEGIN:VEVENT
CATEGORIES:Family
CATEGORIES:Nature
CATEGORIES:Recreation
CATEGORIES:Recreation Centers
CATEGORIES:Teens
CATEGORIES:Youth
DESCRIPTION:Imported on Apr 21\, 2026\, 46 days before the event.\nTo veri
 fy info please see https://apps.alexandriava.gov/CalendarTest/Detail.aspx
 ?si=62425\n\nFor ages 11-18. HCatch and release with your friends while l
 earning about wildlife conservation! No experience\, equipment\, or fishi
 ng license required. Rods\, reels\, bait\, and instruction are provided. 
 Local fishing location to be determined.\n\nLocation: Jerome "Buddie" For
 d Nature Center\, 5750 Sanger Avenue\nContact Person: Paige Edwards\nCont
 act Phone: 703.746.5559\nContact Email: paige.edwards@alexandriava.gov\nA
 udience: Anyone may attend\nTags: Family\, Nature\, Recreation\, Recreati
 on Centers\, Teens\, Youth\n\nWeb resources:\n\nRegister Here\nhttps://va
 alexandriaweb.myvscloud.com/webtrac/web/iteminfo.html?Module=AR&FMID=6346
 7289\nRegister here to secure your spot!\n\nJerome "Buddie" Ford Nature C
 enter\nhttps://www.alexandriava.gov/NatureCenter\nLearn more about the Na
 ture Center!\n\nRPCA Website\nhttps://www.alexandriava.gov/Recreation\nFi
 nd out more about the Department of Recreation\, Parks & Cultural Activit
 ies (RPCA).\n\nRPCA Social Media\nhttps://www.alexandriava.gov/RPCA/Socia
 l\nFollow us on Instagram\, Facebook\, & Twitter!\n
DTEND:20260606T210000Z
DTSTAMP:20260312T183423Z
DTSTART:20260606T190000Z
GEO:38.827623;-77.131512
LOCATION:Jerome "Buddie" Ford Nature Center\, 5750 Sanger Avenue
SEQUENCE:4
STATUS:CONFIRMED
SUMMARY:Teen Fishing Trip
TRANSP:TRANSPARENT
UID:3d8fab1b-4fe5-4dd1-87b5-f75a9896db0a
URL:https://vaalexandriaweb.myvscloud.com/webtrac/web/iteminfo.html?Module
 =AR&FMID=63467289
X-ALT-DESC;FMTTYPE=text/html:Imported on Apr 21\, 2026\, 46 days before th
 e event.<br />To verify info please see <a href="https://apps.alexandriav
 a.gov/CalendarTest/Detail.aspx?si=62425">https://apps.alexandriava.gov/Ca
 lendarTest/Detail.aspx?si=62425</a><br />\n<br />For ages 11-18. HCatch a
 nd release with your friends while learning about wildlife conservation! 
 No experience\, equipment\, or fishing license required. Rods\, reels\, b
 ait\, and instruction are provided. Local fishing location to be determin
 ed.\n<br />\n<br />Location: Jerome &quot\;Buddie&quot\; Ford Nature Cent
 er\, 5750 Sanger Avenue\n<br />Contact Person: Paige Edwards\n<br />Conta
 ct Phone: 703.746.5559\n<br />Contact Email: paige.edwards@alexandriava.g
 ov\n<br />Audience: Anyone may attend\n<br />Tags: Family\, Nature\, Recr
 eation\, Recreation Centers\, Teens\, Youth<br>\n<a href="https://vaalexa
 ndriaweb.myvscloud.com/webtrac/web/iteminfo.html?Module=AR&amp\;FMID=6346
 7289">Register Here</a><br>\nRegister here to secure your spot!<br>\n<a h
 ref="https://www.alexandriava.gov/NatureCenter">Jerome &quot\;Buddie&quot
 \; Ford Nature Center</a><br>\nLearn more about the Nature Center!<br>\n<
 a href="https://www.alexandriava.gov/Recreation">RPCA Website</a><br>\nFi
 nd out more about the Department of Recreation\, Parks &amp\; Cultural Ac
 tivities (RPCA).<br>\n<a href="https://www.alexandriava.gov/RPCA/Social">
 RPCA Social Media</a><br>\nFollow us on Instagram\, Facebook\, &amp\; Twi
 tter!<br>\n
X-COA-DTSTAMP:20260312T183423Z
END:VEVENT
END:VCALENDAR
