BEGIN:VCALENDAR
CALSCALE:GREGORIAN
METHOD:PUBLISH
PRODID:-//github.com/ical-org/ical.net//NONSGML ical.net 4.0//EN
VERSION:2.0
X-WR-TIMEZONE:US/Eastern
BEGIN:VEVENT
CATEGORIES:Boards & Commissions
CATEGORIES:Community Meeting
CATEGORIES:Healthier Alexandria
DESCRIPTION:Imported on Apr 25\, 2026\, 2 days before the event.\nTo verif
 y info please see https://apps.alexandriava.gov/CalendarTest/Detail.aspx?
 si=62594\n\nThe Public Health Advisory Commission will be virtually via Z
 oom.\n\nLocation:  Virtual Only\nContact Person: Casey Colzani\nContact P
 hone: 703.746.4956\nContact Email: casey.colzani@vdh.virginia.gov\nAudien
 ce: The same as NULL value.\nTags: Boards & Commissions\, Community Meeti
 ng\, Healthier Alexandria\n\nWeb resources:\n\nhttps://www.alexandriava.g
 ov/health-department/public-health-advisory-commission\n\nZoom Register\n
 https://gcc02.safelinks.protection.outlook.com/?url=https%3A%2F%2Falexand
 riava.zoom.us%2Fj%2F95592764205&data=05%7C02%7Cchristina.thompson%40alexa
 ndriava.gov%7C826d7fd2740446f8492b08dea1641d2d%7Cfeaa9b3143754aeeadccc76a
 d32a890b%7C0%7C0%7C639125648536364226%7CUnknown%7CTWFpbGZsb3d8eyJFbXB0eU1
 hcGkiOnRydWUsIlYiOiIwLjAuMDAwMCIsIlAiOiJXaW4zMiIsIkFOIjoiTWFpbCIsIldUIjoy
 fQ%3D%3D%7C0%7C%7C%7C&sdata=5OoBTbpetfzGxRkriowcBWRy6WjgXNHsg0wUyjDU%2FUg
 %3D&reserved=0\n
DTEND:20260428T160000Z
DTSTAMP:20260423T191712Z
DTSTART:20260428T150000Z
LOCATION: Virtual Only
SEQUENCE:12
STATUS:CONFIRMED
SUMMARY:VIRTUAL: Public Health Advisory Commission (PHAC) Chair Pl
TRANSP:TRANSPARENT
UID:d9e9088d-6046-4141-ad56-2ba3f31010a7
URL:https://www.alexandriava.gov/health-department/public-health-advisory-
 commission
X-ALT-DESC;FMTTYPE=text/html:Imported on Apr 25\, 2026\, 2 days before the
  event.<br />To verify info please see <a href="https://apps.alexandriava
 .gov/CalendarTest/Detail.aspx?si=62594">https://apps.alexandriava.gov/Cal
 endarTest/Detail.aspx?si=62594</a><br />\n<br />The Public Health Advisor
 y Commission will be virtually via Zoom.\n<br />\n<br />Location:  Virtua
 l Only\n<br />Contact Person: Casey Colzani\n<br />Contact Phone: 703.746
 .4956\n<br />Contact Email: casey.colzani@vdh.virginia.gov\n<br />Audienc
 e: The same as NULL value.\n<br />Tags: Boards &amp\; Commissions\, Commu
 nity Meeting\, Healthier Alexandria<br>\n<a href="https://www.alexandriav
 a.gov/health-department/public-health-advisory-commission">https://www.al
 exandriava.gov/health-department/public-health-advisory-commission</a><br
 >\n<a href="https://gcc02.safelinks.protection.outlook.com/?url=https%3A%
 2F%2Falexandriava.zoom.us%2Fj%2F95592764205&amp\;data=05%7C02%7Cchristina
 .thompson%40alexandriava.gov%7C826d7fd2740446f8492b08dea1641d2d%7Cfeaa9b3
 143754aeeadccc76ad32a890b%7C0%7C0%7C639125648536364226%7CUnknown%7CTWFpbG
 Zsb3d8eyJFbXB0eU1hcGkiOnRydWUsIlYiOiIwLjAuMDAwMCIsIlAiOiJXaW4zMiIsIkFOIjo
 iTWFpbCIsIldUIjoyfQ%3D%3D%7C0%7C%7C%7C&amp\;sdata=5OoBTbpetfzGxRkriowcBWR
 y6WjgXNHsg0wUyjDU%2FUg%3D&amp\;reserved=0">Zoom Register</a><br>\n
X-COA-DTSTAMP:20260423T191712Z
END:VEVENT
END:VCALENDAR
