BEGIN:VCALENDAR
CALSCALE:GREGORIAN
METHOD:PUBLISH
PRODID:-//github.com/ical-org/ical.net//NONSGML ical.net 4.0//EN
VERSION:2.0
X-WR-TIMEZONE:US/Eastern
BEGIN:VEVENT
CATEGORIES:Boards & Commissions
CATEGORIES:Commission Meeting
CATEGORIES:DCHS
CATEGORIES:Volunteer
CATEGORIES:Women
DESCRIPTION:Imported on Apr 25\, 2026\, 17 days before the event.\nTo veri
 fy info please see https://apps.alexandriava.gov/CalendarTest/Detail.aspx
 ?si=62593\n\nThe Commission for Women Meeting will take place in person w
 ith an option to attend virtually on Tuesday\, May 12th\, 7:00 p.m. - 9:0
 0 p.m.\n\nYou can join virtually via Zoom:\nhttps://zoom.us/w/99422269826
 ?tk=mzOWLsAhR464RQzyOQ2AN2iMVfOWIMAWopGkHh2YvDk.DQkAAAAXJgdxghZhYnhVOHhmb
 lJRR2JOWDZJNGpIRndBAAAAAAAAAAAAAAAAAAAAAAAAAAAAAAAAAAAAAAAAAAA&pwd=QjhmQT
 UrVTJLMm1iTXVKelhJU1lxdz09&uuid=WN_MYNlX38TRqOAO5PDkXcBPw\n\n\nLocation: 
 Charles Houston Recreation Center\, 901 Wythe St.\nContact Person: Yvette
  Jiang\nContact Email: commissionforwomen@alexandriava.gov\nAudience: The
  same as NULL value.\nTags: Boards & Commissions\, Commission Meeting\, D
 CHS\, Volunteer\, Women\n\nWeb resources:\n\nhttps://zoom.us/w/9942226982
 6?tk=mzOWLsAhR464RQzyOQ2AN2iMVfOWIMAWopGkHh2YvDk.DQkAAAAXJgdxghZhYnhVOHhm
 blJRR2JOWDZJNGpIRndBAAAAAAAAAAAAAAAAAAAAAAAAAAAAAAAAAAAAAAAAAAA&pwd=QjhmQ
 TUrVTJLMm1iTXVKelhJU1lxdz09&uuid=WN_MYNlX38TRqOAO5PDkXcBPw\n
DTEND:20260513T010000Z
DTSTAMP:20260423T160823Z
DTSTART:20260512T230000Z
GEO:38.812326;-77.048213
LOCATION:Charles Houston Recreation Center\, 901 Wythe St.
SEQUENCE:4
STATUS:CONFIRMED
SUMMARY:Commission for Women Meeting
TRANSP:OPAQUE
UID:1e47603d-1b69-4328-add1-36256f4a6e8b
URL:https://zoom.us/w/99422269826?tk=mzOWLsAhR464RQzyOQ2AN2iMVfOWIMAWopGkH
 h2YvDk.DQkAAAAXJgdxghZhYnhVOHhmblJRR2JOWDZJNGpIRndBAAAAAAAAAAAAAAAAAAAAAA
 AAAAAAAAAAAAAAAAAAAAA&pwd=QjhmQTUrVTJLMm1iTXVKelhJU1lxdz09&uuid=WN_MYNlX3
 8TRqOAO5PDkXcBPw
X-ALT-DESC;FMTTYPE=text/html:Imported on Apr 25\, 2026\, 17 days before th
 e event.<br />To verify info please see <a href="https://apps.alexandriav
 a.gov/CalendarTest/Detail.aspx?si=62593">https://apps.alexandriava.gov/Ca
 lendarTest/Detail.aspx?si=62593</a><br />\n<br />The Commission for Women
  Meeting will take place in person with an option to attend virtually on 
 Tuesday\, May 12th\, 7:00 p.m. - 9:00 p.m.\n<br />\n<br />You can join vi
 rtually via Zoom:\n<br />https://zoom.us/w/99422269826?tk=mzOWLsAhR464RQz
 yOQ2AN2iMVfOWIMAWopGkHh2YvDk.DQkAAAAXJgdxghZhYnhVOHhmblJRR2JOWDZJNGpIRndB
 AAAAAAAAAAAAAAAAAAAAAAAAAAAAAAAAAAAAAAAAAAA&amp\;pwd=QjhmQTUrVTJLMm1iTXVK
 elhJU1lxdz09&amp\;uuid=WN_MYNlX38TRqOAO5PDkXcBPw\n<br />\n<br />\n<br />L
 ocation: Charles Houston Recreation Center\, 901 Wythe St.\n<br />Contact
  Person: Yvette Jiang\n<br />Contact Email: commissionforwomen@alexandria
 va.gov\n<br />Audience: The same as NULL value.\n<br />Tags: Boards &amp\
 ; Commissions\, Commission Meeting\, DCHS\, Volunteer\, Women<br>\n<a hre
 f="https://zoom.us/w/99422269826?tk=mzOWLsAhR464RQzyOQ2AN2iMVfOWIMAWopGkH
 h2YvDk.DQkAAAAXJgdxghZhYnhVOHhmblJRR2JOWDZJNGpIRndBAAAAAAAAAAAAAAAAAAAAAA
 AAAAAAAAAAAAAAAAAAAAA&amp\;pwd=QjhmQTUrVTJLMm1iTXVKelhJU1lxdz09&amp\;uuid
 =WN_MYNlX38TRqOAO5PDkXcBPw">https://zoom.us/w/99422269826?tk=mzOWLsAhR464
 RQzyOQ2AN2iMVfOWIMAWopGkHh2YvDk.DQkAAAAXJgdxghZhYnhVOHhmblJRR2JOWDZJNGpIR
 ndBAAAAAAAAAAAAAAAAAAAAAAAAAAAAAAAAAAAAAAAAAAA&amp\;pwd=QjhmQTUrVTJLMm1iT
 XVKelhJU1lxdz09&amp\;uuid=WN_MYNlX38TRqOAO5PDkXcBPw</a><br>\n
X-COA-DTSTAMP:20260423T160823Z
BEGIN:VALARM
ACTION:DISPLAY
DESCRIPTION:Commission for Women Meeting: Please visit website to confirm 
 time\, location\, etc.
DURATION:PT30M
REPEAT:2
TRIGGER:-PT30M
END:VALARM
END:VEVENT
END:VCALENDAR
