BEGIN:VCALENDAR
CALSCALE:GREGORIAN
METHOD:PUBLISH
PRODID:-//github.com/ical-org/ical.net//NONSGML ical.net 4.0//EN
VERSION:2.0
X-WR-TIMEZONE:US/Eastern
BEGIN:VEVENT
CATEGORIES:Boards & Commissions
CATEGORIES:Commission Meeting
CATEGORIES:Museums
CATEGORIES:Old & Historic Alexandria
CATEGORIES:Old Town
DESCRIPTION:Imported on Apr 22\, 2026\, 12 days before the event.\nTo veri
 fy info please see https://apps.alexandriava.gov/CalendarTest/Detail.aspx
 ?si=62591\n\nA meeting of the Public Records Advisory Commission\n\nLocat
 ion: Archives and Records Center\, 801 S. Payne Street\nAudience: The sam
 e as NULL value.\nTags: Boards & Commissions\, Commission Meeting\, Museu
 ms\, Old & Historic Alexandria\, Old Town
DTEND:20260506T010000Z
DTSTAMP:20260422T203259Z
DTSTART:20260505T233000Z
LOCATION:Archives and Records Center\, 801 S. Payne Street
SEQUENCE:4
STATUS:CONFIRMED
SUMMARY:Public Records Advisory Commission
TRANSP:OPAQUE
UID:f01ded6c-a46d-4ca6-8761-75c80f4aa661
X-ALT-DESC;FMTTYPE=text/html:Imported on Apr 22\, 2026\, 12 days before th
 e event.<br />To verify info please see <a href="https://apps.alexandriav
 a.gov/CalendarTest/Detail.aspx?si=62591">https://apps.alexandriava.gov/Ca
 lendarTest/Detail.aspx?si=62591</a><br />\n<br />A meeting of the Public 
 Records Advisory Commission\n<br />\n<br />Location: Archives and Records
  Center\, 801 S. Payne Street\n<br />Audience: The same as NULL value.\n<
 br />Tags: Boards &amp\; Commissions\, Commission Meeting\, Museums\, Old
  &amp\; Historic Alexandria\, Old Town
X-COA-DTSTAMP:20260422T203259Z
BEGIN:VALARM
ACTION:DISPLAY
DESCRIPTION:Public Records Advisory Commission: Please visit website to co
 nfirm time\, location\, etc.
DURATION:PT30M
REPEAT:2
TRIGGER:-PT30M
END:VALARM
END:VEVENT
END:VCALENDAR
