BEGIN:VCALENDAR
CALSCALE:GREGORIAN
METHOD:PUBLISH
PRODID:-//github.com/ical-org/ical.net//NONSGML ical.net 4.0//EN
VERSION:2.0
X-WR-TIMEZONE:US/Eastern
BEGIN:VEVENT
CATEGORIES:Friendship Firehouse Museum
CATEGORIES:Museums
DESCRIPTION:To verify info please see https://apps.alexandriava.gov/Calend
 arTest/Detail.aspx?si=62589\n\nHelp us reimagine what is next for the Fri
 endship Firehouse Museum. Your gift will support the updated research\, d
 esign\, and installation of a new experience at the firehouse. Tour the F
 riendship Firehouse Museum from 11 a.m. to 4 p.m.\n\nLocation: Friendship
  Firehouse Museum\, 107 S. Alfred St.\nContact Phone: 703.746.3891\nConta
 ct Email: HistoricAlexandria@alexandriava.gov\nAudience: The same as NULL
  value.\nTags: Friendship Firehouse Museum\, Museums\n\nWeb resources:\n\
 nSpring2ACTion: Reimagining Friendship Firehouse Museum\nhttps://www.spri
 ng2action.org/story/fcxxdg\nThis Spring2Action\, Historic Alexandria will
  be raising funds to reimagine the current exhibit installation in the Fr
 iendship Firehouse Museum. Your gift will support the updated research\, 
 design\, and installation of this new exhibit.\n\nThank you for your cont
 inued support of the Historic Alexandria Museums and the preservation and
  interpretation of our community history.\n
DTEND:20260422T200000Z
DTSTAMP:20260422T010606Z
DTSTART:20260422T150000Z
GEO:38.804940;-77.049408
LOCATION:Friendship Firehouse Museum\, 107 S. Alfred St.
SEQUENCE:5
STATUS:CONFIRMED
SUMMARY:Spring to Action: Tour the Museum
TRANSP:TRANSPARENT
UID:a54f3b88-df82-4dd6-a5d9-aac627d205f1
URL:https://www.spring2action.org/story/fcxxdg
X-ALT-DESC;FMTTYPE=text/html:To verify info please see <a href="https://ap
 ps.alexandriava.gov/CalendarTest/Detail.aspx?si=62589">https://apps.alexa
 ndriava.gov/CalendarTest/Detail.aspx?si=62589</a><br />\n<br />Help us re
 imagine what is next for the Friendship Firehouse Museum. Your gift will 
 support the updated research\, design\, and installation of a new experie
 nce at the firehouse. Tour the Friendship Firehouse Museum from 11 a.m. t
 o 4 p.m.\n<br />\n<br />Location: Friendship Firehouse Museum\, 107 S. Al
 fred St.\n<br />Contact Phone: 703.746.3891\n<br />Contact Email: Histori
 cAlexandria@alexandriava.gov\n<br />Audience: The same as NULL value.\n<b
 r />Tags: Friendship Firehouse Museum\, Museums<br>\n<a href="https://www
 .spring2action.org/story/fcxxdg">Spring2ACTion: Reimagining Friendship Fi
 rehouse Museum</a><br>\nThis Spring2Action\, Historic Alexandria will be 
 raising funds to reimagine the current exhibit installation in the Friend
 ship Firehouse Museum. Your gift will support the updated research\, desi
 gn\, and installation of this new exhibit.\n\nThank you for your continue
 d support of the Historic Alexandria Museums and the preservation and int
 erpretation of our community history.<br>\n
X-COA-DTSTAMP:20260422T010606Z
END:VEVENT
END:VCALENDAR
