BEGIN:VCALENDAR
CALSCALE:GREGORIAN
METHOD:PUBLISH
PRODID:-//github.com/ical-org/ical.net//NONSGML ical.net 4.0//EN
VERSION:2.0
X-WR-TIMEZONE:US/Eastern
BEGIN:VEVENT
CATEGORIES:Friendship Firehouse Museum
CATEGORIES:Museums
DESCRIPTION:Imported on Apr 22\, 2026\, 0 hours before the event.\nTo veri
 fy info please see https://apps.alexandriava.gov/CalendarTest/Detail.aspx
 ?si=62588\n\nHelp us reimagine what is next for the Friendship Firehouse 
 Museum. Your gift will support the updated research\, design\, and instal
 lation of a new experience at the firehouse. Join us for the Power Hour H
 appy Hour! Help us raise $25\,000 and additional cash prizes!\n\nLocation
 : Friendship Firehouse Museum\, 107 S. Alfred St.\nContact Phone: 703.746
 .3891\nContact Email: HistoricAlexandria@alexandriava.gov\nAudience: The 
 same as NULL value.\nTags: Friendship Firehouse Museum\, Museums\n\nWeb r
 esources:\n\nSpring2ACTion: Reimagining Friendship Firehouse Museum\nhttp
 s://www.spring2action.org/story/fcxxdg\nThis Spring2Action\, Historic Ale
 xandria will be raising funds to reimagine the current exhibit installati
 on in the Friendship Firehouse Museum. Your gift will support the updated
  research\, design\, and installation of this new exhibit.\n\nThank you f
 or your continued support of the Historic Alexandria Museums and the pres
 ervation and interpretation of our community history.\n
DTEND:20260423T000001Z
DTSTAMP:20260422T011237Z
DTSTART:20260422T220000Z
GEO:38.804940;-77.049408
LOCATION:Friendship Firehouse Museum\, 107 S. Alfred St.
SEQUENCE:10
STATUS:CONFIRMED
SUMMARY:Spring to Action: Power Hour Happy Hour
TRANSP:TRANSPARENT
UID:8ceb5fd7-ae74-4eff-95a9-ab4733476621
URL:https://www.spring2action.org/story/fcxxdg
X-ALT-DESC;FMTTYPE=text/html:Imported on Apr 22\, 2026\, 0 hours before th
 e event.<br />To verify info please see <a href="https://apps.alexandriav
 a.gov/CalendarTest/Detail.aspx?si=62588">https://apps.alexandriava.gov/Ca
 lendarTest/Detail.aspx?si=62588</a><br />\n<br />Help us reimagine what i
 s next for the Friendship Firehouse Museum. Your gift will support the up
 dated research\, design\, and installation of a new experience at the fir
 ehouse. Join us for the Power Hour Happy Hour! Help us raise $25\,000 and
  additional cash prizes!\n<br />\n<br />Location: Friendship Firehouse Mu
 seum\, 107 S. Alfred St.\n<br />Contact Phone: 703.746.3891\n<br />Contac
 t Email: HistoricAlexandria@alexandriava.gov\n<br />Audience: The same as
  NULL value.\n<br />Tags: Friendship Firehouse Museum\, Museums<br>\n<a h
 ref="https://www.spring2action.org/story/fcxxdg">Spring2ACTion: Reimagini
 ng Friendship Firehouse Museum</a><br>\nThis Spring2Action\, Historic Ale
 xandria will be raising funds to reimagine the current exhibit installati
 on in the Friendship Firehouse Museum. Your gift will support the updated
  research\, design\, and installation of this new exhibit.\n\nThank you f
 or your continued support of the Historic Alexandria Museums and the pres
 ervation and interpretation of our community history.<br>\n
X-COA-DTSTAMP:20260422T011237Z
END:VEVENT
END:VCALENDAR
