BEGIN:VCALENDAR
CALSCALE:GREGORIAN
METHOD:PUBLISH
PRODID:-//github.com/ical-org/ical.net//NONSGML ical.net 4.0//EN
VERSION:2.0
X-WR-TIMEZONE:US/Eastern
BEGIN:VEVENT
CATEGORIES:Boards & Commissions
CATEGORIES:Commission Meeting
CATEGORIES:Elections
DESCRIPTION:Imported on Apr 21\, 2026\, 35 days before the event.\nTo veri
 fy info please see https://apps.alexandriava.gov/CalendarTest/Detail.aspx
 ?si=62586\n\nThis Board Meeting will be an in-person meeting \n\nLocation
 : Voter Registration Office\, 132 N. Royal St.\nContact Person: Angela Tu
 rner\nContact Phone: 703.746.4050\nContact Email: angela.turner@alexandri
 ava.gov\nAudience: Anyone may attend\nTags: Boards & Commissions\, Commis
 sion Meeting\, Elections
DTEND:20260527T153000Z
DTSTAMP:20260421T141810Z
DTSTART:20260527T133000Z
GEO:38.805397;-77.043632
LOCATION:Voter Registration Office\, 132 N. Royal St.
SEQUENCE:4
STATUS:CONFIRMED
SUMMARY:Alexandria Electoral Board
TRANSP:OPAQUE
UID:a40c74b9-4c12-4594-bbca-7e196c68e231
X-ALT-DESC;FMTTYPE=text/html:Imported on Apr 21\, 2026\, 35 days before th
 e event.<br />To verify info please see <a href="https://apps.alexandriav
 a.gov/CalendarTest/Detail.aspx?si=62586">https://apps.alexandriava.gov/Ca
 lendarTest/Detail.aspx?si=62586</a><br />\n<br />This Board Meeting will 
 be an in-person meeting \n<br />\n<br />Location: Voter Registration Offi
 ce\, 132 N. Royal St.\n<br />Contact Person: Angela Turner\n<br />Contact
  Phone: 703.746.4050\n<br />Contact Email: angela.turner@alexandriava.gov
 \n<br />Audience: Anyone may attend\n<br />Tags: Boards &amp\; Commission
 s\, Commission Meeting\, Elections
X-COA-DTSTAMP:20260421T141810Z
BEGIN:VALARM
ACTION:DISPLAY
DESCRIPTION:Alexandria Electoral Board: Please visit website to confirm ti
 me\, location\, etc.
DURATION:PT30M
REPEAT:2
TRIGGER:-PT30M
END:VALARM
END:VEVENT
END:VCALENDAR
