BEGIN:VCALENDAR
CALSCALE:GREGORIAN
METHOD:PUBLISH
PRODID:-//github.com/ical-org/ical.net//NONSGML ical.net 4.0//EN
VERSION:2.0
X-WR-TIMEZONE:US/Eastern
BEGIN:VEVENT
CATEGORIES:Boards & Commissions
CATEGORIES:Museums
CATEGORIES:Old & Historic Alexandria
CATEGORIES:Old Town
CATEGORIES:Sister Cities
DESCRIPTION:Imported on Apr 21\, 2026\, 35 days before the event.\nTo veri
 fy info please see https://apps.alexandriava.gov/CalendarTest/Detail.aspx
 ?si=62583\n\nA meeting of the Sister Cities Committee (SCC) Dundee and He
 lsingborg.\n\nLocation: Lloyd House\, 220 N. Washington St.\nAudience: An
 yone may attend\nTags: Boards & Commissions\, Museums\, Old & Historic Al
 exandria\, Old Town\, Sister Cities
DTEND:20260527T003000Z
DTSTAMP:20260420T152338Z
DTSTART:20260526T230000Z
GEO:38.807209;-77.046797
LOCATION:Lloyd House\, 220 N. Washington St.
SEQUENCE:4
STATUS:CONFIRMED
SUMMARY:Sister Cities Committee Dundee and Helsingborg
TRANSP:OPAQUE
UID:457f25c0-62b6-4af2-9da5-8c8e660c1ded
X-ALT-DESC;FMTTYPE=text/html:Imported on Apr 21\, 2026\, 35 days before th
 e event.<br />To verify info please see <a href="https://apps.alexandriav
 a.gov/CalendarTest/Detail.aspx?si=62583">https://apps.alexandriava.gov/Ca
 lendarTest/Detail.aspx?si=62583</a><br />\n<br />A meeting of the Sister 
 Cities Committee (SCC) Dundee and Helsingborg.\n<br />\n<br />Location: L
 loyd House\, 220 N. Washington St.\n<br />Audience: Anyone may attend\n<b
 r />Tags: Boards &amp\; Commissions\, Museums\, Old &amp\; Historic Alexa
 ndria\, Old Town\, Sister Cities
X-COA-DTSTAMP:20260420T152338Z
BEGIN:VALARM
ACTION:DISPLAY
DESCRIPTION:Sister Cities Committee Dundee and Helsingborg: Please visit w
 ebsite to confirm time\, location\, etc.
DURATION:PT30M
REPEAT:2
TRIGGER:-PT30M
END:VALARM
END:VEVENT
END:VCALENDAR
