BEGIN:VCALENDAR
CALSCALE:GREGORIAN
METHOD:PUBLISH
PRODID:-//github.com/ical-org/ical.net//NONSGML ical.net 4.0//EN
VERSION:2.0
X-WR-TIMEZONE:US/Eastern
BEGIN:VEVENT
CATEGORIES:ADA
CATEGORIES:Adult
CATEGORIES:Boards & Commissions
DESCRIPTION:Imported on Apr 24\, 2026\, 75 days before the event.\nTo veri
 fy info please see https://apps.alexandriava.gov/CalendarTest/Detail.aspx
 ?si=62390\n\nThe ACPD Monthly Meeting will be held at the Lee Center in t
 he Gold Room #2\n\nLocation: Lee Center\, 1108 Jefferson St.\nContact Per
 son: Delante Wade\nContact Phone: 703.746.3148\nAudience: Anyone may atte
 nd\nTags: ADA\, Adult\, Boards & Commissions
DTEND:20260709T010000Z
DTSTAMP:20260309T200613Z
DTSTART:20260708T230000Z
GEO:38.797510;-77.053621
LOCATION:Lee Center\, 1108 Jefferson St.
SEQUENCE:4
STATUS:CONFIRMED
SUMMARY:ACPD Monthly Meeting
TRANSP:TRANSPARENT
UID:1f6b0148-1aa4-4e5e-871d-93ea9ad19172
X-ALT-DESC;FMTTYPE=text/html:Imported on Apr 24\, 2026\, 75 days before th
 e event.<br />To verify info please see <a href="https://apps.alexandriav
 a.gov/CalendarTest/Detail.aspx?si=62390">https://apps.alexandriava.gov/Ca
 lendarTest/Detail.aspx?si=62390</a><br />\n<br />The ACPD Monthly Meeting
  will be held at the Lee Center in the Gold Room #2\n<br />\n<br />Locati
 on: Lee Center\, 1108 Jefferson St.\n<br />Contact Person: Delante Wade\n
 <br />Contact Phone: 703.746.3148\n<br />Audience: Anyone may attend\n<br
  />Tags: ADA\, Adult\, Boards &amp\; Commissions
X-COA-DTSTAMP:20260309T200613Z
END:VEVENT
END:VCALENDAR
