BEGIN:VCALENDAR
CALSCALE:GREGORIAN
METHOD:PUBLISH
PRODID:-//github.com/ical-org/ical.net//NONSGML ical.net 4.0//EN
VERSION:2.0
X-WR-TIMEZONE:US/Eastern
BEGIN:VEVENT
CATEGORIES:Adult
CATEGORIES:Boards & Commissions
CATEGORIES:Commission Meeting
CATEGORIES:Community Outreach
CATEGORIES:DCHS
DESCRIPTION:To verify info please see https://apps.alexandriava.gov/Calend
 arTest/Detail.aspx?si=62308\n\nThe meeting will be held in conference roo
 m 5022. Guests must sign in at the lobby desk on the first floor. Members
  of the public who wish to make comments should contact S. Minter at the 
 phone number or email address shown below no less than three days prior t
 o the meeting.  \n\nLocation: 4850 Mark Center Drive\, 4850 Mark Center D
 rive\nContact Person: Sharon Minter\nContact Phone: 703.746.5872\nContact
  Email: sharon.minter@alexandriava.gov\nAudience: Anyone may attend\nTags
 : Adult\, Boards & Commissions\, Commission Meeting\, Community Outreach\
 , DCHS
DTEND:20260325T200000Z
DTSTAMP:20260218T213336Z
DTSTART:20260325T180000Z
LOCATION:4850 Mark Center Drive\, 4850 Mark Center Drive
SEQUENCE:4
STATUS:CONFIRMED
SUMMARY:Alex Community\, Policy & Management Team (ACPMT)
TRANSP:OPAQUE
UID:8173f57b-b9b8-435d-b458-bdee42cde3ef
X-ALT-DESC;FMTTYPE=text/html:To verify info please see <a href="https://ap
 ps.alexandriava.gov/CalendarTest/Detail.aspx?si=62308">https://apps.alexa
 ndriava.gov/CalendarTest/Detail.aspx?si=62308</a><br />\n<br />The meetin
 g will be held in conference room 5022. Guests must sign in at the lobby 
 desk on the first floor. Members of the public who wish to make comments 
 should contact S. Minter at the phone number or email address shown below
  no less than three days prior to the meeting.  \n<br />\n<br />Location:
  4850 Mark Center Drive\, 4850 Mark Center Drive\n<br />Contact Person: S
 haron Minter\n<br />Contact Phone: 703.746.5872\n<br />Contact Email: sha
 ron.minter@alexandriava.gov\n<br />Audience: Anyone may attend\n<br />Tag
 s: Adult\, Boards &amp\; Commissions\, Commission Meeting\, Community Out
 reach\, DCHS
X-COA-DTSTAMP:20260218T213336Z
END:VEVENT
END:VCALENDAR
