BEGIN:VCALENDAR
CALSCALE:GREGORIAN
METHOD:PUBLISH
PRODID:-//github.com/ical-org/ical.net//NONSGML ical.net 4.0//EN
VERSION:2.0
X-WR-TIMEZONE:US/Eastern
BEGIN:VEVENT
CATEGORIES:BAR-OHAD
CATEGORIES:BAR-PG
CATEGORIES:Board of Architectural Review
CATEGORIES:Boards & Commissions
CATEGORIES:Cablecast
CATEGORIES:Commission Meeting
CATEGORIES:Parker Gray
CATEGORIES:Planning Boards and Commissions
CATEGORIES:Planning Meeting
CATEGORIES:Public Hearing Commissions
CATEGORIES:Regular Meeting
CATEGORIES:Webcast
CATEGORIES:Zoning
DESCRIPTION:Imported on Apr 24\, 2026\, 145 days before the event.\nTo ver
 ify info please see https://apps.alexandriava.gov/CalendarTest/Detail.asp
 x?si=62095\n\nRegular Monthly Public Hearing of the Board of Architectura
 l Review * Hearing end times are approximate\n\nLocation: Charles Houston
  Recreation Center\, 901 Wythe St.\nContact Person: William Conkey\nConta
 ct Phone: 703.746.4666\nContact Email: william.conkey@alexandriava.gov\nA
 udience: The same as NULL value.\nTags: BAR-OHAD\, BAR-PG\, Board of Arch
 itectural Review\, Boards & Commissions\, Cablecast\, Commission Meeting\
 , Parker Gray\, Planning Boards and Commissions\, Planning Meeting\, Publ
 ic Hearing Commissions\, Regular Meeting\, Webcast\, Zoning\n\nWeb resour
 ces:\n\nhttps://alexandria.granicus.com/ViewPublisher.php?view_id=57\n
DTEND:20260917T035900Z
DTSTAMP:20260320T140936Z
DTSTART:20260916T230000Z
GEO:38.812326;-77.048213
LOCATION:Charles Houston Recreation Center\, 901 Wythe St.
SEQUENCE:5
STATUS:CONFIRMED
SUMMARY:Board of Architectural Review Public Hearing
TRANSP:TRANSPARENT
UID:cbb1039e-7497-475a-beca-ee5e4ac4be0b
URL:https://alexandria.granicus.com/ViewPublisher.php?view_id=57
X-ALT-DESC;FMTTYPE=text/html:Imported on Apr 24\, 2026\, 145 days before t
 he event.<br />To verify info please see <a href="https://apps.alexandria
 va.gov/CalendarTest/Detail.aspx?si=62095">https://apps.alexandriava.gov/C
 alendarTest/Detail.aspx?si=62095</a><br />\n<br />Regular Monthly Public 
 Hearing of the Board of Architectural Review * Hearing end times are appr
 oximate\n<br />\n<br />Location: Charles Houston Recreation Center\, 901 
 Wythe St.\n<br />Contact Person: William Conkey\n<br />Contact Phone: 703
 .746.4666\n<br />Contact Email: william.conkey@alexandriava.gov\n<br />Au
 dience: The same as NULL value.\n<br />Tags: BAR-OHAD\, BAR-PG\, Board of
  Architectural Review\, Boards &amp\; Commissions\, Cablecast\, Commissio
 n Meeting\, Parker Gray\, Planning Boards and Commissions\, Planning Meet
 ing\, Public Hearing Commissions\, Regular Meeting\, Webcast\, Zoning<br>
 \n<a href="https://alexandria.granicus.com/ViewPublisher.php?view_id=57">
 https://alexandria.granicus.com/ViewPublisher.php?view_id=57</a><br>\n
X-COA-DTSTAMP:20260320T140936Z
END:VEVENT
END:VCALENDAR
