BEGIN:VCALENDAR
CALSCALE:GREGORIAN
METHOD:PUBLISH
PRODID:-//github.com/ical-org/ical.net//NONSGML ical.net 4.0//EN
VERSION:2.0
X-WR-TIMEZONE:US/Eastern
BEGIN:VEVENT
CATEGORIES:BAR-OHAD
CATEGORIES:BAR-PG
CATEGORIES:Board of Architectural Review
CATEGORIES:Boards & Commissions
CATEGORIES:Cablecast
CATEGORIES:Commission Meeting
CATEGORIES:Parker Gray
CATEGORIES:Planning Boards and Commissions
CATEGORIES:Planning Meeting
CATEGORIES:Public Hearing Commissions
CATEGORIES:Regular Meeting
CATEGORIES:Webcast
CATEGORIES:Zoning
DESCRIPTION:Imported on Apr 24\, 2026\, 69 days before the event.\nTo veri
 fy info please see https://apps.alexandriava.gov/CalendarTest/Detail.aspx
 ?si=62092\n\nRegular Monthly Public Hearing of the Board of Architectural
  Review * Hearing end times are approximate\n\nLocation: Charles Houston 
 Recreation Center\, 901 Wythe St.\nContact Person: William Conkey\nContac
 t Phone: 703.746.4666\nContact Email: william.conkey@alexandriava.gov\nAu
 dience: The same as NULL value.\nTags: BAR-OHAD\, BAR-PG\, Board of Archi
 tectural Review\, Boards & Commissions\, Cablecast\, Commission Meeting\,
  Parker Gray\, Planning Boards and Commissions\, Planning Meeting\, Publi
 c Hearing Commissions\, Regular Meeting\, Webcast\, Zoning\n\nWeb resourc
 es:\n\nhttps://alexandria.granicus.com/ViewPublisher.php?view_id=57\n
DTEND:20260703T035900Z
DTSTAMP:20260320T140936Z
DTSTART:20260702T230000Z
GEO:38.812326;-77.048213
LOCATION:Charles Houston Recreation Center\, 901 Wythe St.
SEQUENCE:5
STATUS:CONFIRMED
SUMMARY:Board of Architectural Review Public Hearing
TRANSP:TRANSPARENT
UID:2e7266d1-ff39-4c6c-8dcf-a0a44d847b98
URL:https://alexandria.granicus.com/ViewPublisher.php?view_id=57
X-ALT-DESC;FMTTYPE=text/html:Imported on Apr 24\, 2026\, 69 days before th
 e event.<br />To verify info please see <a href="https://apps.alexandriav
 a.gov/CalendarTest/Detail.aspx?si=62092">https://apps.alexandriava.gov/Ca
 lendarTest/Detail.aspx?si=62092</a><br />\n<br />Regular Monthly Public H
 earing of the Board of Architectural Review * Hearing end times are appro
 ximate\n<br />\n<br />Location: Charles Houston Recreation Center\, 901 W
 ythe St.\n<br />Contact Person: William Conkey\n<br />Contact Phone: 703.
 746.4666\n<br />Contact Email: william.conkey@alexandriava.gov\n<br />Aud
 ience: The same as NULL value.\n<br />Tags: BAR-OHAD\, BAR-PG\, Board of 
 Architectural Review\, Boards &amp\; Commissions\, Cablecast\, Commission
  Meeting\, Parker Gray\, Planning Boards and Commissions\, Planning Meeti
 ng\, Public Hearing Commissions\, Regular Meeting\, Webcast\, Zoning<br>\
 n<a href="https://alexandria.granicus.com/ViewPublisher.php?view_id=57">h
 ttps://alexandria.granicus.com/ViewPublisher.php?view_id=57</a><br>\n
X-COA-DTSTAMP:20260320T140936Z
END:VEVENT
END:VCALENDAR
