BEGIN:VCALENDAR
CALSCALE:GREGORIAN
METHOD:PUBLISH
PRODID:-//github.com/ical-org/ical.net//NONSGML ical.net 4.0//EN
VERSION:2.0
X-WR-TIMEZONE:US/Eastern
BEGIN:VEVENT
CATEGORIES:BAR-OHAD
CATEGORIES:BAR-PG
CATEGORIES:Board of Architectural Review
CATEGORIES:Boards & Commissions
CATEGORIES:Cablecast
CATEGORIES:Commission Meeting
CATEGORIES:Parker Gray
CATEGORIES:Planning Boards and Commissions
CATEGORIES:Planning Meeting
CATEGORIES:Public Hearing Commissions
CATEGORIES:Regular Meeting
CATEGORIES:Webcast
CATEGORIES:Zoning
DESCRIPTION:Imported on Apr 24\, 2026\, 12 days before the event.\nTo veri
 fy info please see https://apps.alexandriava.gov/CalendarTest/Detail.aspx
 ?si=62088\n\nRegular Monthly Public Hearing of the Board of Architectural
  Review * Hearing end times are approximate\n\nLocation: 4850 Mark Center
  Drive\, 4850 Mark Center Drive\nContact Person: William Conkey\nContact 
 Phone: 703.746.4666\nContact Email: william.conkey@alexandriava.gov\nAudi
 ence: The same as NULL value.\nTags: BAR-OHAD\, BAR-PG\, Board of Archite
 ctural Review\, Boards & Commissions\, Cablecast\, Commission Meeting\, P
 arker Gray\, Planning Boards and Commissions\, Planning Meeting\, Public 
 Hearing Commissions\, Regular Meeting\, Webcast\, Zoning\n\nWeb resources
 :\n\nhttps://alexandria.granicus.com/ViewPublisher.php?view_id=57\n
DTEND:20260507T035900Z
DTSTAMP:20260424T180757Z
DTSTART:20260506T230000Z
LOCATION:4850 Mark Center Drive\, 4850 Mark Center Drive
SEQUENCE:6
STATUS:CONFIRMED
SUMMARY:Board of Architectural Review Public Hearing
TRANSP:OPAQUE
UID:7f9fd5eb-5b3d-4468-8b50-f9287c617647
URL:https://alexandria.granicus.com/ViewPublisher.php?view_id=57
X-ALT-DESC;FMTTYPE=text/html:Imported on Apr 24\, 2026\, 12 days before th
 e event.<br />To verify info please see <a href="https://apps.alexandriav
 a.gov/CalendarTest/Detail.aspx?si=62088">https://apps.alexandriava.gov/Ca
 lendarTest/Detail.aspx?si=62088</a><br />\n<br />Regular Monthly Public H
 earing of the Board of Architectural Review * Hearing end times are appro
 ximate\n<br />\n<br />Location: 4850 Mark Center Drive\, 4850 Mark Center
  Drive\n<br />Contact Person: William Conkey\n<br />Contact Phone: 703.74
 6.4666\n<br />Contact Email: william.conkey@alexandriava.gov\n<br />Audie
 nce: The same as NULL value.\n<br />Tags: BAR-OHAD\, BAR-PG\, Board of Ar
 chitectural Review\, Boards &amp\; Commissions\, Cablecast\, Commission M
 eeting\, Parker Gray\, Planning Boards and Commissions\, Planning Meeting
 \, Public Hearing Commissions\, Regular Meeting\, Webcast\, Zoning<br>\n<
 a href="https://alexandria.granicus.com/ViewPublisher.php?view_id=57">htt
 ps://alexandria.granicus.com/ViewPublisher.php?view_id=57</a><br>\n
X-COA-DTSTAMP:20260424T180757Z
BEGIN:VALARM
ACTION:DISPLAY
DESCRIPTION:Board of Architectural Review Public Hearing: Please visit web
 site to confirm time\, location\, etc.
DURATION:PT30M
REPEAT:2
TRIGGER:-PT30M
END:VALARM
END:VEVENT
END:VCALENDAR
