BEGIN:VCALENDAR
CALSCALE:GREGORIAN
METHOD:PUBLISH
PRODID:-//github.com/ical-org/ical.net//NONSGML ical.net 4.0//EN
VERSION:2.0
X-WR-TIMEZONE:US/Eastern
BEGIN:VEVENT
CATEGORIES:Boards & Commissions
CATEGORIES:Commission Meeting
CATEGORIES:Court Services
CATEGORIES:End Bullying Campaign
CATEGORIES:Teens
DESCRIPTION:Imported on Apr 21\, 2026\, 210 days before the event.\nTo ver
 ify info please see https://apps.alexandriava.gov/CalendarTest/Detail.asp
 x?si=61578\n\nThe purpose of the Task Force is to receive briefings on th
 e status of gang suppression\, prevention and intervention programs and a
 ctivities in the City\; assist in informing and educating the Alexandria 
 community about the gang suppression\, prevention and intervention progra
 ms and activities\; assist in identifying programs and activities that wi
 ll address specific gang-related problems or issues in the City\; assist 
 in identifying opportunities to obtain funding for programs and activitie
 s that will address such gang-related problems or issues\; and\, assist i
 n identifying state or local laws that should be enacted or amended to en
 able the City\, and possibly other local governments\, to better address 
 problems and issues arising from or related to gangs\n\nLocation: Charles
  Houston Recreation Center\, 901 Wythe St.\nContact Person: Luke Daniele\
 nContact Phone: 703.746.4472\nContact Email: luke.daniele@alexandriava.go
 v\nAudience: The same as NULL value.\nTags: Boards & Commissions\, Commis
 sion Meeting\, Court Services\, End Bullying Campaign\, Teens
DTEND:20261119T010000Z
DTSTAMP:20251202T192633Z
DTSTART:20261118T230000Z
GEO:38.812326;-77.048213
LOCATION:Charles Houston Recreation Center\, 901 Wythe St.
SEQUENCE:4
STATUS:CONFIRMED
SUMMARY:Gang Prevention Community Task Force Meeting
TRANSP:OPAQUE
UID:53c000a5-2ddc-4bae-a689-42327560f539
X-ALT-DESC;FMTTYPE=text/html:Imported on Apr 21\, 2026\, 210 days before t
 he event.<br />To verify info please see <a href="https://apps.alexandria
 va.gov/CalendarTest/Detail.aspx?si=61578">https://apps.alexandriava.gov/C
 alendarTest/Detail.aspx?si=61578</a><br />\n<br />The purpose of the Task
  Force is to receive briefings on the status of gang suppression\, preven
 tion and intervention programs and activities in the City\; assist in inf
 orming and educating the Alexandria community about the gang suppression\
 , prevention and intervention programs and activities\; assist in identif
 ying programs and activities that will address specific gang-related prob
 lems or issues in the City\; assist in identifying opportunities to obtai
 n funding for programs and activities that will address such gang-related
  problems or issues\; and\, assist in identifying state or local laws tha
 t should be enacted or amended to enable the City\, and possibly other lo
 cal governments\, to better address problems and issues arising from or r
 elated to gangs\n<br />\n<br />Location: Charles Houston Recreation Cente
 r\, 901 Wythe St.\n<br />Contact Person: Luke Daniele\n<br />Contact Phon
 e: 703.746.4472\n<br />Contact Email: luke.daniele@alexandriava.gov\n<br 
 />Audience: The same as NULL value.\n<br />Tags: Boards &amp\; Commission
 s\, Commission Meeting\, Court Services\, End Bullying Campaign\, Teens
X-COA-DTSTAMP:20251202T192633Z
BEGIN:VALARM
ACTION:DISPLAY
DESCRIPTION:Gang Prevention Community Task Force Meeting : Please visit we
 bsite to confirm time\, location\, etc.
DURATION:PT30M
REPEAT:2
TRIGGER:-PT30M
END:VALARM
END:VEVENT
END:VCALENDAR
