BEGIN:VCALENDAR
CALSCALE:GREGORIAN
METHOD:PUBLISH
PRODID:-//github.com/ical-org/ical.net//NONSGML ical.net 4.0//EN
VERSION:2.0
X-WR-TIMEZONE:US/Eastern
BEGIN:VEVENT
CATEGORIES:Boards & Commissions
CATEGORIES:Community Meeting
CATEGORIES:Court Services
CATEGORIES:End Bullying Campaign
CATEGORIES:Teens
DESCRIPTION:Imported on Apr 21\, 2026\, 56 days before the event.\nTo veri
 fy info please see https://apps.alexandriava.gov/CalendarTest/Detail.aspx
 ?si=61576\n\nThe purpose of the Task Force is to receive briefings on the
  status of gang suppression\, prevention and intervention programs and ac
 tivities in the City\; assist in informing and educating the Alexandria c
 ommunity about the gang suppression\, prevention and intervention program
 s and activities\; assist in identifying programs and activities that wil
 l address specific gang-related problems or issues in the City\; assist i
 n identifying opportunities to obtain funding for programs and activities
  that will address such gang-related problems or issues\; and\, assist in
  identifying state or local laws that should be enacted or amended to ena
 ble the City\, and possibly other local governments\, to better address p
 roblems and issues arising from or related to gangs\n\nLocation: Charles 
 Houston Recreation Center\, 901 Wythe St.\nContact Person: Luke Daniele\n
 Contact Phone: 703.746.4472\nContact Email: luke.daniele@alexandriava.gov
 \nAudience: The same as NULL value.\nTags: Boards & Commissions\, Communi
 ty Meeting\, Court Services\, End Bullying Campaign\, Teens
DTEND:20260618T000001Z
DTSTAMP:20251202T192122Z
DTSTART:20260617T220000Z
GEO:38.812326;-77.048213
LOCATION:Charles Houston Recreation Center\, 901 Wythe St.
SEQUENCE:4
STATUS:CONFIRMED
SUMMARY:Gang Prevention Community Task Force Meeting
TRANSP:OPAQUE
UID:a429769c-41dc-4cd7-8c26-0db4dc4c7f83
X-ALT-DESC;FMTTYPE=text/html:Imported on Apr 21\, 2026\, 56 days before th
 e event.<br />To verify info please see <a href="https://apps.alexandriav
 a.gov/CalendarTest/Detail.aspx?si=61576">https://apps.alexandriava.gov/Ca
 lendarTest/Detail.aspx?si=61576</a><br />\n<br />The purpose of the Task 
 Force is to receive briefings on the status of gang suppression\, prevent
 ion and intervention programs and activities in the City\; assist in info
 rming and educating the Alexandria community about the gang suppression\,
  prevention and intervention programs and activities\; assist in identify
 ing programs and activities that will address specific gang-related probl
 ems or issues in the City\; assist in identifying opportunities to obtain
  funding for programs and activities that will address such gang-related 
 problems or issues\; and\, assist in identifying state or local laws that
  should be enacted or amended to enable the City\, and possibly other loc
 al governments\, to better address problems and issues arising from or re
 lated to gangs\n<br />\n<br />Location: Charles Houston Recreation Center
 \, 901 Wythe St.\n<br />Contact Person: Luke Daniele\n<br />Contact Phone
 : 703.746.4472\n<br />Contact Email: luke.daniele@alexandriava.gov\n<br /
 >Audience: The same as NULL value.\n<br />Tags: Boards &amp\; Commissions
 \, Community Meeting\, Court Services\, End Bullying Campaign\, Teens
X-COA-DTSTAMP:20251202T192122Z
BEGIN:VALARM
ACTION:DISPLAY
DESCRIPTION:Gang Prevention Community Task Force Meeting : Please visit we
 bsite to confirm time\, location\, etc.
DURATION:PT30M
REPEAT:2
TRIGGER:-PT30M
END:VALARM
END:VEVENT
END:VCALENDAR
