BEGIN:VCALENDAR
CALSCALE:GREGORIAN
METHOD:PUBLISH
PRODID:-//github.com/ical-org/ical.net//NONSGML ical.net 4.0//EN
VERSION:2.0
X-WR-TIMEZONE:US/Eastern
BEGIN:VEVENT
CATEGORIES:Boards & Commissions
CATEGORIES:Commission Meeting
CATEGORIES:Commission on Information Technology
DESCRIPTION:Imported on Apr 23\, 2026\, 83 days before the event.\nTo veri
 fy info please see https://apps.alexandriava.gov/CalendarTest/Detail.aspx
 ?si=61410\n\nCommission on Information Technology Regular Monthly Meeting
 . This meeting is hybrid\; in-person and via Zoom.\n\nThe meeting will be
  held in person at City of Alexandria-\nLee Center\, Conference Room 4\nA
 ddress: 1108 Jefferson Street\, Alexandria\, VA\, 22314\n\nLocation: Lee 
 Center\, 1108 Jefferson St.\nAudience: The same as NULL value.\nTags: Boa
 rds & Commissions\, Commission Meeting\, Commission on Information Techno
 logy
DTEND:20260717T010000Z
DTSTAMP:20251022T174603Z
DTSTART:20260716T230000Z
GEO:38.797510;-77.053621
LOCATION:Lee Center\, 1108 Jefferson St.
SEQUENCE:4
STATUS:CONFIRMED
SUMMARY:Commission on IT Monthly Meeting
TRANSP:TRANSPARENT
UID:30dd3532-266e-47a6-b542-0e3754022525
X-ALT-DESC;FMTTYPE=text/html:Imported on Apr 23\, 2026\, 83 days before th
 e event.<br />To verify info please see <a href="https://apps.alexandriav
 a.gov/CalendarTest/Detail.aspx?si=61410">https://apps.alexandriava.gov/Ca
 lendarTest/Detail.aspx?si=61410</a><br />\n<br />Commission on Informatio
 n Technology Regular Monthly Meeting. This meeting is hybrid\; in-person 
 and via Zoom.\n<br />\n<br />The meeting will be held in person at City o
 f Alexandria-\n<br />Lee Center\, Conference Room 4\n<br />Address: 1108 
 Jefferson Street\, Alexandria\, VA\, 22314\n<br />\n<br />Location: Lee C
 enter\, 1108 Jefferson St.\n<br />Audience: The same as NULL value.\n<br 
 />Tags: Boards &amp\; Commissions\, Commission Meeting\, Commission on In
 formation Technology
X-COA-DTSTAMP:20251022T174603Z
END:VEVENT
END:VCALENDAR
