BEGIN:VCALENDAR
CALSCALE:GREGORIAN
METHOD:PUBLISH
PRODID:-//github.com/ical-org/ical.net//NONSGML ical.net 4.0//EN
VERSION:2.0
X-WR-TIMEZONE:US/Eastern
BEGIN:VEVENT
CATEGORIES:Boards & Commissions
CATEGORIES:Planning Boards and Commissions
CATEGORIES:Planning Commission
CATEGORIES:Planning Meeting
CATEGORIES:Zoning
DESCRIPTION:To verify info please see https://apps.alexandriava.gov/Calend
 arTest/Detail.aspx?si=59835\n\nThe retreat is open to the public\; howeve
 r\, no public testimony or votes will be taken. For reasonable disability
  accommodation or for translation services for the Planning Commission Pu
 blic Hearing\, contact Lisa Chase at alicia.chase@alexandriava.gov or 703
 .746.4666\, Virginia Relay 711. We request that you provide a 48-hour not
 ice so that the proper arrangements may be made.\n\nLocation: Police Head
 quarters\nContact Person: Kendra Jacobs\nContact Phone: 703.746.3920\nCon
 tact Email: kendra.jacobs@alexandriava.gov\nAudience: Anyone may attend\n
 Tags: Boards & Commissions\, Planning Boards and Commissions\, Planning C
 ommission\, Planning Meeting\, Zoning\n\nWeb resources:\n\nhttps://alexan
 dria.granicus.com/ViewPublisher.php?view_id=57\n
DTEND:20250822T153000Z
DTSTAMP:20250811T160820Z
DTSTART:20250822T123000Z
GEO:38.806875;-77.092330
LOCATION:Police Headquarters
SEQUENCE:4
STATUS:CONFIRMED
SUMMARY:Planning Commission Retreat
TRANSP:TRANSPARENT
UID:47d077ba-0ae8-4c11-a220-aead45e435d8
URL:https://alexandria.granicus.com/ViewPublisher.php?view_id=57
X-ALT-DESC;FMTTYPE=text/html:To verify info please see <a href="https://ap
 ps.alexandriava.gov/CalendarTest/Detail.aspx?si=59835">https://apps.alexa
 ndriava.gov/CalendarTest/Detail.aspx?si=59835</a><br />\n<br />The retrea
 t is open to the public\; however\, no public testimony or votes will be 
 taken. For reasonable disability accommodation or for translation service
 s for the Planning Commission Public Hearing\, contact Lisa Chase at alic
 ia.chase@alexandriava.gov or 703.746.4666\, Virginia Relay 711. We reques
 t that you provide a 48-hour notice so that the proper arrangements may b
 e made.\n<br />\n<br />Location: Police Headquarters\n<br />Contact Perso
 n: Kendra Jacobs\n<br />Contact Phone: 703.746.3920\n<br />Contact Email:
  kendra.jacobs@alexandriava.gov\n<br />Audience: Anyone may attend\n<br /
 >Tags: Boards &amp\; Commissions\, Planning Boards and Commissions\, Plan
 ning Commission\, Planning Meeting\, Zoning<br>\n<a href="https://alexand
 ria.granicus.com/ViewPublisher.php?view_id=57">https://alexandria.granicu
 s.com/ViewPublisher.php?view_id=57</a><br>\n
X-COA-DTSTAMP:20250811T160820Z
END:VEVENT
END:VCALENDAR
