BEGIN:VCALENDAR
CALSCALE:GREGORIAN
METHOD:PUBLISH
PRODID:-//github.com/ical-org/ical.net//NONSGML ical.net 4.0//EN
VERSION:2.0
X-WR-TIMEZONE:US/Eastern
BEGIN:VEVENT
CATEGORIES:Boards & Commissions
CATEGORIES:Commission Meeting
CATEGORIES:DCHS
CATEGORIES:Volunteer
CATEGORIES:Women
DESCRIPTION:To verify info please see https://apps.alexandriava.gov/Calend
 arTest/Detail.aspx?si=59721\n\nThe Saturday\, August 9\, 2025\, RETREAT f
 or the ALEXANDRIA COMMISSION FOR WOMEN is being held in person at the Red
 ella "Del" Pepper Community Resource Center\, 4850 Mark Center Drive\, Rm
 . 9208\, from 12 NOON - 4:00 PM\n\nLocation: DCHS\nContact Person: Lexi W
 hite\nContact Email: commissionforwomen@alexandriava.gov\nAudience: Anyon
 e may attend\nTags: Boards & Commissions\, Commission Meeting\, DCHS\, Vo
 lunteer\, Women
DTEND:20250809T200000Z
DTSTAMP:20250709T164634Z
DTSTART:20250809T160000Z
LOCATION:DCHS
SEQUENCE:5
STATUS:CONFIRMED
SUMMARY:Commission for Women Retreat
TRANSP:OPAQUE
UID:4b3d21b7-a3dc-48fb-9d09-60da66ea554c
X-ALT-DESC;FMTTYPE=text/html:To verify info please see <a href="https://ap
 ps.alexandriava.gov/CalendarTest/Detail.aspx?si=59721">https://apps.alexa
 ndriava.gov/CalendarTest/Detail.aspx?si=59721</a><br />\n<br />The Saturd
 ay\, August 9\, 2025\, RETREAT for the ALEXANDRIA COMMISSION FOR WOMEN is
  being held in person at the Redella &quot\;Del&quot\; Pepper Community R
 esource Center\, 4850 Mark Center Drive\, Rm. 9208\, from 12 NOON - 4:00 
 PM\n<br />\n<br />Location: DCHS\n<br />Contact Person: Lexi White\n<br /
 >Contact Email: commissionforwomen@alexandriava.gov\n<br />Audience: Anyo
 ne may attend\n<br />Tags: Boards &amp\; Commissions\, Commission Meeting
 \, DCHS\, Volunteer\, Women
X-COA-DTSTAMP:20250709T164634Z
END:VEVENT
END:VCALENDAR
