BEGIN:VCALENDAR
CALSCALE:GREGORIAN
METHOD:PUBLISH
PRODID:-//github.com/ical-org/ical.net//NONSGML ical.net 4.0//EN
VERSION:2.0
X-WR-TIMEZONE:US/Eastern
BEGIN:VEVENT
DESCRIPTION:To verify info please see https://apps.alexandriava.gov/Calend
 arTest/Detail.aspx?si=58922\n\nThis Board Meeting will be an in-person me
 eting \n\nLocation: Voter Registration Office\, 132 N. Royal St.\nContact
  Person: Angela Turner\nContact Phone: 703.746.4050\nContact Email: angel
 a.turner@alexandriava.gov\nAudience: Anyone may attend
DTEND:20250522T153000Z
DTSTAMP:20250616T170213Z
DTSTART:20250522T133000Z
GEO:38.805397;-77.043632
LOCATION:Voter Registration Office\, 132 N. Royal St.
SEQUENCE:5
STATUS:CONFIRMED
SUMMARY:Alexandria Electoral Board
TRANSP:OPAQUE
UID:084a06d6-38c1-4566-8318-86796492745b
X-ALT-DESC;FMTTYPE=text/html:To verify info please see <a href="https://ap
 ps.alexandriava.gov/CalendarTest/Detail.aspx?si=58922">https://apps.alexa
 ndriava.gov/CalendarTest/Detail.aspx?si=58922</a><br />\n<br />This Board
  Meeting will be an in-person meeting \n<br />\n<br />Location: Voter Reg
 istration Office\, 132 N. Royal St.\n<br />Contact Person: Angela Turner\
 n<br />Contact Phone: 703.746.4050\n<br />Contact Email: angela.turner@al
 exandriava.gov\n<br />Audience: Anyone may attend
X-COA-DTSTAMP:20250616T170213Z
END:VEVENT
END:VCALENDAR
