BEGIN:VCALENDAR
CALSCALE:GREGORIAN
METHOD:PUBLISH
PRODID:-//github.com/ical-org/ical.net//NONSGML ical.net 4.0//EN
VERSION:2.0
X-WR-TIMEZONE:US/Eastern
BEGIN:VEVENT
CATEGORIES:Adult
CATEGORIES:Aging
CATEGORIES:Boards & Commissions
CATEGORIES:City Council
CATEGORIES:DCHS
CATEGORIES:Seniors
DESCRIPTION:To verify info please see https://apps.alexandriava.gov/Calend
 arTest/Detail.aspx?si=57948\n\nHybrid meeting: In-person at DASH Headquar
 ters or virtually: https://zoom.us/j/97262502330\nMeeting ID: 972 6250 23
 30\nPassword: 968693\nPhone In number: +1 301 715 8592  \n\n\nLocation: D
 ASH Facility\nContact Person: Ashley Johnson\nContact Phone: 703.746.3389
 \nContact Email: ashley.johnson@alexandriava.gov\nAudience: Anyone may at
 tend\nTags: Adult\, Aging\, Boards & Commissions\, City Council\, DCHS\, 
 Seniors
DTEND:20241114T230000Z
DTSTAMP:20241108T205710Z
DTSTART:20241114T213000Z
LOCATION:DASH Facility
SEQUENCE:7
STATUS:CONFIRMED
SUMMARY:Commission on Aging
TRANSP:TRANSPARENT
UID:91c8f320-3ca9-4e8f-a92f-6185786a1c6d
X-ALT-DESC;FMTTYPE=text/html:To verify info please see <a href="https://ap
 ps.alexandriava.gov/CalendarTest/Detail.aspx?si=57948">https://apps.alexa
 ndriava.gov/CalendarTest/Detail.aspx?si=57948</a><br />\n<br />Hybrid mee
 ting: In-person at DASH Headquarters or virtually: https://zoom.us/j/9726
 2502330\n<br />Meeting ID: 972 6250 2330\n<br />Password: 968693\n<br />P
 hone In number: +1 301 715 8592  \n<br />\n<br />\n<br />Location: DASH F
 acility\n<br />Contact Person: Ashley Johnson\n<br />Contact Phone: 703.7
 46.3389\n<br />Contact Email: ashley.johnson@alexandriava.gov\n<br />Audi
 ence: Anyone may attend\n<br />Tags: Adult\, Aging\, Boards &amp\; Commis
 sions\, City Council\, DCHS\, Seniors
X-COA-DTSTAMP:20241108T205710Z
END:VEVENT
END:VCALENDAR
