BEGIN:VCALENDAR
CALSCALE:GREGORIAN
METHOD:PUBLISH
PRODID:-//github.com/ical-org/ical.net//NONSGML ical.net 4.0//EN
VERSION:2.0
X-WR-TIMEZONE:US/Eastern
BEGIN:VEVENT
CATEGORIES:COVID-19 Vaccination Clinic
DESCRIPTION:To verify info please see https://apps.alexandriava.gov/Calend
 arTest/Detail.aspx?si=38410\n\nHours: 3:00pm - 8:00pm -- Location: US Pat
 ent & Trademark Office (550 Elizabeth Lane\, Alexandria VA 22314) -- Free
  parking onsite for clinic recipients\n\nLocation: USPTO\, 550 Elizabeth 
 Lane\, Alexandria VA 22314\nContact Phone: 703.746.4988\nAudience: Anyone
  may attend\nTags: COVID-19 Vaccination Clinic\n\nWeb resources:\n\nPfize
 r Vaccine - Ages 12+\, All Doses (including Boosters for 18+)\nhttps://va
 se.vdh.virginia.gov/vdhapps/f?p=535:205:::NO:205:P205_CLINIC_DETAILS_ID:2
 79079136596703672809884758178305564974\n\nModerna Vaccine - Ages 18+\, Bo
 osters & 3rd Doses\nhttps://vase.vdh.virginia.gov/vdhapps/f?p=535:205:::N
 O:205:P205_CLINIC_DETAILS_ID:279078842162606309010340362049525776467\n
DTEND:20211203T010000Z
DTSTAMP:20211129T213038Z
DTSTART:20211202T200000Z
GEO:38.801173;-77.063867
LOCATION:USPTO\, 550 Elizabeth Lane\, Alexandria VA 22314
SEQUENCE:5
STATUS:CONFIRMED
SUMMARY:COVID-19 Vaccine Clinic -- Alexandria Health Dept
TRANSP:OPAQUE
UID:5505fc6c-a28a-4e0d-a38e-fac8ed2a251f
URL:https://vase.vdh.virginia.gov/vdhapps/f?p=535:205:::NO:205:P205_CLINIC
 _DETAILS_ID:279079136596703672809884758178305564974
X-ALT-DESC;FMTTYPE=text/html:To verify info please see <a href="https://ap
 ps.alexandriava.gov/CalendarTest/Detail.aspx?si=38410">https://apps.alexa
 ndriava.gov/CalendarTest/Detail.aspx?si=38410</a><br />\n<br />Hours: 3:0
 0pm - 8:00pm -- Location: US Patent &amp\; Trademark Office (550 Elizabet
 h Lane\, Alexandria VA 22314) -- Free parking onsite for clinic recipient
 s\n<br />\n<br />Location: USPTO\, 550 Elizabeth Lane\, Alexandria VA 223
 14\n<br />Contact Phone: 703.746.4988\n<br />Audience: Anyone may attend\
 n<br />Tags: COVID-19 Vaccination Clinic<br>\n<a href="https://vase.vdh.v
 irginia.gov/vdhapps/f?p=535:205:::NO:205:P205_CLINIC_DETAILS_ID:279079136
 596703672809884758178305564974">Pfizer Vaccine - Ages 12+\, All Doses (in
 cluding Boosters for 18+)</a><br>\n<a href="https://vase.vdh.virginia.gov
 /vdhapps/f?p=535:205:::NO:205:P205_CLINIC_DETAILS_ID:27907884216260630901
 0340362049525776467">Moderna Vaccine - Ages 18+\, Boosters &amp\; 3rd Dos
 es</a><br>\n
X-COA-DTSTAMP:20211129T213038Z
END:VEVENT
END:VCALENDAR
