BEGIN:VCALENDAR
CALSCALE:GREGORIAN
METHOD:PUBLISH
PRODID:-//github.com/ical-org/ical.net//NONSGML ical.net 4.0//EN
VERSION:2.0
X-WR-TIMEZONE:US/Eastern
BEGIN:VEVENT
CATEGORIES:Boards & Commissions
CATEGORIES:Cablecast
CATEGORIES:Commission Meeting
CATEGORIES:Planning Boards and Commissions
CATEGORIES:Planning Commission
CATEGORIES:Planning Meeting
CATEGORIES:Public Hearing
CATEGORIES:Public Hearing Commissions
CATEGORIES:Webcast
DESCRIPTION:To verify info please see https://apps.alexandriava.gov/Calend
 arTest/Detail.aspx?si=35049\n\nA Public Hearing will be held by the Plann
 ing Commission on Tuesday\, May 3\, 2022 beginning at 7:00 p.m. in the Ci
 ty Hall Council Chamber\, on the second floor of City Hall\, 301 King Str
 eet\, Alexandria\, Virginia 22314. The hearing can also be viewed by the 
 public through the live broadcast on the government Channel 70 and stream
 ing on the City's website. Remote participation is available via Zoom by 
 registering to attend the hearing via the following registration link:\n\
 nPlanning Commission Public Hearing:\n\nThe Webinar will open at 6:30 p.m
 . to allow individuals to join. The Planning Commission Public Hearing wi
 ll begin at approximately 7:00 p.m.\n\nRegistration Link: https://zoom.us
 /webinar/register/WN_1iTDjhMMRUaWQvMeQYkREQ\n\nZoom Audio Conference:\nDi
 al in: 301-715-8592\nWebinar ID: 979 4582 7225\nPassword: 538414\n\nPubli
 c comment will be received at the meeting. The public may submit comments
  in advance to Planning & Zoning staff at PlanComm@alexandriava.gov or ma
 ke public comments on the day of the Planning Commission hearing\n\nFor r
 easonable disability accommodation for the Planning Commission hearing\, 
 contact Jackie Cato at jackie.cato@alexandriava.gov or 703.746.3810\, Vir
 ginia Relay 711. We request that you provide a 48-hour notice so that the
  proper arrangements may be made.\n\nLocation: City Hall\, Council Chambe
 r\, 301 King St.\nContact Person: Nancy Williams\nContact Phone: 703.746.
 3858\nContact Email: Nancy.Williams@alexandriava.gov\nAudience: Anyone ma
 y attend\nTags: Boards & Commissions\, Cablecast\, Commission Meeting\, P
 lanning Boards and Commissions\, Planning Commission\, Planning Meeting\,
  Public Hearing\, Public Hearing Commissions\, Webcast
DTEND:20220504T035500Z
DTSTAMP:20220422T145456Z
DTSTART:20220503T230000Z
GEO:38.805393;-77.043273
LOCATION:City Hall\, Council Chamber\, 301 King St.
SEQUENCE:6
STATUS:CONFIRMED
SUMMARY:Planning Commission Regular Monthly Meeting
TRANSP:OPAQUE
UID:cdcaf91e-d957-48b3-8477-1cc67a8a712b
X-ALT-DESC;FMTTYPE=text/html:To verify info please see <a href="https://ap
 ps.alexandriava.gov/CalendarTest/Detail.aspx?si=35049">https://apps.alexa
 ndriava.gov/CalendarTest/Detail.aspx?si=35049</a><br />\n<br />A Public H
 earing will be held by the Planning Commission on Tuesday\, May 3\, 2022 
 beginning at 7:00 p.m. in the City Hall Council Chamber\, on the second f
 loor of City Hall\, 301 King Street\, Alexandria\, Virginia 22314. The he
 aring can also be viewed by the public through the live broadcast on the 
 government Channel 70 and streaming on the City&#39\;s website. Remote pa
 rticipation is available via Zoom by registering to attend the hearing vi
 a the following registration link:\n<br />\n<br />Planning Commission Pub
 lic Hearing:\n<br />\n<br />The Webinar will open at 6:30 p.m. to allow i
 ndividuals to join. The Planning Commission Public Hearing will begin at 
 approximately 7:00 p.m.\n<br />\n<br />Registration Link: https://zoom.us
 /webinar/register/WN_1iTDjhMMRUaWQvMeQYkREQ\n<br />\n<br />Zoom Audio Con
 ference:\n<br />Dial in: 301-715-8592\n<br />Webinar ID: 979 4582 7225\n<
 br />Password: 538414\n<br />\n<br />Public comment will be received at t
 he meeting. The public may submit comments in advance to Planning &amp\; 
 Zoning staff at PlanComm@alexandriava.gov or make public comments on the 
 day of the Planning Commission hearing\n<br />\n<br />For reasonable disa
 bility accommodation for the Planning Commission hearing\, contact Jackie
  Cato at jackie.cato@alexandriava.gov or 703.746.3810\, Virginia Relay 71
 1. We request that you provide a 48-hour notice so that the proper arrang
 ements may be made.\n<br />\n<br />Location: City Hall\, Council Chamber\
 , 301 King St.\n<br />Contact Person: Nancy Williams\n<br />Contact Phone
 : 703.746.3858\n<br />Contact Email: Nancy.Williams@alexandriava.gov\n<br
  />Audience: Anyone may attend\n<br />Tags: Boards &amp\; Commissions\, C
 ablecast\, Commission Meeting\, Planning Boards and Commissions\, Plannin
 g Commission\, Planning Meeting\, Public Hearing\, Public Hearing Commiss
 ions\, Webcast
X-COA-DTSTAMP:20220422T145456Z
END:VEVENT
END:VCALENDAR
