BEGIN:VCALENDAR
CALSCALE:GREGORIAN
METHOD:PUBLISH
PRODID:-//github.com/ical-org/ical.net//NONSGML ical.net 4.0//EN
VERSION:2.0
X-WR-TIMEZONE:US/Eastern
BEGIN:VEVENT
CATEGORIES:Boards & Commissions
CATEGORIES:Commission Meeting
CATEGORIES:Employment
CATEGORIES:West End
DESCRIPTION:To verify info please see https://apps.alexandriava.gov/Calend
 arTest/Detail.aspx?si=33338\n\nDue to the COVID-19 pandemic emergency\, t
 he October 13\, 2020 Alexandria Commission on Employment Regular Meeting 
 is being held electronically pursuant to Virginia Code Section 2.2-3708.2
 (A)(3)\, the Continuity of Government ordinance adopted by City Council o
 n June 20\, 2020\, and/or Section 4.0-00(g) in HB29 and HB30 to undertake
  essential business. Board members and City staff are participating from 
 remote locations through a video conference call on Zoom. \n\nAfter regis
 tering\, you will receive a confirmation email containing information abo
 ut joining the meeting.  We look forward to seeing you. \n\n\nLocation:  
 Virtual Only\nContact Person: Daniel Mekibib\nContact Phone: 703.746.5875
 \nContact Email: daniel.mekibib@alexandriava.gov\nAudience: Anyone may at
 tend\nTags: Boards & Commissions\, Commission Meeting\, Employment\, West
  End
DTEND:20201013T133000Z
DTSTAMP:20201007T130342Z
DTSTART:20201013T120000Z
LOCATION: Virtual Only
SEQUENCE:18
STATUS:CONFIRMED
SUMMARY:VIRTUAL: Alexandria Commission on Employment (ACE)
TRANSP:OPAQUE
UID:f0ada3e1-4e74-4826-ae6d-ab4e06a130c0
X-ALT-DESC;FMTTYPE=text/html:To verify info please see <a href="https://ap
 ps.alexandriava.gov/CalendarTest/Detail.aspx?si=33338">https://apps.alexa
 ndriava.gov/CalendarTest/Detail.aspx?si=33338</a><br />\n<br />Due to the
  COVID-19 pandemic emergency\, the October 13\, 2020 Alexandria Commissio
 n on Employment Regular Meeting is being held electronically pursuant to 
 Virginia Code Section 2.2-3708.2(A)(3)\, the Continuity of Government ord
 inance adopted by City Council on June 20\, 2020\, and/or Section 4.0-00(
 g) in HB29 and HB30 to undertake essential business. Board members and Ci
 ty staff are participating from remote locations through a video conferen
 ce call on Zoom. \n<br />\n<br />After registering\, you will receive a c
 onfirmation email containing information about joining the meeting.  We l
 ook forward to seeing you. \n<br />\n<br />\n<br />Location:  Virtual Onl
 y\n<br />Contact Person: Daniel Mekibib\n<br />Contact Phone: 703.746.587
 5\n<br />Contact Email: daniel.mekibib@alexandriava.gov\n<br />Audience: 
 Anyone may attend\n<br />Tags: Boards &amp\; Commissions\, Commission Mee
 ting\, Employment\, West End
X-COA-DTSTAMP:20201007T130342Z
END:VEVENT
END:VCALENDAR
