BEGIN:VCALENDAR
CALSCALE:GREGORIAN
METHOD:PUBLISH
PRODID:-//github.com/ical-org/ical.net//NONSGML ical.net 4.0//EN
VERSION:2.0
X-WR-TIMEZONE:US/Eastern
BEGIN:VEVENT
CATEGORIES:Arts
CATEGORIES:Family
CATEGORIES:Holiday Event
CATEGORIES:King St. Metro
CATEGORIES:King Street
CATEGORIES:Marina
CATEGORIES:Museums
CATEGORIES:Old & Historic Alexandria
CATEGORIES:Old Town
CATEGORIES:Performing Arts
CATEGORIES:Recreation
CATEGORIES:Teens
CATEGORIES:Torpedo Factory Art Center
CATEGORIES:Tourism
CATEGORIES:Visual Arts
CATEGORIES:Waterfront
DESCRIPTION:To verify info please see https://apps.alexandriava.gov/Calend
 arTest/Detail.aspx?si=29458\n\nEvery year\, the region shakes off winter 
 with the arrival of the world-famous pink and white cherry blossoms. Torp
 edo Factory Art Center hosts an Alexandria satellite celebration for the 
 National Cherry Blossom Festival. Join the fun with a lively afternoon of
  hands-on activities\, performances\, and inspired works of art to shop a
 nd explore from all three floors.\n\nLocation: Torpedo Factory\, 105 N. U
 nion St.\nContact Phone: 703.746.4570\nContact Email: torpedofactory@alex
 andriava.gov\nAudience: Anyone may attend\nTags: Arts\, Family\, Holiday 
 Event\, King St. Metro\, King Street\, Marina\, Museums\, Old & Historic 
 Alexandria\, Old Town\, Performing Arts\, Recreation\, Teens\, Torpedo Fa
 ctory Art Center\, Tourism\, Visual Arts\, Waterfront\n\nWeb resources:\n
 \nhttp://torpedofactory.org/event/cherry-blossom-jubilee/\n
DTEND:20200328T210000Z
DTSTAMP:20200326T182340Z
DTSTART:20200328T160000Z
GEO:38.804902;-77.040017
LOCATION:Torpedo Factory\, 105 N. Union St.
SEQUENCE:6
STATUS:CANCELLED
SUMMARY:CANCELLED: Cherry Blossom Jubilee
TRANSP:TRANSPARENT
UID:37d4ed18-9cbc-49df-b8a8-c09f8a3098c5
URL:http://torpedofactory.org/event/cherry-blossom-jubilee/
X-ALT-DESC;FMTTYPE=text/html:To verify info please see <a href="https://ap
 ps.alexandriava.gov/CalendarTest/Detail.aspx?si=29458">https://apps.alexa
 ndriava.gov/CalendarTest/Detail.aspx?si=29458</a><br />\n<br />Every year
 \, the region shakes off winter with the arrival of the world-famous pink
  and white cherry blossoms. Torpedo Factory Art Center hosts an Alexandri
 a satellite celebration for the National Cherry Blossom Festival. Join th
 e fun with a lively afternoon of hands-on activities\, performances\, and
  inspired works of art to shop and explore from all three floors.\n<br />
 \n<br />Location: Torpedo Factory\, 105 N. Union St.\n<br />Contact Phone
 : 703.746.4570\n<br />Contact Email: torpedofactory@alexandriava.gov\n<br
  />Audience: Anyone may attend\n<br />Tags: Arts\, Family\, Holiday Event
 \, King St. Metro\, King Street\, Marina\, Museums\, Old &amp\; Historic 
 Alexandria\, Old Town\, Performing Arts\, Recreation\, Teens\, Torpedo Fa
 ctory Art Center\, Tourism\, Visual Arts\, Waterfront<br>\n<a href="http:
 //torpedofactory.org/event/cherry-blossom-jubilee/">http://torpedofactory
 .org/event/cherry-blossom-jubilee/</a><br>\n
X-COA-DTSTAMP:20200326T182340Z
END:VEVENT
END:VCALENDAR
