BEGIN:VCALENDAR
CALSCALE:GREGORIAN
METHOD:PUBLISH
PRODID:-//github.com/ical-org/ical.net//NONSGML ical.net 4.0//EN
VERSION:2.0
X-WR-TIMEZONE:US/Eastern
BEGIN:VEVENT
CATEGORIES:Arts
CATEGORIES:Gallery
CATEGORIES:Office of the Arts
CATEGORIES:Old Town
CATEGORIES:Torpedo Factory Art Center
CATEGORIES:Visual Arts
CATEGORIES:Waterfront
DESCRIPTION:To verify info please see https://apps.alexandriava.gov/Calend
 arTest/Detail.aspx?si=62575\n\nEveryone is invited to join us for the unv
 eiling of the winning artwork for the America 250 City Art on Wednesday\,
  April 22 at 7:00 p.m. at the Torpedo Factory Art Center where all of the
  submitted artwork will be on display.\nLast month the City of Alexandria
  announced its participation in this nationwide celebration of the 250th 
 anniversary of the United States in 2026 sponsored by the U.S. Conference
  of Mayors (USCM) and the National Endowment for the Arts. Artists from t
 hroughout Alexandria created artwork that reflects civic pride\, historic
 al connection\, and optimism for the future.\nEveryone is invited to join
  us for the unveiling of the winning artwork for the America 250 City Art
  on Wednesday\, April 22 at 6:30 p.m. at the Torpedo Factory Art Center w
 here all of the submitted artwork will be on display.\nLast month the Cit
 y of Alexandria announced it's participation in this nationwide celebrati
 on of the 250th anniversary of the United States in 2026 sponsored by the
  U.S. Conference of Mayors (USCM) and the National Endowment for the Arts
 . Artists from throughout Alexandria created artwork that reflects civic 
 pride\, historical connection\, and optimism for the future.\nOne poster 
 will be selected by Mayor Gaskins to represent the City of Alexandria and
  will be showcased at the USCM 94th Annual Meeting in Long Beach\, Califo
 rnia\, from June 4-7\, 2026. Additionally\, the winning artwork will be i
 ncluded in an official national digital publication and commemorated as p
 art of the local city's celebration.\n\n\nLocation: Torpedo Factory\, 105
  N. Union St.\nContact Person: Diane Ruggiero\nContact Phone: 703.746.559
 0\nContact Email: diane.ruggiero@alexandriava.gov\nAudience: The same as 
 NULL value.\nTags: Arts\, Gallery \, Office of the Arts\, Old Town\, Torp
 edo Factory Art Center\, Visual Arts\, Waterfront\n\nWeb resources:\n\nUS
 MC 250 Poster Contest\nhttps://www.alexandriava.gov/arts/us-mayors-250-po
 ster-contest\n
DTEND:20260423T003000Z
DTSTAMP:20260414T220114Z
DTSTART:20260422T223000Z
GEO:38.804902;-77.040017
LOCATION:Torpedo Factory\, 105 N. Union St.
SEQUENCE:5
STATUS:CONFIRMED
SUMMARY:America250 Poster Contest Unveiling
TRANSP:TRANSPARENT
UID:a9a0041d-f843-4fec-b45a-55e0dfb69715
URL:https://www.alexandriava.gov/arts/us-mayors-250-poster-contest
X-ALT-DESC;FMTTYPE=text/html:To verify info please see <a href="https://ap
 ps.alexandriava.gov/CalendarTest/Detail.aspx?si=62575">https://apps.alexa
 ndriava.gov/CalendarTest/Detail.aspx?si=62575</a><br />\n<br />Everyone i
 s invited to join us for the unveiling of the winning artwork for the Ame
 rica 250 City Art on Wednesday\, April 22 at 7:00 p.m. at the Torpedo Fac
 tory Art Center where all of the submitted artwork will be on display.\n<
 br />Last month the City of Alexandria announced its participation in thi
 s nationwide celebration of the 250th anniversary of the United States in
  2026 sponsored by the U.S. Conference of Mayors (USCM) and the National 
 Endowment for the Arts. Artists from throughout Alexandria created artwor
 k that reflects civic pride\, historical connection\, and optimism for th
 e future.\n<br />Everyone is invited to join us for the unveiling of the 
 winning artwork for the America 250 City Art on Wednesday\, April 22 at 6
 :30 p.m. at the Torpedo Factory Art Center where all of the submitted art
 work will be on display.\n<br />Last month the City of Alexandria announc
 ed it?s participation in this nationwide celebration of the 250th anniver
 sary of the United States in 2026 sponsored by the U.S. Conference of May
 ors (USCM) and the National Endowment for the Arts. Artists from througho
 ut Alexandria created artwork that reflects civic pride\, historical conn
 ection\, and optimism for the future.\n<br />One poster will be selected 
 by Mayor Gaskins to represent the City of Alexandria and will be showcase
 d at the USCM 94th Annual Meeting in Long Beach\, California\, from June 
 4?7\, 2026. Additionally\, the winning artwork will be included in an off
 icial national digital publication and commemorated as part of the local 
 city&#39\;s celebration.\n<br />\n<br />\n<br />Location: Torpedo Factory
 \, 105 N. Union St.\n<br />Contact Person: Diane Ruggiero\n<br />Contact 
 Phone: 703.746.5590\n<br />Contact Email: diane.ruggiero@alexandriava.gov
 \n<br />Audience: The same as NULL value.\n<br />Tags: Arts\, Gallery \, 
 Office of the Arts\, Old Town\, Torpedo Factory Art Center\, Visual Arts\
 , Waterfront<br>\n<a href="https://www.alexandriava.gov/arts/us-mayors-25
 0-poster-contest">USMC 250 Poster Contest</a><br>\n
X-COA-DTSTAMP:20260414T220114Z
END:VEVENT
END:VCALENDAR
