BEGIN:VCALENDAR
CALSCALE:GREGORIAN
METHOD:PUBLISH
PRODID:-//github.com/ical-org/ical.net//NONSGML ical.net 4.0//EN
VERSION:2.0
X-WR-TIMEZONE:US/Eastern
BEGIN:VEVENT
CATEGORIES:Boards & Commissions
CATEGORIES:Museums
CATEGORIES:Parade
DESCRIPTION:Imported on Apr 19\, 2026\, 1 day before the event.\nTo verify
  info please see https://apps.alexandriava.gov/CalendarTest/Detail.aspx?s
 i=62516\n\nA meeting of the George Washington Birthday Celebration Commit
 tee (GWBCC). \n\nLocation: Lloyd House\, 220 N. Washington St.\nAudience:
  Anyone may attend\nTags: Boards & Commissions\, Museums\, Parade\n\nWeb 
 resources:\n\nMeeting Agenda\nhttps://www.alexandriava.gov/sites/default/
 files/2026-04/GWBCCAgenda20260420.pdf\n
DTEND:20260421T010000Z
DTSTAMP:20260417T010204Z
DTSTART:20260420T230000Z
GEO:38.807209;-77.046797
LOCATION:Lloyd House\, 220 N. Washington St.
SEQUENCE:5
STATUS:CONFIRMED
SUMMARY:George Washington Birthday Celebration Committee
TRANSP:OPAQUE
UID:dbccdc66-8857-4878-859b-1701a6c12b62
URL:https://www.alexandriava.gov/sites/default/files/2026-04/GWBCCAgenda20
 260420.pdf
X-ALT-DESC;FMTTYPE=text/html:Imported on Apr 19\, 2026\, 1 day before the 
 event.<br />To verify info please see <a href="https://apps.alexandriava.
 gov/CalendarTest/Detail.aspx?si=62516">https://apps.alexandriava.gov/Cale
 ndarTest/Detail.aspx?si=62516</a><br />\n<br />A meeting of the George Wa
 shington Birthday Celebration Committee (GWBCC). \n<br />\n<br />Location
 : Lloyd House\, 220 N. Washington St.\n<br />Audience: Anyone may attend\
 n<br />Tags: Boards &amp\; Commissions\, Museums\, Parade<br>\n<a href="h
 ttps://www.alexandriava.gov/sites/default/files/2026-04/GWBCCAgenda202604
 20.pdf">Meeting Agenda</a><br>\n
X-COA-DTSTAMP:20260417T010204Z
BEGIN:VALARM
ACTION:DISPLAY
DESCRIPTION:George Washington Birthday Celebration Committee: Please visit
  website to confirm time\, location\, etc.
DURATION:PT30M
REPEAT:2
TRIGGER:-PT30M
END:VALARM
END:VEVENT
END:VCALENDAR
