BEGIN:VCALENDAR
CALSCALE:GREGORIAN
METHOD:PUBLISH
PRODID:-//github.com/ical-org/ical.net//NONSGML ical.net 4.0//EN
VERSION:2.0
X-WR-TIMEZONE:US/Eastern
BEGIN:VEVENT
CATEGORIES:Community Outreach
CATEGORIES:Exercise
CATEGORIES:Food
CATEGORIES:Parents
CATEGORIES:Recreation
CATEGORIES:Recreation Centers
CATEGORIES:Schools
CATEGORIES:Teens
CATEGORIES:Youth
DESCRIPTION:Imported on Apr 21\, 2026\, 4 days before the event.\nTo verif
 y info please see https://apps.alexandriava.gov/CalendarTest/Detail.aspx?
 si=62417\n\nAll Ages. This event is designed to bring people together and
  strengthen social connections among residents of Alexandria's West End\,
  while warmly welcoming Alexandrians\, guests\, and visitors from across 
 the city. Community members are encouraged to bring blankets\, tables\, c
 hairs\, food\, drinks\, family\, and friends for a relaxed afternoon of g
 athering\, socializing\, and fun in a welcoming\, community-centered atmo
 sphere.\n\nLocation: William Ramsay Recreation Center\, 5650 Sanger Ave.\
 nContact Person: Lucresha Murphy-Tate\nContact Phone: 703.746.5489\nConta
 ct Email: lucresha.murphytate@alexandriava.gov\nAudience: Anyone may atte
 nd\nTags: Community Outreach\, Exercise\, Food\, Parents\, Recreation\, R
 ecreation Centers\, Schools\, Teens\, Youth\n\nWeb resources:\n\nRPCA Web
 site\nhttps://www.alexandriava.gov/Recreation\nFind out more about the De
 partment of Recreation\, Parks & Cultural Activities (RPCA).\n\nRPCA Soci
 al Media\nhttps://www.alexandriava.gov/Recreation#ConnectwithUs\nFollow u
 s on Instagram\, Facebook\, & Twitter!\n
DTEND:20260425T200000Z
DTSTAMP:20260312T181542Z
DTSTART:20260425T160000Z
GEO:38.826896;-77.130203
LOCATION:William Ramsay Recreation Center\, 5650 Sanger Ave.
SEQUENCE:7
STATUS:CONFIRMED
SUMMARY:Le Brunch en Bleu
TRANSP:TRANSPARENT
UID:fbe8b5b9-c540-474a-b1ae-b42ae82b7e30
URL:https://www.alexandriava.gov/Recreation
X-ALT-DESC;FMTTYPE=text/html:Imported on Apr 21\, 2026\, 4 days before the
  event.<br />To verify info please see <a href="https://apps.alexandriava
 .gov/CalendarTest/Detail.aspx?si=62417">https://apps.alexandriava.gov/Cal
 endarTest/Detail.aspx?si=62417</a><br />\n<br />All Ages. This event is d
 esigned to bring people together and strengthen social connections among 
 residents of Alexandria?s West End\, while warmly welcoming Alexandrians\
 , guests\, and visitors from across the city. Community members are encou
 raged to bring blankets\, tables\, chairs\, food\, drinks\, family\, and 
 friends for a relaxed afternoon of gathering\, socializing\, and fun in a
  welcoming\, community-centered atmosphere.\n<br />\n<br />Location: Will
 iam Ramsay Recreation Center\, 5650 Sanger Ave.\n<br />Contact Person: Lu
 cresha Murphy-Tate\n<br />Contact Phone: 703.746.5489\n<br />Contact Emai
 l: lucresha.murphytate@alexandriava.gov\n<br />Audience: Anyone may atten
 d\n<br />Tags: Community Outreach\, Exercise\, Food\, Parents\, Recreatio
 n\, Recreation Centers\, Schools\, Teens\, Youth<br>\n<a href="https://ww
 w.alexandriava.gov/Recreation">RPCA Website</a><br>\nFind out more about 
 the Department of Recreation\, Parks &amp\; Cultural Activities (RPCA).<b
 r>\n<a href="https://www.alexandriava.gov/Recreation#ConnectwithUs">RPCA 
 Social Media</a><br>\nFollow us on Instagram\, Facebook\, &amp\; Twitter!
 <br>\n
X-COA-DTSTAMP:20260312T181542Z
END:VEVENT
BEGIN:VEVENT
CATEGORIES:America250
CATEGORIES:Food
CATEGORIES:Museums
CATEGORIES:Old & Historic Alexandria
CATEGORIES:Old Town
DESCRIPTION:Imported on Apr 21\, 2026\, 23 days before the event.\nTo veri
 fy info please see https://apps.alexandriava.gov/CalendarTest/Detail.aspx
 ?si=62253\n\nJoin us for Historic Happy Hours to learn more about the res
 earch taking place in Historic Alexandria. 10% of all checks will benefit
  Historic Alexandria and America250 events. This Happy Hour will be held 
 at O'Connell's Irish Pub\,112 King St\, Alexandria\, VA. \n\nLocation:  N
 o Location Specified\nAudience: The same as NULL value.\nTags: America250
 \, Food\, Museums\, Old & Historic Alexandria\, Old Town
DTEND:20260514T233000Z
DTSTAMP:20260220T150419Z
DTSTART:20260514T210000Z
SEQUENCE:6
STATUS:CONFIRMED
SUMMARY:Historic Happy Hours - O'Connell's Irish Pub
TRANSP:OPAQUE
UID:6a20bce6-1540-48bc-a670-84f70dda0dd6
X-ALT-DESC;FMTTYPE=text/html:Imported on Apr 21\, 2026\, 23 days before th
 e event.<br />To verify info please see <a href="https://apps.alexandriav
 a.gov/CalendarTest/Detail.aspx?si=62253">https://apps.alexandriava.gov/Ca
 lendarTest/Detail.aspx?si=62253</a><br />\n<br />Join us for Historic Hap
 py Hours to learn more about the research taking place in Historic Alexan
 dria. 10% of all checks will benefit Historic Alexandria and America250 e
 vents. This Happy Hour will be held at O&#39\;Connell&#39\;s Irish Pub\,1
 12 King St\, Alexandria\, VA. \n<br />\n<br />Location:  No Location Spec
 ified\n<br />Audience: The same as NULL value.\n<br />Tags: America250\, 
 Food\, Museums\, Old &amp\; Historic Alexandria\, Old Town
X-COA-DTSTAMP:20260220T150419Z
BEGIN:VALARM
ACTION:DISPLAY
DESCRIPTION:Historic Happy Hours - O'Connell's Irish Pub: Please visit web
 site to confirm time\, location\, etc.
DURATION:PT30M
REPEAT:2
TRIGGER:-PT30M
END:VALARM
END:VEVENT
BEGIN:VEVENT
CATEGORIES:Awareness Month
CATEGORIES:Community Event
CATEGORIES:Community Outreach
CATEGORIES:Food
CATEGORIES:Parents
CATEGORIES:Recreation
CATEGORIES:Recreation Centers
CATEGORIES:Teens
CATEGORIES:Toddlers
CATEGORIES:Youth
DESCRIPTION:Imported on Apr 21\, 2026\, 39 days before the event.\nTo veri
 fy info please see https://apps.alexandriava.gov/CalendarTest/Detail.aspx
 ?si=62424\n\nCelebrate Asian American and Pacific Islander cultures throu
 gh food\, music\, performances\, art\, and community storytelling. This f
 amily-friendly event features local vendors\, live entertainment\, cultur
 al demonstrations\, youth activities\, and resources highlighting the div
 ersity\, history\, and contributions of AAPI communities. All are welcome
  to connect\, learn\, and celebrate together with neighbors present.\n\nL
 ocation: Patrick Henry Recreation Center\, 4653 Taney Ave.\nContact Perso
 n: Gladstone Harriott\nContact Phone: 703.746.5557\nContact Email: gladst
 one.harriott@alexandriava.gov\nAudience: Anyone may attend\nTags: Awarene
 ss Month\, Community Event\, Community Outreach\, Food\, Parents\, Recrea
 tion\, Recreation Centers\, Teens\, Toddlers\, Youth\n\nWeb resources:\n\
 nRSVP here\nhttps://vaalexandriaweb.myvscloud.com/webtrac/web/iteminfo.ht
 ml?Module=AR&FMID=80418249\nLearn more about RPCA's FREE event at Patrick
  Henry Recreation Center!\n\nRPCA Website\nhttps://www.alexandriava.gov/R
 ecreation\nFind out more about the Department of Recreation\, Parks & Cul
 tural Activities (RPCA).\n\nRPCA Social Media\nhttps://www.alexandriava.g
 ov/Recreation#ConnectwithUs\nFollow us on Instagram\, Facebook\, & Twitte
 r!\n
DTEND:20260530T230000Z
DTSTAMP:20260312T183212Z
DTSTART:20260530T190000Z
GEO:38.816255;-77.111492
LOCATION:Patrick Henry Recreation Center\, 4653 Taney Ave.
SEQUENCE:4
STATUS:CONFIRMED
SUMMARY:Asian American Pacific Islander Month Celebration
TRANSP:TRANSPARENT
UID:4b40de12-e5e8-4d94-864a-7e7a8250de9c
URL:https://vaalexandriaweb.myvscloud.com/webtrac/web/iteminfo.html?Module
 =AR&FMID=80418249
X-ALT-DESC;FMTTYPE=text/html:Imported on Apr 21\, 2026\, 39 days before th
 e event.<br />To verify info please see <a href="https://apps.alexandriav
 a.gov/CalendarTest/Detail.aspx?si=62424">https://apps.alexandriava.gov/Ca
 lendarTest/Detail.aspx?si=62424</a><br />\n<br />Celebrate Asian American
  and Pacific Islander cultures through food\, music\, performances\, art\
 , and community storytelling. This family-friendly event features local v
 endors\, live entertainment\, cultural demonstrations\, youth activities\
 , and resources highlighting the diversity\, history\, and contributions 
 of AAPI communities. All are welcome to connect\, learn\, and celebrate t
 ogether with neighbors present.\n<br />\n<br />Location: Patrick Henry Re
 creation Center\, 4653 Taney Ave.\n<br />Contact Person: Gladstone Harrio
 tt\n<br />Contact Phone: 703.746.5557\n<br />Contact Email: gladstone.har
 riott@alexandriava.gov\n<br />Audience: Anyone may attend\n<br />Tags: Aw
 areness Month\, Community Event\, Community Outreach\, Food\, Parents\, R
 ecreation\, Recreation Centers\, Teens\, Toddlers\, Youth<br>\n<a href="h
 ttps://vaalexandriaweb.myvscloud.com/webtrac/web/iteminfo.html?Module=AR&
 amp\;FMID=80418249">RSVP here</a><br>\nLearn more about RPCA&#39\;s FREE 
 event at Patrick Henry Recreation Center!<br>\n<a href="https://www.alexa
 ndriava.gov/Recreation">RPCA Website</a><br>\nFind out more about the Dep
 artment of Recreation\, Parks &amp\; Cultural Activities (RPCA).<br>\n<a 
 href="https://www.alexandriava.gov/Recreation#ConnectwithUs">RPCA Social 
 Media</a><br>\nFollow us on Instagram\, Facebook\, &amp\; Twitter!<br>\n
X-COA-DTSTAMP:20260312T183212Z
END:VEVENT
BEGIN:VEVENT
CATEGORIES:America250
CATEGORIES:Food
CATEGORIES:Museums
CATEGORIES:Old & Historic Alexandria
CATEGORIES:Old Town
DESCRIPTION:Imported on Apr 21\, 2026\, 51 days before the event.\nTo veri
 fy info please see https://apps.alexandriava.gov/CalendarTest/Detail.aspx
 ?si=62254\n\nJoin us for Historic Happy Hours to learn more about the res
 earch taking place in Historic Alexandria. 10% of all checks will benefit
  Historic Alexandria and America250 events. This Happy Hour will be held 
 at The Wharf\,119 King St\, Alexandria\, VA. \n\nLocation:  No Location S
 pecified\nAudience: The same as NULL value.\nTags: America250\, Food\, Mu
 seums\, Old & Historic Alexandria\, Old Town
DTEND:20260611T233000Z
DTSTAMP:20260220T150547Z
DTSTART:20260611T210000Z
SEQUENCE:6
STATUS:CONFIRMED
SUMMARY:Historic Happy Hours - The Wharf
TRANSP:OPAQUE
UID:3d1df2b7-3a25-4554-9adb-f67d01842b50
X-ALT-DESC;FMTTYPE=text/html:Imported on Apr 21\, 2026\, 51 days before th
 e event.<br />To verify info please see <a href="https://apps.alexandriav
 a.gov/CalendarTest/Detail.aspx?si=62254">https://apps.alexandriava.gov/Ca
 lendarTest/Detail.aspx?si=62254</a><br />\n<br />Join us for Historic Hap
 py Hours to learn more about the research taking place in Historic Alexan
 dria. 10% of all checks will benefit Historic Alexandria and America250 e
 vents. This Happy Hour will be held at The Wharf\,119 King St\, Alexandri
 a\, VA. \n<br />\n<br />Location:  No Location Specified\n<br />Audience:
  The same as NULL value.\n<br />Tags: America250\, Food\, Museums\, Old &
 amp\; Historic Alexandria\, Old Town
X-COA-DTSTAMP:20260220T150547Z
BEGIN:VALARM
ACTION:DISPLAY
DESCRIPTION:Historic Happy Hours - The Wharf: Please visit website to conf
 irm time\, location\, etc.
DURATION:PT30M
REPEAT:2
TRIGGER:-PT30M
END:VALARM
END:VEVENT
BEGIN:VEVENT
CATEGORIES:Community Outreach
CATEGORIES:Exercise
CATEGORIES:Food
CATEGORIES:Parents
CATEGORIES:Recreation
CATEGORIES:Recreation Centers
CATEGORIES:Schools
CATEGORIES:Teens
CATEGORIES:Youth
DESCRIPTION:Imported on Apr 21\, 2026\, 67 days before the event.\nTo veri
 fy info please see https://apps.alexandriava.gov/CalendarTest/Detail.aspx
 ?si=62418\n\nAges 18+. Enjoy an evening of music and community at our Liv
 e Concert Series\, featuring a rotating lineup of talented folk\, cover\,
  and mariachi bands. Hosted indoors or outdoors\, this series offers a re
 laxed\, family-friendly atmosphere where residents can unwind\, connect w
 ith neighbors\, and enjoy diverse musical styles. From acoustic folk favo
 rites and crowd-pleasing covers to the vibrant sounds of traditional mari
 achi\, concert delivers a unique cultural experience.\n\nLocation: Willia
 m Ramsay Recreation Center\, 5650 Sanger Ave.\nContact Person: Lucresha M
 urphy-Tate\nContact Phone: 703.746.5489\nContact Email: lucresha.murphyta
 te@alexandriava.gov\nAudience: Anyone may attend\nTags: Community Outreac
 h\, Exercise\, Food\, Parents\, Recreation\, Recreation Centers\, Schools
 \, Teens\, Youth\n\nWeb resources:\n\nRPCA Website\nhttps://www.alexandri
 ava.gov/Recreation\nFind out more about the Department of Recreation\, Pa
 rks & Cultural Activities (RPCA).\n\nRPCA Social Media\nhttps://www.alexa
 ndriava.gov/Recreation#ConnectwithUs\nFollow us on Instagram\, Facebook\,
  & Twitter!\n
DTEND:20260627T190000Z
DTSTAMP:20260312T181127Z
DTSTART:20260627T160000Z
GEO:38.826896;-77.130203
LOCATION:William Ramsay Recreation Center\, 5650 Sanger Ave.
SEQUENCE:6
STATUS:CONFIRMED
SUMMARY:Live on Top of the Hill Concert Series
TRANSP:TRANSPARENT
UID:95e75fce-b83e-4bd8-9e60-bbb8e037afdb
URL:https://www.alexandriava.gov/Recreation
X-ALT-DESC;FMTTYPE=text/html:Imported on Apr 21\, 2026\, 67 days before th
 e event.<br />To verify info please see <a href="https://apps.alexandriav
 a.gov/CalendarTest/Detail.aspx?si=62418">https://apps.alexandriava.gov/Ca
 lendarTest/Detail.aspx?si=62418</a><br />\n<br />Ages 18+. Enjoy an eveni
 ng of music and community at our Live Concert Series\, featuring a rotati
 ng lineup of talented folk\, cover\, and mariachi bands. Hosted indoors o
 r outdoors\, this series offers a relaxed\, family-friendly atmosphere wh
 ere residents can unwind\, connect with neighbors\, and enjoy diverse mus
 ical styles. From acoustic folk favorites and crowd-pleasing covers to th
 e vibrant sounds of traditional mariachi\, concert delivers a unique cult
 ural experience.\n<br />\n<br />Location: William Ramsay Recreation Cente
 r\, 5650 Sanger Ave.\n<br />Contact Person: Lucresha Murphy-Tate\n<br />C
 ontact Phone: 703.746.5489\n<br />Contact Email: lucresha.murphytate@alex
 andriava.gov\n<br />Audience: Anyone may attend\n<br />Tags: Community Ou
 treach\, Exercise\, Food\, Parents\, Recreation\, Recreation Centers\, Sc
 hools\, Teens\, Youth<br>\n<a href="https://www.alexandriava.gov/Recreati
 on">RPCA Website</a><br>\nFind out more about the Department of Recreatio
 n\, Parks &amp\; Cultural Activities (RPCA).<br>\n<a href="https://www.al
 exandriava.gov/Recreation#ConnectwithUs">RPCA Social Media</a><br>\nFollo
 w us on Instagram\, Facebook\, &amp\; Twitter!<br>\n
X-COA-DTSTAMP:20260312T181127Z
END:VEVENT
BEGIN:VEVENT
CATEGORIES:Community Outreach
CATEGORIES:Exercise
CATEGORIES:Food
CATEGORIES:Parents
CATEGORIES:Recreation
CATEGORIES:Recreation Centers
CATEGORIES:Schools
CATEGORIES:Teens
CATEGORIES:Youth
DESCRIPTION:Imported on Apr 21\, 2026\, 95 days before the event.\nTo veri
 fy info please see https://apps.alexandriava.gov/CalendarTest/Detail.aspx
 ?si=62419\n\nAges 18+. Enjoy an evening of music and community at our Liv
 e Concert Series\, featuring a rotating lineup of talented folk\, cover\,
  and mariachi bands. Hosted indoors or outdoors\, this series offers a re
 laxed\, family-friendly atmosphere where residents can unwind\, connect w
 ith neighbors\, and enjoy diverse musical styles. From acoustic folk favo
 rites and crowd-pleasing covers to the vibrant sounds of traditional mari
 achi\, concert delivers a unique cultural experience.\n\nLocation: Willia
 m Ramsay Recreation Center\, 5650 Sanger Ave.\nContact Person: Lucresha M
 urphy-Tate\nContact Phone: 703.746.5489\nContact Email: lucresha.murphyta
 te@alexandriava.gov\nAudience: Anyone may attend\nTags: Community Outreac
 h\, Exercise\, Food\, Parents\, Recreation\, Recreation Centers\, Schools
 \, Teens\, Youth\n\nWeb resources:\n\nRPCA Website\nhttps://www.alexandri
 ava.gov/Recreation\nFind out more about the Department of Recreation\, Pa
 rks & Cultural Activities (RPCA).\n\nRPCA Social Media\nhttps://www.alexa
 ndriava.gov/Recreation#ConnectwithUs\nFollow us on Instagram\, Facebook\,
  & Twitter!\n
DTEND:20260725T190000Z
DTSTAMP:20260312T181511Z
DTSTART:20260725T160000Z
GEO:38.826896;-77.130203
LOCATION:William Ramsay Recreation Center\, 5650 Sanger Ave.
SEQUENCE:4
STATUS:CONFIRMED
SUMMARY:Live on Top of the Hill Concert Series
TRANSP:TRANSPARENT
UID:418063e9-2eb3-4e32-84a9-fea675de91a5
URL:https://www.alexandriava.gov/Recreation
X-ALT-DESC;FMTTYPE=text/html:Imported on Apr 21\, 2026\, 95 days before th
 e event.<br />To verify info please see <a href="https://apps.alexandriav
 a.gov/CalendarTest/Detail.aspx?si=62419">https://apps.alexandriava.gov/Ca
 lendarTest/Detail.aspx?si=62419</a><br />\n<br />Ages 18+. Enjoy an eveni
 ng of music and community at our Live Concert Series\, featuring a rotati
 ng lineup of talented folk\, cover\, and mariachi bands. Hosted indoors o
 r outdoors\, this series offers a relaxed\, family-friendly atmosphere wh
 ere residents can unwind\, connect with neighbors\, and enjoy diverse mus
 ical styles. From acoustic folk favorites and crowd-pleasing covers to th
 e vibrant sounds of traditional mariachi\, concert delivers a unique cult
 ural experience.\n<br />\n<br />Location: William Ramsay Recreation Cente
 r\, 5650 Sanger Ave.\n<br />Contact Person: Lucresha Murphy-Tate\n<br />C
 ontact Phone: 703.746.5489\n<br />Contact Email: lucresha.murphytate@alex
 andriava.gov\n<br />Audience: Anyone may attend\n<br />Tags: Community Ou
 treach\, Exercise\, Food\, Parents\, Recreation\, Recreation Centers\, Sc
 hools\, Teens\, Youth<br>\n<a href="https://www.alexandriava.gov/Recreati
 on">RPCA Website</a><br>\nFind out more about the Department of Recreatio
 n\, Parks &amp\; Cultural Activities (RPCA).<br>\n<a href="https://www.al
 exandriava.gov/Recreation#ConnectwithUs">RPCA Social Media</a><br>\nFollo
 w us on Instagram\, Facebook\, &amp\; Twitter!<br>\n
X-COA-DTSTAMP:20260312T181511Z
END:VEVENT
BEGIN:VEVENT
CATEGORIES:Community Outreach
CATEGORIES:Exercise
CATEGORIES:Food
CATEGORIES:Parents
CATEGORIES:Recreation
CATEGORIES:Recreation Centers
CATEGORIES:Schools
CATEGORIES:Teens
CATEGORIES:Youth
DESCRIPTION:Imported on Apr 21\, 2026\, 101 days before the event.\nTo ver
 ify info please see https://apps.alexandriava.gov/CalendarTest/Detail.asp
 x?si=62420\n\nAges 18 & up. Participants will take part in light activiti
 es such as games\, conversation starters\, music\, and themed social nigh
 ts that encourage interaction\, friendship\, and community building. It's
  a great way to meet new people and enjoy a fun\, laid-back evening.\n\nL
 ocation: William Ramsay Recreation Center\, 5650 Sanger Ave.\nContact Per
 son: Lucresha Murphy-Tate\nContact Phone: 703.746.5489\nContact Email: lu
 cresha.murphytate@alexandriava.gov\nAudience: Anyone may attend\nTags: Co
 mmunity Outreach\, Exercise\, Food\, Parents\, Recreation\, Recreation Ce
 nters\, Schools\, Teens\, Youth\n\nWeb resources:\n\nRPCA Website\nhttps:
 //www.alexandriava.gov/Recreation\nFind out more about the Department of 
 Recreation\, Parks & Cultural Activities (RPCA).\n\nRPCA Social Media\nht
 tps://www.alexandriava.gov/Recreation#ConnectwithUs\nFollow us on Instagr
 am\, Facebook\, & Twitter!\n
DTEND:20260801T010000Z
DTSTAMP:20260312T181702Z
DTSTART:20260731T223000Z
GEO:38.826896;-77.130203
LOCATION:William Ramsay Recreation Center\, 5650 Sanger Ave.
SEQUENCE:4
STATUS:CONFIRMED
SUMMARY:Top of the Hill Adult Social
TRANSP:TRANSPARENT
UID:3f411911-7765-41f7-92fa-bd2c2e02909f
URL:https://www.alexandriava.gov/Recreation
X-ALT-DESC;FMTTYPE=text/html:Imported on Apr 21\, 2026\, 101 days before t
 he event.<br />To verify info please see <a href="https://apps.alexandria
 va.gov/CalendarTest/Detail.aspx?si=62420">https://apps.alexandriava.gov/C
 alendarTest/Detail.aspx?si=62420</a><br />\n<br />Ages 18 &amp\; up. Part
 icipants will take part in light activities such as games\, conversation 
 starters\, music\, and themed social nights that encourage interaction\, 
 friendship\, and community building. It?s a great way to meet new people 
 and enjoy a fun\, laid-back evening.\n<br />\n<br />Location: William Ram
 say Recreation Center\, 5650 Sanger Ave.\n<br />Contact Person: Lucresha 
 Murphy-Tate\n<br />Contact Phone: 703.746.5489\n<br />Contact Email: lucr
 esha.murphytate@alexandriava.gov\n<br />Audience: Anyone may attend\n<br 
 />Tags: Community Outreach\, Exercise\, Food\, Parents\, Recreation\, Rec
 reation Centers\, Schools\, Teens\, Youth<br>\n<a href="https://www.alexa
 ndriava.gov/Recreation">RPCA Website</a><br>\nFind out more about the Dep
 artment of Recreation\, Parks &amp\; Cultural Activities (RPCA).<br>\n<a 
 href="https://www.alexandriava.gov/Recreation#ConnectwithUs">RPCA Social 
 Media</a><br>\nFollow us on Instagram\, Facebook\, &amp\; Twitter!<br>\n
X-COA-DTSTAMP:20260312T181702Z
END:VEVENT
END:VCALENDAR
