BEGIN:VCALENDAR
CALSCALE:GREGORIAN
METHOD:PUBLISH
PRODID:-//github.com/ical-org/ical.net//NONSGML ical.net 4.0//EN
VERSION:2.0
X-WR-TIMEZONE:US/Eastern
BEGIN:VEVENT
CATEGORIES:Arts
CATEGORIES:Concerts
CATEGORIES:Lyceum
CATEGORIES:Museums
CATEGORIES:Old & Historic Alexandria
CATEGORIES:Old Town
CATEGORIES:Performing Arts
DESCRIPTION:Imported on Apr 24\, 2026\, 7 days before the event.\nTo verif
 y info please see https://apps.alexandriava.gov/CalendarTest/Detail.aspx?
 si=62534\n\nDylan Foley and Matt Mancuso are New York-based musicians who
  frequently collaborate in the Irish traditional music scene.  They are b
 oth accomplished fiddle players and have appeared on several albums and a
 t festivals together.  \n\nFoley is an award-winning fiddle player known 
 for his performances with musicians like Isaac Alderson. He and Alderson 
 released an album together in 2017 called The Palace Sessions\, which fea
 tured Matt Mancuso on trumpet. He is a frequent performer at Irish music 
 events and venues\, including past collaborations with Josh Dukes.  \n\nM
 ancuso is a talented multi-instrumentalist who plays both fiddle and trum
 pet. He is known for his daring and dynamic fiddle playing. He has perfor
 med in various bands and at numerous Irish music events.  \n\nFoley and M
 ancuso have regularly played together at live events in New York and othe
 r locations. The album "The Palace Sessions: (2017) features Isaac Alders
 on and Dylan Foley and includes Matt Mancuso on trumpet. Proceeds from th
 e record were donated to disaster relief. \n\nLocation: Lyceum\nFees: $30
 \; $15 ages 12-17\nAudience: The same as NULL value.\nTags: Arts\, Concer
 ts\, Lyceum\, Museums\, Old & Historic Alexandria\, Old Town\, Performing
  Arts\n\nWeb resources:\n\nPurchase Tickets online\nhttps://ticketstripe.
 com/Foley-Mancuso\n
DTEND:20260502T013000Z
DTSTAMP:20260403T224940Z
DTSTART:20260501T233000Z
LOCATION:Lyceum
SEQUENCE:4
STATUS:CONFIRMED
SUMMARY:Traditional Music Series Concert at The Lyceum
TRANSP:OPAQUE
UID:8dc00bf7-9f60-41cf-b525-37ea29dce02b
URL:https://ticketstripe.com/Foley-Mancuso
X-ALT-DESC;FMTTYPE=text/html:Imported on Apr 24\, 2026\, 7 days before the
  event.<br />To verify info please see <a href="https://apps.alexandriava
 .gov/CalendarTest/Detail.aspx?si=62534">https://apps.alexandriava.gov/Cal
 endarTest/Detail.aspx?si=62534</a><br />\n<br />Dylan Foley and Matt Manc
 uso are New York-based musicians who frequently collaborate in the Irish 
 traditional music scene.  They are both accomplished fiddle players and h
 ave appeared on several albums and at festivals together.  \n<br />\n<br 
 />Foley is an award-winning fiddle player known for his performances with
  musicians like Isaac Alderson. He and Alderson released an album togethe
 r in 2017 called The Palace Sessions\, which featured Matt Mancuso on tru
 mpet. He is a frequent performer at Irish music events and venues\, inclu
 ding past collaborations with Josh Dukes.  \n<br />\n<br />Mancuso is a t
 alented multi-instrumentalist who plays both fiddle and trumpet. He is kn
 own for his daring and dynamic fiddle playing. He has performed in variou
 s bands and at numerous Irish music events.  \n<br />\n<br />Foley and Ma
 ncuso have regularly played together at live events in New York and other
  locations. The album ?The Palace Sessions: (2017) features Isaac Alderso
 n and Dylan Foley and includes Matt Mancuso on trumpet. Proceeds from the
  record were donated to disaster relief. \n<br />\n<br />Location: Lyceum
 \n<br />Fees: $30\; $15 ages 12-17\n<br />Audience: The same as NULL valu
 e.\n<br />Tags: Arts\, Concerts\, Lyceum\, Museums\, Old &amp\; Historic 
 Alexandria\, Old Town\, Performing Arts<br>\n<a href="https://ticketstrip
 e.com/Foley-Mancuso">Purchase Tickets online</a><br>\n
X-COA-DTSTAMP:20260403T224940Z
BEGIN:VALARM
ACTION:DISPLAY
DESCRIPTION:Traditional Music Series Concert at The Lyceum: Please visit w
 ebsite to confirm time\, location\, etc.
DURATION:PT30M
REPEAT:2
TRIGGER:-PT30M
END:VALARM
END:VEVENT
BEGIN:VEVENT
CATEGORIES:Lyceum
CATEGORIES:Museums
CATEGORIES:Sister Cities
DESCRIPTION:Imported on Apr 24\, 2026\, 8 days before the event.\nTo verif
 y info please see https://apps.alexandriava.gov/CalendarTest/Detail.aspx?
 si=62498\n\nRaise a Glass to Culture and Camaraderie at the 2026 Alexandr
 ia Sister Cities' Whisky Tasting Event\n\nThe City of Alexandria's Sister
  Cities Committee invites whisky lovers and curious sippers alike to its 
 annual signature event-the 2026 Alexandria Sister Cities' Whisky Tasting\
 , held at the Alexandria History Museum at The Lyceum (201 South Washingt
 on Street) on Saturday\, May 2nd at 6 pm.\n\nGuests will enjoy a guided t
 asting across the whisky regions of Scotland\, gaining insights into the 
 craftsmanship and culture behind each pour. This informative program will
  help you learn all about the rich tapestry that is Scotch whisky\, enabl
 e you to sample five different whiskies from across Scotland\, and provid
 e an opportunity to ask questions and share personal insights.  VIP ticke
 t holders will receive two additional exclusive samples of rare whiskies.
  All attendees will take home a souvenir Glencairn glass\, perfect for co
 ntinuing their whisky journey.\n\nTickets are $75 for general admission a
 nd $100 for VIP\, with hors d'oeuvres included. Wine and non-alcoholic be
 verages will be available for non-whisky drinkers. A raffle will also be 
 held with prizes\, with tickets available for cash purchase at the event.
  \n\nMinimum age: 21.\n\nAll proceeds support the Alexandria Sister Citie
 s Committee and its mission to support the educational and cultural excha
 nges between Alexandria\, VA and her sister cities of Dundee\, Scotland a
 nd Helsingborg\, Sweden.\n\n\nLocation: Lyceum\nFees: Tickets are $75 for
  general admission and $100 for VIP\nAudience: Anyone may attend\nTags: L
 yceum\, Museums\, Sister Cities\n\nWeb resources:\n\nPurchase Tickets onl
 ine\nhttps://shop.alexandriava.gov/Events.aspx\n
DTEND:20260503T000001Z
DTSTAMP:20260324T205010Z
DTSTART:20260502T220000Z
LOCATION:Lyceum
SEQUENCE:4
STATUS:CONFIRMED
SUMMARY:2026 Alexandria Sister Cities' Whisky Tasting
TRANSP:OPAQUE
UID:81cf8486-11cb-4dfd-bb6e-c8371f97141d
URL:https://shop.alexandriava.gov/Events.aspx
X-ALT-DESC;FMTTYPE=text/html:Imported on Apr 24\, 2026\, 8 days before the
  event.<br />To verify info please see <a href="https://apps.alexandriava
 .gov/CalendarTest/Detail.aspx?si=62498">https://apps.alexandriava.gov/Cal
 endarTest/Detail.aspx?si=62498</a><br />\n<br />Raise a Glass to Culture 
 and Camaraderie at the 2026 Alexandria Sister Cities? Whisky Tasting Even
 t\n<br />\n<br />The City of Alexandria?s Sister Cities Committee invites
  whisky lovers and curious sippers alike to its annual signature event?th
 e 2026 Alexandria Sister Cities? Whisky Tasting\, held at the Alexandria 
 History Museum at The Lyceum (201 South Washington Street) on Saturday\, 
 May 2nd at 6 pm.\n<br />\n<br />Guests will enjoy a guided tasting across
  the whisky regions of Scotland\, gaining insights into the craftsmanship
  and culture behind each pour. This informative program will help you lea
 rn all about the rich tapestry that is Scotch whisky\, enable you to samp
 le five different whiskies from across Scotland\, and provide an opportun
 ity to ask questions and share personal insights.  VIP ticket holders wil
 l receive two additional exclusive samples of rare whiskies. All attendee
 s will take home a souvenir Glencairn glass\, perfect for continuing thei
 r whisky journey.\n<br />\n<br />Tickets are $75 for general admission an
 d $100 for VIP\, with hors d?oeuvres included. Wine and non-alcoholic bev
 erages will be available for non-whisky drinkers. A raffle will also be h
 eld with prizes\, with tickets available for cash purchase at the event. 
 \n<br />\n<br />Minimum age: 21.\n<br />\n<br />All proceeds support the 
 Alexandria Sister Cities Committee and its mission to support the educati
 onal and cultural exchanges between Alexandria\, VA and her sister cities
  of Dundee\, Scotland and Helsingborg\, Sweden.\n<br />\n<br />\n<br />Lo
 cation: Lyceum\n<br />Fees: Tickets are $75 for general admission and $10
 0 for VIP\n<br />Audience: Anyone may attend\n<br />Tags: Lyceum\, Museum
 s\, Sister Cities<br>\n<a href="https://shop.alexandriava.gov/Events.aspx
 ">Purchase Tickets online</a><br>\n
X-COA-DTSTAMP:20260324T205010Z
BEGIN:VALARM
ACTION:DISPLAY
DESCRIPTION:2026 Alexandria Sister Cities' Whisky Tasting: Please visit we
 bsite to confirm time\, location\, etc.
DURATION:PT30M
REPEAT:2
TRIGGER:-PT30M
END:VALARM
END:VEVENT
BEGIN:VEVENT
CATEGORIES:Lyceum
CATEGORIES:Museums
CATEGORIES:Old & Historic Alexandria
CATEGORIES:Old Town
DESCRIPTION:Imported on Apr 24\, 2026\, 13 days before the event.\nTo veri
 fy info please see https://apps.alexandriava.gov/CalendarTest/Detail.aspx
 ?si=62559\n\nOral History in the Mid-Atlantic Region (OHMAR)\, in partner
 ship with The Alexandria Oral History Center\, invite you to our 2026 Ann
 ual Conference\, themed "Witnessing State Violence: Oral History and Libe
 ratory Praxis." The theme encourages attendees to think critically about 
 the role that oral history has in documenting and resisting state violenc
 e\, to include municipal\, provincial/state and federal forms of violence
  - via two key aspects of oral history practice: witnessing and power. Bo
 th national and internationally focused proposal topics are welcome\, as 
 well as viewpoints from across the ideological spectrum.\n\nUpwards of 80
  or so people usually attend the annual OHMAR conference. This year\, ses
 sions are planned to take place at the historic Lloyd House and the Alexa
 ndria History Museum at the Lyceum. \n\nOHMAR is a non profit organizatio
 n dedicated to the promotion and improvement of oral history. OHMAR suppo
 rts established and emerging oral historians in the practice of oral hist
 ory by providing information and resources\, an accessible community of e
 xpertise\, and a vibrant professional and social network. Members include
  public and academic historians\, librarians\, archivists\, teachers\, fo
 lklorists\, and independent researchers. \n\nMore information about OHMAR
  can be found at https://ohmar.org/. \n\n\nLocation: Lyceum\nFees: Please
  see OHMAR website for fee information at https://ohmar.org/\nAudience: T
 he same as NULL value.\nTags: Lyceum\, Museums\, Old & Historic Alexandri
 a\, Old Town\n\nWeb resources:\n\nLearn more\nhttps://ohmar.org/\n
DTEND:20260507T210000Z
DTSTAMP:20260410T151354Z
DTSTART:20260507T130000Z
LOCATION:Lyceum
SEQUENCE:6
STATUS:CONFIRMED
SUMMARY:Oral History in the Mid-Atlantic Region Conference
TRANSP:OPAQUE
UID:12b937ec-e912-444d-a178-4f6356e8ec9d
URL:https://ohmar.org/
X-ALT-DESC;FMTTYPE=text/html:Imported on Apr 24\, 2026\, 13 days before th
 e event.<br />To verify info please see <a href="https://apps.alexandriav
 a.gov/CalendarTest/Detail.aspx?si=62559">https://apps.alexandriava.gov/Ca
 lendarTest/Detail.aspx?si=62559</a><br />\n<br />Oral History in the Mid-
 Atlantic Region (OHMAR)\, in partnership with The Alexandria Oral History
  Center\, invite you to our 2026 Annual Conference\, themed ?Witnessing S
 tate Violence: Oral History and Liberatory Praxis.? The theme encourages 
 attendees to think critically about the role that oral history has in doc
 umenting and resisting state violence\, to include municipal\, provincial
 /state and federal forms of violence ? via two key aspects of oral histor
 y practice: witnessing and power. Both national and internationally focus
 ed proposal topics are welcome\, as well as viewpoints from across the id
 eological spectrum.\n<br />\n<br />Upwards of 80 or so people usually att
 end the annual OHMAR conference. This year\, sessions are planned to take
  place at the historic Lloyd House and the Alexandria History Museum at t
 he Lyceum. \n<br />\n<br />OHMAR is a non profit organization dedicated t
 o the promotion and improvement of oral history. OHMAR supports establish
 ed and emerging oral historians in the practice of oral history by provid
 ing information and resources\, an accessible community of expertise\, an
 d a vibrant professional and social network. Members include public and a
 cademic historians\, librarians\, archivists\, teachers\, folklorists\, a
 nd independent researchers. \n<br />\n<br />More information about OHMAR 
 can be found at https://ohmar.org/. \n<br />\n<br />\n<br />Location: Lyc
 eum\n<br />Fees: Please see OHMAR website for fee information at https://
 ohmar.org/\n<br />Audience: The same as NULL value.\n<br />Tags: Lyceum\,
  Museums\, Old &amp\; Historic Alexandria\, Old Town<br>\n<a href="https:
 //ohmar.org/">Learn more</a><br>\n
X-COA-DTSTAMP:20260410T151354Z
BEGIN:VALARM
ACTION:DISPLAY
DESCRIPTION:Oral History in the Mid-Atlantic Region Conference: Please vis
 it website to confirm time\, location\, etc.
DURATION:PT30M
REPEAT:2
TRIGGER:-PT30M
END:VALARM
END:VEVENT
BEGIN:VEVENT
CATEGORIES:Lyceum
CATEGORIES:Museums
CATEGORIES:Old & Historic Alexandria
CATEGORIES:Old Town
DESCRIPTION:Imported on Apr 24\, 2026\, 14 days before the event.\nTo veri
 fy info please see https://apps.alexandriava.gov/CalendarTest/Detail.aspx
 ?si=62560\n\nOral History in the Mid-Atlantic Region (OHMAR)\, in partner
 ship with The Alexandria Oral History Center\, invite you to our 2026 Ann
 ual Conference\, themed "Witnessing State Violence: Oral History and Libe
 ratory Praxis." The theme encourages attendees to think critically about 
 the role that oral history has in documenting and resisting state violenc
 e\, to include municipal\, provincial/state and federal forms of violence
  - via two key aspects of oral history practice: witnessing and power. Bo
 th national and internationally focused proposal topics are welcome\, as 
 well as viewpoints from across the ideological spectrum.\n\nUpwards of 80
  or so people usually attend the annual OHMAR conference. This year\, ses
 sions are planned to take place at the historic Lloyd House and the Alexa
 ndria History Museum at the Lyceum. \n\nOHMAR is a non profit organizatio
 n dedicated to the promotion and improvement of oral history. OHMAR suppo
 rts established and emerging oral historians in the practice of oral hist
 ory by providing information and resources\, an accessible community of e
 xpertise\, and a vibrant professional and social network. Members include
  public and academic historians\, librarians\, archivists\, teachers\, fo
 lklorists\, and independent researchers. \n\nMore information about OHMAR
  can be found at https://ohmar.org/. \n\n\nLocation: Lyceum\nFees: Please
  see OHMAR website for fee information at https://ohmar.org/\nAudience: T
 he same as NULL value.\nTags: Lyceum\, Museums\, Old & Historic Alexandri
 a\, Old Town\n\nWeb resources:\n\nLearn more\nhttps://ohmar.org/\n
DTEND:20260508T190000Z
DTSTAMP:20260410T151046Z
DTSTART:20260508T130000Z
LOCATION:Lyceum
SEQUENCE:5
STATUS:CONFIRMED
SUMMARY:Oral History in the Mid-Atlantic Region Conference
TRANSP:OPAQUE
UID:30d15d37-aa1e-47fa-a90f-fc06864097bb
URL:https://ohmar.org/
X-ALT-DESC;FMTTYPE=text/html:Imported on Apr 24\, 2026\, 14 days before th
 e event.<br />To verify info please see <a href="https://apps.alexandriav
 a.gov/CalendarTest/Detail.aspx?si=62560">https://apps.alexandriava.gov/Ca
 lendarTest/Detail.aspx?si=62560</a><br />\n<br />Oral History in the Mid-
 Atlantic Region (OHMAR)\, in partnership with The Alexandria Oral History
  Center\, invite you to our 2026 Annual Conference\, themed ?Witnessing S
 tate Violence: Oral History and Liberatory Praxis.? The theme encourages 
 attendees to think critically about the role that oral history has in doc
 umenting and resisting state violence\, to include municipal\, provincial
 /state and federal forms of violence ? via two key aspects of oral histor
 y practice: witnessing and power. Both national and internationally focus
 ed proposal topics are welcome\, as well as viewpoints from across the id
 eological spectrum.\n<br />\n<br />Upwards of 80 or so people usually att
 end the annual OHMAR conference. This year\, sessions are planned to take
  place at the historic Lloyd House and the Alexandria History Museum at t
 he Lyceum. \n<br />\n<br />OHMAR is a non profit organization dedicated t
 o the promotion and improvement of oral history. OHMAR supports establish
 ed and emerging oral historians in the practice of oral history by provid
 ing information and resources\, an accessible community of expertise\, an
 d a vibrant professional and social network. Members include public and a
 cademic historians\, librarians\, archivists\, teachers\, folklorists\, a
 nd independent researchers. \n<br />\n<br />More information about OHMAR 
 can be found at https://ohmar.org/. \n<br />\n<br />\n<br />Location: Lyc
 eum\n<br />Fees: Please see OHMAR website for fee information at https://
 ohmar.org/\n<br />Audience: The same as NULL value.\n<br />Tags: Lyceum\,
  Museums\, Old &amp\; Historic Alexandria\, Old Town<br>\n<a href="https:
 //ohmar.org/">Learn more</a><br>\n
X-COA-DTSTAMP:20260410T151046Z
BEGIN:VALARM
ACTION:DISPLAY
DESCRIPTION:Oral History in the Mid-Atlantic Region Conference: Please vis
 it website to confirm time\, location\, etc.
DURATION:PT30M
REPEAT:2
TRIGGER:-PT30M
END:VALARM
END:VEVENT
BEGIN:VEVENT
CATEGORIES:America250
CATEGORIES:Concerts
CATEGORIES:Lyceum
CATEGORIES:Museums
CATEGORIES:Old & Historic Alexandria
CATEGORIES:Old Town
CATEGORIES:Performing Arts
CATEGORIES:Sister Cities
DESCRIPTION:Imported on Apr 24\, 2026\, 55 days before the event.\nTo veri
 fy info please see https://apps.alexandriava.gov/CalendarTest/Detail.aspx
 ?si=62561\n\nMusic of the American Revolution: The 250th for Alexandria's
  Sister Cities' Concert \n\nCome celebrate the 250th anniversary of Ameri
 ca's War for Independence with renowned music historians David & Ginger H
 ildebrand for performances of special period music. The Hildebrands will 
 don period attire to discuss and perform music associated with Alexandria
 's sister cities: Caan\, France\; Dundee\, Scotland\; Helsingborg\, Swede
 n\; and Gyumri\, Armenia. Scottish music was especially influential in th
 e American colonies\, and once the French joined the Revolutionary cause 
 there were musical celebrations for Generals LaFayette\, Rochambeau and o
 ther French leaders. This concert event is part of the "Alexandria commem
 orates America's 250" campaign. \n\nThe American war effort was expressed
  through patriotic songs\, ballads\, and dance tunes which connect us to 
 George Washington\, Thomas Jefferson\, Benjamin Franklin and others. The 
 Hildebrands will explain and demonstrate their instruments\, including th
 e harpsichord\, hammered dulcimer\, violin\, and Spanish & English guitar
 s -- interpreting various musical traditions\, featuring both the formal 
 and less refined aspects of music in early America. \n\nDavid & Ginger sp
 ecialize in researching\, recording\, and performing early American music
 . Since 1980 they have presented concerts and educational programs throug
 hout the country and abroad at museums\, historic sites\, schools and uni
 versities. Mount Vernon\, The National Gallery of Art\, The National Arch
 ives\, and Colonial Williamsburg are among their many past sponsors. \n\n
 In addition to producing seven CD recordings\, the Hildebrands have appea
 red on C-SPAN television\, BBC radio\, NPR and "History Detectives\," and
  they have provided soundtrack materials and served as period music consu
 ltants for PBS broadcasts\, including the series Liberty!--the American R
 evolution\, and one-hour specials Jefferson: A View from the Mountain\, R
 e-discovering George Washington\, and Anthem: The Story of the Star-Spang
 led Banner. In 1999\, along with dance historians Kate van Winkle and Rob
 ert Keller\, they co-founded The Colonial Music Institute (www.colonialmu
 sic.org)\, since bequeathed to and now directed by the George Washington 
 Presidential Library at Mount Vernon. \n\nGinger holds an M.M. from the P
 eabody Conservatory\; David's M.A. is from George Washington University a
 nd his Ph.D. from The Catholic University of America. She teaches private
 ly and at the Severn School\, performing also with Trio Galilei - a group
  which for eight years gave volunteer concerts for wounded warriors at Wa
 lter Reed Hospital. David consults and lectures widely\, and he teaches A
 merican Music history at The Peabody Conservatory. His book Musical Maryl
 and: A History of Song and Performance from the Colonial Period to the Ag
 e of Radio was published in 2017 by Johns Hopkins University Press. \n\n\
 nLocation: Lyceum\nFees: $20\nAudience: The same as NULL value.\nTags: Am
 erica250\, Concerts\, Lyceum\, Museums\, Old & Historic Alexandria\, Old 
 Town\, Performing Arts\, Sister Cities\n\nWeb resources:\n\nPurchase tick
 ets online\nhttps://shop.alexandriava.gov/Events.aspx\n
DTEND:20260619T010000Z
DTSTAMP:20260410T210323Z
DTSTART:20260618T230000Z
LOCATION:Lyceum
SEQUENCE:5
STATUS:CONFIRMED
SUMMARY:Alexandria's Sister Cities' Concert for America250
TRANSP:OPAQUE
UID:eebc91d9-96d9-44d8-ac4f-493216b5bde4
URL:https://shop.alexandriava.gov/Events.aspx
X-ALT-DESC;FMTTYPE=text/html:Imported on Apr 24\, 2026\, 55 days before th
 e event.<br />To verify info please see <a href="https://apps.alexandriav
 a.gov/CalendarTest/Detail.aspx?si=62561">https://apps.alexandriava.gov/Ca
 lendarTest/Detail.aspx?si=62561</a><br />\n<br />Music of the American Re
 volution: The 250th for Alexandria?s Sister Cities? Concert \n<br />\n<br
  />Come celebrate the 250th anniversary of America?s War for Independence
  with renowned music historians David &amp\; Ginger Hildebrand for perfor
 mances of special period music. The Hildebrands will don period attire to
  discuss and perform music associated with Alexandria?s sister cities: Ca
 an\, France\; Dundee\, Scotland\; Helsingborg\, Sweden\; and Gyumri\, Arm
 enia. Scottish music was especially influential in the American colonies\
 , and once the French joined the Revolutionary cause there were musical c
 elebrations for Generals LaFayette\, Rochambeau and other French leaders.
  This concert event is part of the ?Alexandria commemorates America?s 250
 ? campaign. \n<br />\n<br />The American war effort was expressed through
  patriotic songs\, ballads\, and dance tunes which connect us to George W
 ashington\, Thomas Jefferson\, Benjamin Franklin and others. The Hildebra
 nds will explain and demonstrate their instruments\, including the harpsi
 chord\, hammered dulcimer\, violin\, and Spanish &amp\; English guitars -
 - interpreting various musical traditions\, featuring both the formal and
  less refined aspects of music in early America. \n<br />\n<br />David &a
 mp\; Ginger specialize in researching\, recording\, and performing early 
 American music. Since 1980 they have presented concerts and educational p
 rograms throughout the country and abroad at museums\, historic sites\, s
 chools and universities. Mount Vernon\, The National Gallery of Art\, The
  National Archives\, and Colonial Williamsburg are among their many past 
 sponsors. \n<br />\n<br />In addition to producing seven CD recordings\, 
 the Hildebrands have appeared on C-SPAN television\, BBC radio\, NPR and 
 &quot\;History Detectives\,&quot\; and they have provided soundtrack mate
 rials and served as period music consultants for PBS broadcasts\, includi
 ng the series Liberty!--the American Revolution\, and one-hour specials J
 efferson: A View from the Mountain\, Re-discovering George Washington\, a
 nd Anthem: The Story of the Star-Spangled Banner. In 1999\, along with da
 nce historians Kate van Winkle and Robert Keller\, they co-founded The Co
 lonial Music Institute (www.colonialmusic.org)\, since bequeathed to and 
 now directed by the George Washington Presidential Library at Mount Verno
 n. \n<br />\n<br />Ginger holds an M.M. from the Peabody Conservatory\; D
 avid&#39\;s M.A. is from George Washington University and his Ph.D. from 
 The Catholic University of America. She teaches privately and at the Seve
 rn School\, performing also with Trio Galilei - a group which for eight y
 ears gave volunteer concerts for wounded warriors at Walter Reed Hospital
 . David consults and lectures widely\, and he teaches American Music hist
 ory at The Peabody Conservatory. His book Musical Maryland: A History of 
 Song and Performance from the Colonial Period to the Age of Radio was pub
 lished in 2017 by Johns Hopkins University Press. \n<br />\n<br />\n<br /
 >Location: Lyceum\n<br />Fees: $20\n<br />Audience: The same as NULL valu
 e.\n<br />Tags: America250\, Concerts\, Lyceum\, Museums\, Old &amp\; His
 toric Alexandria\, Old Town\, Performing Arts\, Sister Cities<br>\n<a hre
 f="https://shop.alexandriava.gov/Events.aspx">Purchase tickets online</a>
 <br>\n
X-COA-DTSTAMP:20260410T210323Z
BEGIN:VALARM
ACTION:DISPLAY
DESCRIPTION:Alexandria's Sister Cities' Concert for America250: Please vis
 it website to confirm time\, location\, etc.
DURATION:PT30M
REPEAT:2
TRIGGER:-PT30M
END:VALARM
END:VEVENT
BEGIN:VEVENT
CATEGORIES:America250
CATEGORIES:Arts
CATEGORIES:Lyceum
CATEGORIES:Museums
CATEGORIES:Old & Historic Alexandria
CATEGORIES:Old Town
DESCRIPTION:Imported on Apr 24\, 2026\, 92 days before the event.\nTo veri
 fy info please see https://apps.alexandriava.gov/CalendarTest/Detail.aspx
 ?si=61540\n\nIn partnership with Emerging Revolutionary War\, join us for
  a fun sing-a-long and panel discussion of 1776 (1972). This ground-break
 ing movie written by a history teacher\, inspired Hamilton and provides i
 nsight into people and politics of the 18th and 20th centuries. \n\nBefor
 e the movie\, visit the America250 exhibit at The Lyceum: Stories of U.S.
 : Collections Capture Our History. Due to the movie's run time\, we will 
 be fast forwarding through certain sections to facilitate discussion. We 
 suggest watching the movie on your own before attending the program. Snac
 ks and drinks (alcoholic and nonalcoholic) will be available for purchase
 .\n\nLocation: Lyceum\nFees: $10\nAudience: The same as NULL value.\nTags
 : America250\, Arts\, Lyceum\, Museums\, Old & Historic Alexandria\, Old 
 Town\n\nWeb resources:\n\nPurchase Tickets Online\nhttps://shop.alexandri
 ava.gov/Events.aspx\n
DTEND:20260726T013000Z
DTSTAMP:20251124T132230Z
DTSTART:20260725T230000Z
LOCATION:Lyceum
SEQUENCE:4
STATUS:CONFIRMED
SUMMARY:1776 Singalong & Discussion
TRANSP:OPAQUE
UID:ef4c078e-eb6f-4851-ad36-85e835031708
URL:https://shop.alexandriava.gov/Events.aspx
X-ALT-DESC;FMTTYPE=text/html:Imported on Apr 24\, 2026\, 92 days before th
 e event.<br />To verify info please see <a href="https://apps.alexandriav
 a.gov/CalendarTest/Detail.aspx?si=61540">https://apps.alexandriava.gov/Ca
 lendarTest/Detail.aspx?si=61540</a><br />\n<br />In partnership with Emer
 ging Revolutionary War\, join us for a fun sing-a-long and panel discussi
 on of 1776 (1972). This ground-breaking movie written by a history teache
 r\, inspired Hamilton and provides insight into people and politics of th
 e 18th and 20th centuries. \n<br />\n<br />Before the movie\, visit the A
 merica250 exhibit at The Lyceum: Stories of U.S.: Collections Capture Our
  History. Due to the movie?s run time\, we will be fast forwarding throug
 h certain sections to facilitate discussion. We suggest watching the movi
 e on your own before attending the program. Snacks and drinks (alcoholic 
 and nonalcoholic) will be available for purchase.\n<br />\n<br />Location
 : Lyceum\n<br />Fees: $10\n<br />Audience: The same as NULL value.\n<br /
 >Tags: America250\, Arts\, Lyceum\, Museums\, Old &amp\; Historic Alexand
 ria\, Old Town<br>\n<a href="https://shop.alexandriava.gov/Events.aspx">P
 urchase Tickets Online</a><br>\n
X-COA-DTSTAMP:20251124T132230Z
BEGIN:VALARM
ACTION:DISPLAY
DESCRIPTION:1776 Singalong & Discussion: Please visit website to confirm t
 ime\, location\, etc.
DURATION:PT30M
REPEAT:2
TRIGGER:-PT30M
END:VALARM
END:VEVENT
END:VCALENDAR
