BEGIN:VCALENDAR
CALSCALE:GREGORIAN
METHOD:PUBLISH
PRODID:-//github.com/ical-org/ical.net//NONSGML ical.net 4.0//EN
VERSION:2.0
X-WR-TIMEZONE:US/Eastern
BEGIN:VEVENT
CATEGORIES:Boards & Commissions
CATEGORIES:Commission Meeting
CATEGORIES:Community Event
CATEGORIES:Eco-City
CATEGORIES:Environment
CATEGORIES:Environmental Policy Commission (EPC)
CATEGORIES:Green Buildings
CATEGORIES:Planning Commission
CATEGORIES:T&ES Events
DESCRIPTION:Imported on Apr 23\, 2026\, 8 days before the event.\nTo verif
 y info please see https://apps.alexandriava.gov/CalendarTest/Detail.aspx?
 si=62567\n\nThe Environmental Policy Commission will hold their Annual Re
 treat on 5/2/26.  This meeting is in-person\; advance registration is not
  required.  Meeting materials will be posted to the EPC website.  Possibl
 y three (3) members of City Council will be present.\n\nLocation: 2900 Bu
 siness Center Drive\nContact Person: Melissa Atwood\, Senior Environmenta
 l Specialist\nContact Phone: 703.201.7993\nContact Email: melissa.atwood@
 alexandriava.gov\nAudience: Anyone may attend\nTags: Boards & Commissions
 \, Commission Meeting\, Community Event\, Eco-City\, Environment\, Enviro
 nmental Policy Commission (EPC)\, Green Buildings\, Planning Commission\,
  T&ES Events\n\nWeb resources:\n\nEPC website\nhttps://www.alexandriava.g
 ov/EPC\n
DTEND:20260502T190000Z
DTSTAMP:20260414T155801Z
DTSTART:20260502T120000Z
LOCATION:2900 Business Center Drive
SEQUENCE:5
STATUS:CONFIRMED
SUMMARY:EPC 2026 Annual Retreat
TRANSP:OPAQUE
UID:7f21d385-6f7a-4b97-9cca-4a46fed9f202
URL:https://www.alexandriava.gov/EPC
X-ALT-DESC;FMTTYPE=text/html:Imported on Apr 23\, 2026\, 8 days before the
  event.<br />To verify info please see <a href="https://apps.alexandriava
 .gov/CalendarTest/Detail.aspx?si=62567">https://apps.alexandriava.gov/Cal
 endarTest/Detail.aspx?si=62567</a><br />\n<br />The Environmental Policy 
 Commission will hold their Annual Retreat on 5/2/26.  This meeting is in-
 person\; advance registration is not required.  Meeting materials will be
  posted to the EPC website.  Possibly three (3) members of City Council w
 ill be present.\n<br />\n<br />Location: 2900 Business Center Drive\n<br 
 />Contact Person: Melissa Atwood\, Senior Environmental Specialist\n<br /
 >Contact Phone: 703.201.7993\n<br />Contact Email: melissa.atwood@alexand
 riava.gov\n<br />Audience: Anyone may attend\n<br />Tags: Boards &amp\; C
 ommissions\, Commission Meeting\, Community Event\, Eco-City\, Environmen
 t\, Environmental Policy Commission (EPC)\, Green Buildings\, Planning Co
 mmission\, T&amp\;ES Events<br>\n<a href="https://www.alexandriava.gov/EP
 C">EPC website</a><br>\n
X-COA-DTSTAMP:20260414T155801Z
BEGIN:VALARM
ACTION:DISPLAY
DESCRIPTION:EPC 2026 Annual Retreat: Please visit website to confirm time\
 , location\, etc.
DURATION:PT30M
REPEAT:2
TRIGGER:-PT30M
END:VALARM
END:VEVENT
BEGIN:VEVENT
CATEGORIES:Environment
DESCRIPTION:Imported on Apr 23\, 2026\, 33 days before the event.\nTo veri
 fy info please see https://apps.alexandriava.gov/CalendarTest/Detail.aspx
 ?si=62584\n\nSeparated by more than 6\,500 km\, Helsingborg\, Sweden and 
 Alexandria\, VA face shared challenges from coastal flooding and extreme 
 heat. \nJoin city leaders from both Sister Cities for a virtual discussio
 n on local climate solutions and international collaboration\n\nLocation:
   Virtual Only\nContact Person: Ryan Freed \nContact Phone: 703.746.3779\
 nContact Email: ryan.freed@alexandriava.gov\nAudience: The same as NULL v
 alue.\nTags: Environment\n\nWeb resources:\n\nhttps://zoom.us/j/923847912
 69E\n
DTEND:20260527T140000Z
DTSTAMP:20260420T160556Z
DTSTART:20260527T130000Z
LOCATION: Virtual Only
SEQUENCE:5
STATUS:CONFIRMED
SUMMARY:VIRTUAL: Climate Resilience Sister Cities Solutions Webinar
TRANSP:TRANSPARENT
UID:42840d30-91cf-486f-8125-63dd1b6a6bb5
URL:https://zoom.us/j/92384791269E
X-ALT-DESC;FMTTYPE=text/html:Imported on Apr 23\, 2026\, 33 days before th
 e event.<br />To verify info please see <a href="https://apps.alexandriav
 a.gov/CalendarTest/Detail.aspx?si=62584">https://apps.alexandriava.gov/Ca
 lendarTest/Detail.aspx?si=62584</a><br />\n<br />Separated by more than 6
 \,500 km\, Helsingborg\, Sweden and Alexandria\, VA face shared challenge
 s from coastal flooding and extreme heat. \n<br />Join city leaders from 
 both Sister Cities for a virtual discussion on local climate solutions an
 d international collaboration\n<br />\n<br />Location:  Virtual Only\n<br
  />Contact Person: Ryan Freed \n<br />Contact Phone: 703.746.3779\n<br />
 Contact Email: ryan.freed@alexandriava.gov\n<br />Audience: The same as N
 ULL value.\n<br />Tags: Environment<br>\n<a href="https://zoom.us/j/92384
 791269E">https://zoom.us/j/92384791269E</a><br>\n
X-COA-DTSTAMP:20260420T160556Z
END:VEVENT
BEGIN:VEVENT
CATEGORIES:Environment
DESCRIPTION:Imported on Apr 23\, 2026\, 39 days before the event.\nTo veri
 fy info please see https://apps.alexandriava.gov/CalendarTest/Detail.aspx
 ?si=62314\n\nThe Alexandria Eco-City Academy provides an opportunity for 
 Alexandrians to learn about the City's climate goals\, services\, and pro
 grams\, and empower them to help others take advantage of programs and ta
 ke individual actions. This includes learning about the City's Environmen
 tal Action Plan (EAP)\, the steps City programs are taking to achieve the
 se goals\, and the resources available to individual residents to do thei
 r part to achieve the goals of the EAP.\n\nSessions are a combination of 
 lectures and interactive activities. Class topics will include Climate Ch
 ange and Introduction to Eco-City\; Government Energy and Residential Ene
 rgy\; Transportation and Environmental Services\; Green Buildings\, Land 
 Use\, and Open Space\; Solid Waste and Water Resources\; and Environmenta
 l Health and Air Quality.\n\nLocation: Lee Center\, 1108 Jefferson St.\nC
 ontact Person: Yulia Fernandez Marcos\nContact Phone: 703.298.3694\nConta
 ct Email: yulia.fmarcos@alexandriava.gov\nAudience: The same as NULL valu
 e.\nTags: Environment
DTEND:20260602T003000Z
DTSTAMP:20260422T192417Z
DTSTART:20260601T223000Z
GEO:38.797510;-77.053621
LOCATION:Lee Center\, 1108 Jefferson St.
SEQUENCE:7
STATUS:CANCELLED
SUMMARY:CANCELLED: Eco-City Academy
TRANSP:TRANSPARENT
UID:147a2715-90a9-45f4-9595-7a810d898871
X-ALT-DESC;FMTTYPE=text/html:Imported on Apr 23\, 2026\, 39 days before th
 e event.<br />To verify info please see <a href="https://apps.alexandriav
 a.gov/CalendarTest/Detail.aspx?si=62314">https://apps.alexandriava.gov/Ca
 lendarTest/Detail.aspx?si=62314</a><br />\n<br />The Alexandria Eco-City 
 Academy provides an opportunity for Alexandrians to learn about the City?
 s climate goals\, services\, and programs\, and empower them to help othe
 rs take advantage of programs and take individual actions. This includes 
 learning about the City?s Environmental Action Plan (EAP)\, the steps Cit
 y programs are taking to achieve these goals\, and the resources availabl
 e to individual residents to do their part to achieve the goals of the EA
 P.\n<br />\n<br />Sessions are a combination of lectures and interactive 
 activities. Class topics will include Climate Change and Introduction to 
 Eco-City\; Government Energy and Residential Energy\; Transportation and 
 Environmental Services\; Green Buildings\, Land Use\, and Open Space\; So
 lid Waste and Water Resources\; and Environmental Health and Air Quality.
 \n<br />\n<br />Location: Lee Center\, 1108 Jefferson St.\n<br />Contact 
 Person: Yulia Fernandez Marcos\n<br />Contact Phone: 703.298.3694\n<br />
 Contact Email: yulia.fmarcos@alexandriava.gov\n<br />Audience: The same a
 s NULL value.\n<br />Tags: Environment
X-COA-DTSTAMP:20260422T192417Z
END:VEVENT
END:VCALENDAR
