BEGIN:VCALENDAR
CALSCALE:GREGORIAN
METHOD:PUBLISH
PRODID:-//github.com/ical-org/ical.net//NONSGML ical.net 4.0//EN
VERSION:2.0
X-WR-TIMEZONE:US/Eastern
BEGIN:VEVENT
CATEGORIES:Adult
CATEGORIES:Aging
CATEGORIES:Caregiver
CATEGORIES:Community Outreach
CATEGORIES:DCHS
CATEGORIES:Library
CATEGORIES:Seniors
DESCRIPTION:Imported on Apr 23\, 2026\, 6 days before the event.\nTo verif
 y info please see https://apps.alexandriava.gov/CalendarTest/Detail.aspx?
 si=62475\n\nLearn the basics of Medicare insurance for older adults. Regi
 ster at alexlibraryva.org or call 703.746.1705\n\nLocation: Duncan Branch
  Library\, 2501 Commonwealth Ave.\nContact Person: Hilda Naranjo\nContact
  Phone: 703.746.1705\nContact Email: VICAP@alexandriava.gov\nAudience: An
 yone may attend\nTags: Adult\, Aging\, Caregiver\, Community Outreach\, D
 CHS\, Library\, Seniors
DTEND:20260429T180000Z
DTSTAMP:20260319T201021Z
DTSTART:20260429T170000Z
LOCATION:Duncan Branch Library\, 2501 Commonwealth Ave.
SEQUENCE:5
STATUS:CONFIRMED
SUMMARY:Medicare 101 Presentation
TRANSP:TRANSPARENT
UID:6cc27186-cd3a-4bea-84f3-87168f2e866e
X-ALT-DESC;FMTTYPE=text/html:Imported on Apr 23\, 2026\, 6 days before the
  event.<br />To verify info please see <a href="https://apps.alexandriava
 .gov/CalendarTest/Detail.aspx?si=62475">https://apps.alexandriava.gov/Cal
 endarTest/Detail.aspx?si=62475</a><br />\n<br />Learn the basics of Medic
 are insurance for older adults. Register at alexlibraryva.org or call 703
 .746.1705\n<br />\n<br />Location: Duncan Branch Library\, 2501 Commonwea
 lth Ave.\n<br />Contact Person: Hilda Naranjo\n<br />Contact Phone: 703.7
 46.1705\n<br />Contact Email: VICAP@alexandriava.gov\n<br />Audience: Any
 one may attend\n<br />Tags: Adult\, Aging\, Caregiver\, Community Outreac
 h\, DCHS\, Library\, Seniors
X-COA-DTSTAMP:20260319T201021Z
END:VEVENT
BEGIN:VEVENT
CATEGORIES:Adult
CATEGORIES:Aging
CATEGORIES:Boards & Commissions
CATEGORIES:Commission Meeting
CATEGORIES:DCHS
CATEGORIES:Seniors
DESCRIPTION:Imported on Apr 23\, 2026\, 11 days before the event.\nTo veri
 fy info please see https://apps.alexandriava.gov/CalendarTest/Detail.aspx
 ?si=60020\n\nIn person at Mark Center Drive\, 9th floor\, room 9259\n\nLo
 cation: 4850 Mark Center Drive\, 4850 Mark Center Drive\nContact Person: 
 Ashley Johnson\nContact Phone: 703.746.3389\nContact Email: ashley.johnso
 n@alexandriava.gov\nAudience: Anyone may attend\nTags: Adult\, Aging\, Bo
 ards & Commissions\, Commission Meeting\, DCHS\, Seniors
DTEND:20260504T190000Z
DTSTAMP:20250910T205754Z
DTSTART:20260504T173000Z
LOCATION:4850 Mark Center Drive\, 4850 Mark Center Drive
SEQUENCE:4
STATUS:CONFIRMED
SUMMARY:Commission on Aging Executive Committee Meeting
TRANSP:TRANSPARENT
UID:01a101fd-20eb-4ee0-be6c-8635a654d371
X-ALT-DESC;FMTTYPE=text/html:Imported on Apr 23\, 2026\, 11 days before th
 e event.<br />To verify info please see <a href="https://apps.alexandriav
 a.gov/CalendarTest/Detail.aspx?si=60020">https://apps.alexandriava.gov/Ca
 lendarTest/Detail.aspx?si=60020</a><br />\n<br />In person at Mark Center
  Drive\, 9th floor\, room 9259\n<br />\n<br />Location: 4850 Mark Center 
 Drive\, 4850 Mark Center Drive\n<br />Contact Person: Ashley Johnson\n<br
  />Contact Phone: 703.746.3389\n<br />Contact Email: ashley.johnson@alexa
 ndriava.gov\n<br />Audience: Anyone may attend\n<br />Tags: Adult\, Aging
 \, Boards &amp\; Commissions\, Commission Meeting\, DCHS\, Seniors
X-COA-DTSTAMP:20250910T205754Z
END:VEVENT
BEGIN:VEVENT
CATEGORIES:Adult
CATEGORIES:Aging
CATEGORIES:Boards & Commissions
CATEGORIES:Commission Meeting
CATEGORIES:DCHS
CATEGORIES:Seniors
DESCRIPTION:Imported on Apr 23\, 2026\, 14 days before the event.\nTo veri
 fy info please see https://apps.alexandriava.gov/CalendarTest/Detail.aspx
 ?si=60016\n\nMeeting in-person\, 6th floor\, conference room 6401\n\nLoca
 tion: 4850 Mark Center Drive\, 4850 Mark Center Drive\nContact Person: As
 hley Johnson\nContact Phone: 703.746.3389\nAudience: Anyone may attend\nT
 ags: Adult\, Aging\, Boards & Commissions\, Commission Meeting\, DCHS\, S
 eniors
DTEND:20260507T223000Z
DTSTAMP:20250910T192817Z
DTSTART:20260507T203000Z
LOCATION:4850 Mark Center Drive\, 4850 Mark Center Drive
SEQUENCE:4
STATUS:CONFIRMED
SUMMARY:Commission on Aging Civic Engagement & Economic
TRANSP:TRANSPARENT
UID:ab4ba5c3-f475-479a-8530-5a2624618b19
X-ALT-DESC;FMTTYPE=text/html:Imported on Apr 23\, 2026\, 14 days before th
 e event.<br />To verify info please see <a href="https://apps.alexandriav
 a.gov/CalendarTest/Detail.aspx?si=60016">https://apps.alexandriava.gov/Ca
 lendarTest/Detail.aspx?si=60016</a><br />\n<br />Meeting in-person\, 6th 
 floor\, conference room 6401\n<br />\n<br />Location: 4850 Mark Center Dr
 ive\, 4850 Mark Center Drive\n<br />Contact Person: Ashley Johnson\n<br /
 >Contact Phone: 703.746.3389\n<br />Audience: Anyone may attend\n<br />Ta
 gs: Adult\, Aging\, Boards &amp\; Commissions\, Commission Meeting\, DCHS
 \, Seniors
X-COA-DTSTAMP:20250910T192817Z
END:VEVENT
BEGIN:VEVENT
CATEGORIES:Adult
CATEGORIES:Aging
CATEGORIES:Boards & Commissions
CATEGORIES:Caregiver
CATEGORIES:City Council
CATEGORIES:DCHS
CATEGORIES:Seniors
DESCRIPTION:Imported on Apr 23\, 2026\, 19 days before the event.\nTo veri
 fy info please see https://apps.alexandriava.gov/CalendarTest/Detail.aspx
 ?si=62056\n\nCommission on Aging Excellence in Aging Awards\n\nLocation: 
 4850 Mark Center Drive\, 4850 Mark Center Drive\nContact Person: Pamela A
 ustin\nContact Phone: 703.746.5738\nContact Email: pamela.austin@alexandr
 iava.gov\nAudience: Anyone may attend\nTags: Adult\, Aging\, Boards & Com
 missions\, Caregiver\, City Council\, DCHS\, Seniors
DTEND:20260512T220000Z
DTSTAMP:20260422T193336Z
DTSTART:20260512T210000Z
LOCATION:4850 Mark Center Drive\, 4850 Mark Center Drive
SEQUENCE:6
STATUS:CONFIRMED
SUMMARY:Commission on Aging Excellence in Aging Awards
TRANSP:TRANSPARENT
UID:51f7b28f-f481-4735-81e1-c0d40f96d9fa
X-ALT-DESC;FMTTYPE=text/html:Imported on Apr 23\, 2026\, 19 days before th
 e event.<br />To verify info please see <a href="https://apps.alexandriav
 a.gov/CalendarTest/Detail.aspx?si=62056">https://apps.alexandriava.gov/Ca
 lendarTest/Detail.aspx?si=62056</a><br />\n<br />Commission on Aging Exce
 llence in Aging Awards\n<br />\n<br />Location: 4850 Mark Center Drive\, 
 4850 Mark Center Drive\n<br />Contact Person: Pamela Austin\n<br />Contac
 t Phone: 703.746.5738\n<br />Contact Email: pamela.austin@alexandriava.go
 v\n<br />Audience: Anyone may attend\n<br />Tags: Adult\, Aging\, Boards 
 &amp\; Commissions\, Caregiver\, City Council\, DCHS\, Seniors
X-COA-DTSTAMP:20260422T193336Z
END:VEVENT
BEGIN:VEVENT
CATEGORIES:Adult
CATEGORIES:Aging
CATEGORIES:Boards & Commissions
CATEGORIES:City Council
CATEGORIES:DCHS
CATEGORIES:Seniors
DESCRIPTION:Imported on Apr 23\, 2026\, 21 days before the event.\nTo veri
 fy info please see https://apps.alexandriava.gov/CalendarTest/Detail.aspx
 ?si=60029\n\nHybrid meeting: In-person at MCD\, 9th floor\, room 9208 or 
 virtually.\nPrior registration is required to participate in the meeting 
 via zoom.\n \n\n\nLocation: 4850 Mark Center Drive\, 4850 Mark Center Dri
 ve\nContact Person: Ashley Johnson\nContact Phone: 703.746.3389\nContact 
 Email: ashley.johnson@alexandriava.gov\nAudience: Anyone may attend\nTags
 : Adult\, Aging\, Boards & Commissions\, City Council\, DCHS\, Seniors\n\
 nWeb resources:\n\nhttps://zoom.us/webinar/register/WN_N5_O8Gy1SWi9tder9F
 YIkA\n
DTEND:20260514T223000Z
DTSTAMP:20260313T173206Z
DTSTART:20260514T203000Z
LOCATION:4850 Mark Center Drive\, 4850 Mark Center Drive
SEQUENCE:6
STATUS:CONFIRMED
SUMMARY:Commission on Aging
TRANSP:TRANSPARENT
UID:c9b3aa1d-52d5-4845-abb8-3e702c2d6de8
URL:https://zoom.us/webinar/register/WN_N5_O8Gy1SWi9tder9FYIkA
X-ALT-DESC;FMTTYPE=text/html:Imported on Apr 23\, 2026\, 21 days before th
 e event.<br />To verify info please see <a href="https://apps.alexandriav
 a.gov/CalendarTest/Detail.aspx?si=60029">https://apps.alexandriava.gov/Ca
 lendarTest/Detail.aspx?si=60029</a><br />\n<br />Hybrid meeting: In-perso
 n at MCD\, 9th floor\, room 9208 or virtually.\n<br />Prior registration 
 is required to participate in the meeting via zoom.\n<br /> \n<br />\n<br
  />\n<br />Location: 4850 Mark Center Drive\, 4850 Mark Center Drive\n<br
  />Contact Person: Ashley Johnson\n<br />Contact Phone: 703.746.3389\n<br
  />Contact Email: ashley.johnson@alexandriava.gov\n<br />Audience: Anyone
  may attend\n<br />Tags: Adult\, Aging\, Boards &amp\; Commissions\, City
  Council\, DCHS\, Seniors<br>\n<a href="https://zoom.us/webinar/register/
 WN_N5_O8Gy1SWi9tder9FYIkA">https://zoom.us/webinar/register/WN_N5_O8Gy1SW
 i9tder9FYIkA</a><br>\n
X-COA-DTSTAMP:20260313T173206Z
END:VEVENT
BEGIN:VEVENT
CATEGORIES:Adult
CATEGORIES:Aging
CATEGORIES:Boards & Commissions
CATEGORIES:DCHS
CATEGORIES:Seniors
DESCRIPTION:Imported on Apr 23\, 2026\, 25 days before the event.\nTo veri
 fy info please see https://apps.alexandriava.gov/CalendarTest/Detail.aspx
 ?si=59986\n\nRegular Monthly Meeting in-person at 4850 Mark Center Drive\
 , 9th floor\, room 9208\n\nLocation: 4850 Mark Center Drive\, 4850 Mark C
 enter Drive\nContact Person: Ashley Johnson\nContact Phone: 703.746.3389\
 nContact Email: ashley.johnson@alexandriava.gov\nAudience: Anyone may att
 end\nTags: Adult\, Aging\, Boards & Commissions\, DCHS\, Seniors\n\nWeb r
 esources:\n\nhttps://zoom.us/webinar/register/WN_jfScNb14TQWYhbCbD6jExQ#/
 registration\nParticipants using zoom must use this link to register in a
 dvance of the meeting.\n\nhttps://www.alexandriava.gov/Boards\n
DTEND:20260518T190000Z
DTSTAMP:20260310T172214Z
DTSTART:20260518T170000Z
LOCATION:4850 Mark Center Drive\, 4850 Mark Center Drive
SEQUENCE:5
STATUS:CONFIRMED
SUMMARY:Commission on Aging Housing Committee
TRANSP:TRANSPARENT
UID:57bf4bb9-5181-442a-b5d7-df68b10b8bba
URL:https://zoom.us/webinar/register/WN_jfScNb14TQWYhbCbD6jExQ#/registrati
 on
X-ALT-DESC;FMTTYPE=text/html:Imported on Apr 23\, 2026\, 25 days before th
 e event.<br />To verify info please see <a href="https://apps.alexandriav
 a.gov/CalendarTest/Detail.aspx?si=59986">https://apps.alexandriava.gov/Ca
 lendarTest/Detail.aspx?si=59986</a><br />\n<br />Regular Monthly Meeting 
 in-person at 4850 Mark Center Drive\, 9th floor\, room 9208\n<br />\n<br 
 />Location: 4850 Mark Center Drive\, 4850 Mark Center Drive\n<br />Contac
 t Person: Ashley Johnson\n<br />Contact Phone: 703.746.3389\n<br />Contac
 t Email: ashley.johnson@alexandriava.gov\n<br />Audience: Anyone may atte
 nd\n<br />Tags: Adult\, Aging\, Boards &amp\; Commissions\, DCHS\, Senior
 s<br>\n<a href="https://zoom.us/webinar/register/WN_jfScNb14TQWYhbCbD6jEx
 Q#/registration">https://zoom.us/webinar/register/WN_jfScNb14TQWYhbCbD6jE
 xQ#/registration</a><br>\nParticipants using zoom must use this link to r
 egister in advance of the meeting.<br>\n<a href="https://www.alexandriava
 .gov/Boards">https://www.alexandriava.gov/Boards</a><br>\n
X-COA-DTSTAMP:20260310T172214Z
END:VEVENT
BEGIN:VEVENT
CATEGORIES:Adult
CATEGORIES:Aging
CATEGORIES:Caregiver
CATEGORIES:Community Outreach
CATEGORIES:DCHS
CATEGORIES:Library
CATEGORIES:Seniors
DESCRIPTION:Imported on Apr 23\, 2026\, 25 days before the event.\nTo veri
 fy info please see https://apps.alexandriava.gov/CalendarTest/Detail.aspx
 ?si=62474\n\nLearn the basics of Medicare insurance for older adults. Reg
 ister at alexlibraryva.org or call 703.746.1703\n\nLocation: Barrett Bran
 ch Library\, 717 Queen St.\nContact Person: Hilda Naranjo\nContact Phone:
  703.746.1703\nContact Email: VICAP@alexandriava.gov\nAudience: Anyone ma
 y attend\nTags: Adult\, Aging\, Caregiver\, Community Outreach\, DCHS\, L
 ibrary\, Seniors
DTEND:20260518T220000Z
DTSTAMP:20260319T201212Z
DTSTART:20260518T210000Z
GEO:38.807531;-77.047200
LOCATION:Barrett Branch Library\, 717 Queen St.
SEQUENCE:6
STATUS:CONFIRMED
SUMMARY:Medicare 101 Presentation
TRANSP:TRANSPARENT
UID:af6eb63a-fb72-4d29-aaf3-ef887aed14b9
X-ALT-DESC;FMTTYPE=text/html:Imported on Apr 23\, 2026\, 25 days before th
 e event.<br />To verify info please see <a href="https://apps.alexandriav
 a.gov/CalendarTest/Detail.aspx?si=62474">https://apps.alexandriava.gov/Ca
 lendarTest/Detail.aspx?si=62474</a><br />\n<br />Learn the basics of Medi
 care insurance for older adults. Register at alexlibraryva.org or call 70
 3.746.1703\n<br />\n<br />Location: Barrett Branch Library\, 717 Queen St
 .\n<br />Contact Person: Hilda Naranjo\n<br />Contact Phone: 703.746.1703
 \n<br />Contact Email: VICAP@alexandriava.gov\n<br />Audience: Anyone may
  attend\n<br />Tags: Adult\, Aging\, Caregiver\, Community Outreach\, DCH
 S\, Library\, Seniors
X-COA-DTSTAMP:20260319T201212Z
END:VEVENT
BEGIN:VEVENT
CATEGORIES:Adult
CATEGORIES:Aging
CATEGORIES:Boards & Commissions
CATEGORIES:Commission Meeting
CATEGORIES:DCHS
CATEGORIES:Seniors
DESCRIPTION:Imported on Apr 23\, 2026\, 27 days before the event.\nTo veri
 fy info please see https://apps.alexandriava.gov/CalendarTest/Detail.aspx
 ?si=59997\n\nCharles Houston Recreation Center \nSenior Room\n\nLocation:
  Charles Houston Recreation Center\, 901 Wythe St.\nContact Person: Ashle
 y Johnson\nContact Phone: 703.746.3389\nContact Email: ashley.johnson@ale
 xandriava.gov\nAudience: Anyone may attend\nTags: Adult\, Aging\, Boards 
 & Commissions\, Commission Meeting\, DCHS\, Seniors
DTEND:20260520T220000Z
DTSTAMP:20260105T161159Z
DTSTART:20260520T200000Z
GEO:38.812326;-77.048213
LOCATION:Charles Houston Recreation Center\, 901 Wythe St.
SEQUENCE:6
STATUS:CANCELLED
SUMMARY:CANCELLED: Commission on Aging Transportation Committee
TRANSP:TRANSPARENT
UID:94a40865-7943-45ef-b354-3f4ee3bd5f91
X-ALT-DESC;FMTTYPE=text/html:Imported on Apr 23\, 2026\, 27 days before th
 e event.<br />To verify info please see <a href="https://apps.alexandriav
 a.gov/CalendarTest/Detail.aspx?si=59997">https://apps.alexandriava.gov/Ca
 lendarTest/Detail.aspx?si=59997</a><br />\n<br />Charles Houston Recreati
 on Center \n<br />Senior Room\n<br />\n<br />Location: Charles Houston Re
 creation Center\, 901 Wythe St.\n<br />Contact Person: Ashley Johnson\n<b
 r />Contact Phone: 703.746.3389\n<br />Contact Email: ashley.johnson@alex
 andriava.gov\n<br />Audience: Anyone may attend\n<br />Tags: Adult\, Agin
 g\, Boards &amp\; Commissions\, Commission Meeting\, DCHS\, Seniors
X-COA-DTSTAMP:20260105T161159Z
END:VEVENT
BEGIN:VEVENT
CATEGORIES:Adult
CATEGORIES:Aging
CATEGORIES:Boards & Commissions
CATEGORIES:Commission Meeting
CATEGORIES:DCHS
CATEGORIES:Seniors
DESCRIPTION:Imported on Apr 23\, 2026\, 28 days before the event.\nTo veri
 fy info please see https://apps.alexandriava.gov/CalendarTest/Detail.aspx
 ?si=60005\n\nMeeting held in-person at Goodwin Living\, 4800 Fillmore Ave
 nue\, Resident Conference Room\n\nLocation: Goodwin Living Alexandria\, 4
 800 Fillmore Ave\nContact Person: Pamela Austin\nContact Phone: 703.746.5
 738\nAudience: Anyone may attend\nTags: Adult\, Aging\, Boards & Commissi
 ons\, Commission Meeting\, DCHS\, Seniors
DTEND:20260521T173000Z
DTSTAMP:20250910T191324Z
DTSTART:20260521T153000Z
LOCATION:Goodwin Living Alexandria\, 4800 Fillmore Ave
SEQUENCE:4
STATUS:CONFIRMED
SUMMARY:Commission on Aging Outreach Committee
TRANSP:TRANSPARENT
UID:76e5aca4-1394-427d-8184-c96b425eb535
X-ALT-DESC;FMTTYPE=text/html:Imported on Apr 23\, 2026\, 28 days before th
 e event.<br />To verify info please see <a href="https://apps.alexandriav
 a.gov/CalendarTest/Detail.aspx?si=60005">https://apps.alexandriava.gov/Ca
 lendarTest/Detail.aspx?si=60005</a><br />\n<br />Meeting held in-person a
 t Goodwin Living\, 4800 Fillmore Avenue\, Resident Conference Room\n<br /
 >\n<br />Location: Goodwin Living Alexandria\, 4800 Fillmore Ave\n<br />C
 ontact Person: Pamela Austin\n<br />Contact Phone: 703.746.5738\n<br />Au
 dience: Anyone may attend\n<br />Tags: Adult\, Aging\, Boards &amp\; Comm
 issions\, Commission Meeting\, DCHS\, Seniors
X-COA-DTSTAMP:20250910T191324Z
END:VEVENT
BEGIN:VEVENT
CATEGORIES:Adult
CATEGORIES:Aging
CATEGORIES:Boards & Commissions
CATEGORIES:Commission Meeting
CATEGORIES:DCHS
CATEGORIES:Seniors
DESCRIPTION:Imported on Apr 23\, 2026\, 39 days before the event.\nTo veri
 fy info please see https://apps.alexandriava.gov/CalendarTest/Detail.aspx
 ?si=60025\n\nVirtual meeting\nPrior registration is required to participa
 te in the meeting. \n\nLocation:  Virtual Only\nContact Person: Ashley Jo
 hnson\nContact Phone: 703.746.3389\nContact Email: ashley.johnson@alexand
 riava.gov\nAudience: Anyone may attend\nTags: Adult\, Aging\, Boards & Co
 mmissions\, Commission Meeting\, DCHS\, Seniors\n\nWeb resources:\n\nhttp
 s://zoom.us/webinar/register/WN_MlOsgi61Rq6bDCytpxzVTA#/registration\n
DTEND:20260601T193000Z
DTSTAMP:20260326T162221Z
DTSTART:20260601T173000Z
LOCATION: Virtual Only
SEQUENCE:5
STATUS:CONFIRMED
SUMMARY:VIRTUAL: Commission on Aging Executive Committee Meeting
TRANSP:TRANSPARENT
UID:1dfe4bf5-694d-42a3-9681-be6a65bca0e7
URL:https://zoom.us/webinar/register/WN_MlOsgi61Rq6bDCytpxzVTA#/registrati
 on
X-ALT-DESC;FMTTYPE=text/html:Imported on Apr 23\, 2026\, 39 days before th
 e event.<br />To verify info please see <a href="https://apps.alexandriav
 a.gov/CalendarTest/Detail.aspx?si=60025">https://apps.alexandriava.gov/Ca
 lendarTest/Detail.aspx?si=60025</a><br />\n<br />Virtual meeting\n<br />P
 rior registration is required to participate in the meeting. \n<br />\n<b
 r />Location:  Virtual Only\n<br />Contact Person: Ashley Johnson\n<br />
 Contact Phone: 703.746.3389\n<br />Contact Email: ashley.johnson@alexandr
 iava.gov\n<br />Audience: Anyone may attend\n<br />Tags: Adult\, Aging\, 
 Boards &amp\; Commissions\, Commission Meeting\, DCHS\, Seniors<br>\n<a h
 ref="https://zoom.us/webinar/register/WN_MlOsgi61Rq6bDCytpxzVTA#/registra
 tion">https://zoom.us/webinar/register/WN_MlOsgi61Rq6bDCytpxzVTA#/registr
 ation</a><br>\n
X-COA-DTSTAMP:20260326T162221Z
END:VEVENT
BEGIN:VEVENT
CATEGORIES:Adult
CATEGORIES:Aging
CATEGORIES:Boards & Commissions
CATEGORIES:Commission Meeting
CATEGORIES:DCHS
CATEGORIES:Seniors
DESCRIPTION:Imported on Apr 23\, 2026\, 42 days before the event.\nTo veri
 fy info please see https://apps.alexandriava.gov/CalendarTest/Detail.aspx
 ?si=60012\n\nVirtual Meeting\n\nLocation:  Virtual Only\nContact Person: 
 Ashley Johnson\nContact Phone: 703.746.3389\nAudience: Anyone may attend\
 nTags: Adult\, Aging\, Boards & Commissions\, Commission Meeting\, DCHS\,
  Seniors\n\nWeb resources:\n\nhttps://zoom.us/webinar/register/WN_DEaKsK5
 WSguxgnH8ea0naQ#/registration\nHybrid Meetings and Zoom Registration\nIf 
 you wish to use Zoom to participate in a meeting\, you must register firs
 t.\n
DTEND:20260604T223000Z
DTSTAMP:20260402T164509Z
DTSTART:20260604T203000Z
LOCATION: Virtual Only
SEQUENCE:5
STATUS:CONFIRMED
SUMMARY:VIRTUAL: Commission on Aging Civic Engagement and Economic
TRANSP:TRANSPARENT
UID:5650c442-e62a-4086-ad13-20c7446684b3
URL:https://zoom.us/webinar/register/WN_DEaKsK5WSguxgnH8ea0naQ#/registrati
 on
X-ALT-DESC;FMTTYPE=text/html:Imported on Apr 23\, 2026\, 42 days before th
 e event.<br />To verify info please see <a href="https://apps.alexandriav
 a.gov/CalendarTest/Detail.aspx?si=60012">https://apps.alexandriava.gov/Ca
 lendarTest/Detail.aspx?si=60012</a><br />\n<br />Virtual Meeting\n<br />\
 n<br />Location:  Virtual Only\n<br />Contact Person: Ashley Johnson\n<br
  />Contact Phone: 703.746.3389\n<br />Audience: Anyone may attend\n<br />
 Tags: Adult\, Aging\, Boards &amp\; Commissions\, Commission Meeting\, DC
 HS\, Seniors<br>\n<a href="https://zoom.us/webinar/register/WN_DEaKsK5WSg
 uxgnH8ea0naQ#/registration">https://zoom.us/webinar/register/WN_DEaKsK5WS
 guxgnH8ea0naQ#/registration</a><br>\nHybrid Meetings and Zoom Registratio
 n\nIf you wish to use Zoom to participate in a meeting\, you must registe
 r first.<br>\n
X-COA-DTSTAMP:20260402T164509Z
END:VEVENT
BEGIN:VEVENT
CATEGORIES:Admission Tax
CATEGORIES:Aging
CATEGORIES:Caregiver
CATEGORIES:Community Outreach
CATEGORIES:DCHS
CATEGORIES:Library
CATEGORIES:Seniors
DESCRIPTION:Imported on Apr 23\, 2026\, 46 days before the event.\nTo veri
 fy info please see https://apps.alexandriava.gov/CalendarTest/Detail.aspx
 ?si=62473\n\nLearn the basics of Medicare insurance for older adults. Reg
 ister at alexlibraryva.org or call 703.746.1704\n\nLocation: Burke Branch
  Library\, 4701 Seminary Rd.\nContact Person: Hilda Naranjo\nContact Phon
 e: 703.746.1704\nContact Email: VICAP@alexandriava.gov\nAudience: Anyone 
 may attend\nTags: Admission Tax\, Aging\, Caregiver\, Community Outreach\
 , DCHS\, Library\, Seniors
DTEND:20260608T153000Z
DTSTAMP:20260319T201338Z
DTSTART:20260608T143000Z
GEO:38.827978;-77.109708
LOCATION:Burke Branch Library\, 4701 Seminary Rd.
SEQUENCE:6
STATUS:CONFIRMED
SUMMARY:Medicare 101 Presentation
TRANSP:TRANSPARENT
UID:7f93f9e3-be24-4199-b9f0-29837a9c7201
X-ALT-DESC;FMTTYPE=text/html:Imported on Apr 23\, 2026\, 46 days before th
 e event.<br />To verify info please see <a href="https://apps.alexandriav
 a.gov/CalendarTest/Detail.aspx?si=62473">https://apps.alexandriava.gov/Ca
 lendarTest/Detail.aspx?si=62473</a><br />\n<br />Learn the basics of Medi
 care insurance for older adults. Register at alexlibraryva.org or call 70
 3.746.1704\n<br />\n<br />Location: Burke Branch Library\, 4701 Seminary 
 Rd.\n<br />Contact Person: Hilda Naranjo\n<br />Contact Phone: 703.746.17
 04\n<br />Contact Email: VICAP@alexandriava.gov\n<br />Audience: Anyone m
 ay attend\n<br />Tags: Admission Tax\, Aging\, Caregiver\, Community Outr
 each\, DCHS\, Library\, Seniors
X-COA-DTSTAMP:20260319T201338Z
END:VEVENT
BEGIN:VEVENT
CATEGORIES:Adult
CATEGORIES:Aging
CATEGORIES:Boards & Commissions
CATEGORIES:City Council
CATEGORIES:DCHS
CATEGORIES:Seniors
DESCRIPTION:Imported on Apr 23\, 2026\, 49 days before the event.\nTo veri
 fy info please see https://apps.alexandriava.gov/CalendarTest/Detail.aspx
 ?si=60034\n\nVirtual only meeting.\nPrior registration required to partic
 ipate in the meeting.\n\nLocation:  Virtual Only\nContact Person: Ashley 
 Johnson\nContact Phone: 703.746.3389\nContact Email: ashley.johnson@alexa
 ndriava.gov\nAudience: Anyone may attend\nTags: Adult\, Aging\, Boards & 
 Commissions\, City Council\, DCHS\, Seniors\n\nWeb resources:\n\nhttps://
 zoom.us/webinar/register/WN_N5_O8Gy1SWi9tder9FYIkA\n
DTEND:20260611T223000Z
DTSTAMP:20260313T172906Z
DTSTART:20260611T203000Z
LOCATION: Virtual Only
SEQUENCE:5
STATUS:CONFIRMED
SUMMARY:VIRTUAL: Commission on Aging
TRANSP:TRANSPARENT
UID:1e228c78-1a3f-4398-9a17-5b02af9fd148
URL:https://zoom.us/webinar/register/WN_N5_O8Gy1SWi9tder9FYIkA
X-ALT-DESC;FMTTYPE=text/html:Imported on Apr 23\, 2026\, 49 days before th
 e event.<br />To verify info please see <a href="https://apps.alexandriav
 a.gov/CalendarTest/Detail.aspx?si=60034">https://apps.alexandriava.gov/Ca
 lendarTest/Detail.aspx?si=60034</a><br />\n<br />Virtual only meeting.\n<
 br />Prior registration required to participate in the meeting.\n<br />\n
 <br />Location:  Virtual Only\n<br />Contact Person: Ashley Johnson\n<br 
 />Contact Phone: 703.746.3389\n<br />Contact Email: ashley.johnson@alexan
 driava.gov\n<br />Audience: Anyone may attend\n<br />Tags: Adult\, Aging\
 , Boards &amp\; Commissions\, City Council\, DCHS\, Seniors<br>\n<a href=
 "https://zoom.us/webinar/register/WN_N5_O8Gy1SWi9tder9FYIkA">https://zoom
 .us/webinar/register/WN_N5_O8Gy1SWi9tder9FYIkA</a><br>\n
X-COA-DTSTAMP:20260313T172906Z
END:VEVENT
BEGIN:VEVENT
CATEGORIES:Adult
CATEGORIES:Aging
CATEGORIES:Boards & Commissions
CATEGORIES:DCHS
CATEGORIES:Seniors
DESCRIPTION:Imported on Apr 23\, 2026\, 53 days before the event.\nTo veri
 fy info please see https://apps.alexandriava.gov/CalendarTest/Detail.aspx
 ?si=59991\n\nVirtual meeting\n\nLocation:  Virtual Only\nContact Person: 
 Ashley Johnson\nContact Phone: 703.746.3389\nContact Email: ashley.johnso
 n@alexandriava.gov\nAudience: Anyone may attend\nTags: Adult\, Aging\, Bo
 ards & Commissions\, DCHS\, Seniors\n\nWeb resources:\n\nhttps://www.alex
 andriava.gov/Boards\n\nhttps://zoom.us/j/95643420504\nMeeting ID: 956 434
 2 0504 \nPasscode: 947513\n
DTEND:20260615T190000Z
DTSTAMP:20250910T180643Z
DTSTART:20260615T170000Z
LOCATION: Virtual Only
SEQUENCE:4
STATUS:CONFIRMED
SUMMARY:VIRTUAL: Commission on Aging Housing Committee
TRANSP:TRANSPARENT
UID:de14cfee-8f15-4f95-a7f7-0927a6fb9df0
URL:https://www.alexandriava.gov/Boards
X-ALT-DESC;FMTTYPE=text/html:Imported on Apr 23\, 2026\, 53 days before th
 e event.<br />To verify info please see <a href="https://apps.alexandriav
 a.gov/CalendarTest/Detail.aspx?si=59991">https://apps.alexandriava.gov/Ca
 lendarTest/Detail.aspx?si=59991</a><br />\n<br />Virtual meeting\n<br />\
 n<br />Location:  Virtual Only\n<br />Contact Person: Ashley Johnson\n<br
  />Contact Phone: 703.746.3389\n<br />Contact Email: ashley.johnson@alexa
 ndriava.gov\n<br />Audience: Anyone may attend\n<br />Tags: Adult\, Aging
 \, Boards &amp\; Commissions\, DCHS\, Seniors<br>\n<a href="https://www.a
 lexandriava.gov/Boards">https://www.alexandriava.gov/Boards</a><br>\n<a h
 ref="https://zoom.us/j/95643420504">https://zoom.us/j/95643420504</a><br>
 \nMeeting ID: 956 4342 0504 \nPasscode: 947513<br>\n
X-COA-DTSTAMP:20250910T180643Z
END:VEVENT
BEGIN:VEVENT
CATEGORIES:Adult
CATEGORIES:Aging
CATEGORIES:Boards & Commissions
CATEGORIES:Commission Meeting
CATEGORIES:DCHS
CATEGORIES:Seniors
DESCRIPTION:Imported on Apr 23\, 2026\, 55 days before the event.\nTo veri
 fy info please see https://apps.alexandriava.gov/CalendarTest/Detail.aspx
 ?si=60002\n\nVirtual Meeting\n\nLocation:  Virtual Only\nContact Person: 
 Ashley Johnson\nContact Phone: 703.746.3389\nContact Email: ashley.johnso
 n@alexandriava.gov\nAudience: Anyone may attend\nTags: Adult\, Aging\, Bo
 ards & Commissions\, Commission Meeting\, DCHS\, Seniors\n\nWeb resources
 :\n\nhttps://zoom.us/j/92137928065 \nMeeting ID: 921 3792 8065 \nPasscode
 : 583255 \n
DTEND:20260617T220000Z
DTSTAMP:20250926T211218Z
DTSTART:20260617T200000Z
LOCATION: Virtual Only
SEQUENCE:5
STATUS:CANCELLED
SUMMARY:CANCELLED: Commission on Aging Transportation Committee
TRANSP:TRANSPARENT
UID:24d66584-0229-4666-a94b-376acde8c1c8
URL:https://zoom.us/j/92137928065
X-ALT-DESC;FMTTYPE=text/html:Imported on Apr 23\, 2026\, 55 days before th
 e event.<br />To verify info please see <a href="https://apps.alexandriav
 a.gov/CalendarTest/Detail.aspx?si=60002">https://apps.alexandriava.gov/Ca
 lendarTest/Detail.aspx?si=60002</a><br />\n<br />Virtual Meeting\n<br />\
 n<br />Location:  Virtual Only\n<br />Contact Person: Ashley Johnson\n<br
  />Contact Phone: 703.746.3389\n<br />Contact Email: ashley.johnson@alexa
 ndriava.gov\n<br />Audience: Anyone may attend\n<br />Tags: Adult\, Aging
 \, Boards &amp\; Commissions\, Commission Meeting\, DCHS\, Seniors<br>\n<
 a href="https://zoom.us/j/92137928065 ">https://zoom.us/j/92137928065 </a
 ><br>\nMeeting ID: 921 3792 8065 \nPasscode: 583255 <br>\n
X-COA-DTSTAMP:20250926T211218Z
END:VEVENT
BEGIN:VEVENT
CATEGORIES:Adult
CATEGORIES:Aging
CATEGORIES:Caregiver
CATEGORIES:Community Outreach
CATEGORIES:DCHS
CATEGORIES:Library
CATEGORIES:Seniors
DESCRIPTION:Imported on Apr 23\, 2026\, 83 days before the event.\nTo veri
 fy info please see https://apps.alexandriava.gov/CalendarTest/Detail.aspx
 ?si=62472\n\nLearn the basics of Medicare insurance for older adults. Reg
 ister at alexlibraryva.org or call 703.746.1702\n\nLocation: Beatley Libr
 ary\, 5005 Duke St.\nContact Person: Hilda Naranjo\nContact Phone: 703.74
 6.1702\nContact Email: VICAP@alexandriava.gov\nAudience: Anyone may atten
 d\nTags: Adult\, Aging\, Caregiver\, Community Outreach\, DCHS\, Library\
 , Seniors
DTEND:20260715T180000Z
DTSTAMP:20260319T200646Z
DTSTART:20260715T170000Z
GEO:38.812393;-77.117704
LOCATION:Beatley Library\, 5005 Duke St.
SEQUENCE:6
STATUS:CONFIRMED
SUMMARY:Medicare 101 Presentation
TRANSP:TRANSPARENT
UID:92ec3508-a0d2-42e9-a9be-cd2c6d24c456
X-ALT-DESC;FMTTYPE=text/html:Imported on Apr 23\, 2026\, 83 days before th
 e event.<br />To verify info please see <a href="https://apps.alexandriav
 a.gov/CalendarTest/Detail.aspx?si=62472">https://apps.alexandriava.gov/Ca
 lendarTest/Detail.aspx?si=62472</a><br />\n<br />Learn the basics of Medi
 care insurance for older adults. Register at alexlibraryva.org or call 70
 3.746.1702\n<br />\n<br />Location: Beatley Library\, 5005 Duke St.\n<br 
 />Contact Person: Hilda Naranjo\n<br />Contact Phone: 703.746.1702\n<br /
 >Contact Email: VICAP@alexandriava.gov\n<br />Audience: Anyone may attend
 \n<br />Tags: Adult\, Aging\, Caregiver\, Community Outreach\, DCHS\, Lib
 rary\, Seniors
X-COA-DTSTAMP:20260319T200646Z
END:VEVENT
END:VCALENDAR
