BEGIN:VCALENDAR
CALSCALE:GREGORIAN
METHOD:PUBLISH
PRODID:-//github.com/ical-org/ical.net//NONSGML ical.net 4.0//EN
VERSION:2.0
X-WR-TIMEZONE:US/Eastern
BEGIN:VEVENT
CATEGORIES:Arts
CATEGORIES:Community Outreach
CATEGORIES:Exercise
CATEGORIES:Family
CATEGORIES:Nature
CATEGORIES:Parks
CATEGORIES:Recreation
CATEGORIES:Recreation Centers
CATEGORIES:Schools
CATEGORIES:Sports
CATEGORIES:Summer Fun for Kids
CATEGORIES:Teens
CATEGORIES:Toddlers
CATEGORIES:Youth
DESCRIPTION:Imported on Apr 22\, 2026\, 9 days before the event.\nTo verif
 y info please see https://apps.alexandriava.gov/Calendar/Detail.aspx?si=6
 2423\n\nAges 5 & up. Join us for an afternoon of creativity\, relaxation\
 , and celebration as we honor mothers\, grandmothers\, and mother figures
  in our community. Guests will enjoy guided painting instruction in a fun
  and welcoming atmosphere\, and no experience is needed! Sip on refreshin
 g beverages\, connect with friends and create a beautiful keepsake to tak
 e home.\n\nLocation: Mt. Vernon Rec Center\, 2701 Commonwealth Ave.\nCont
 act Person: Candice Alexander\nContact Phone: 703.746.5556\nContact Email
 : candice.alexander@alexandriava.gov\nFees: $15\nAudience: Anyone may att
 end\nTags: Arts\, Community Outreach\, Exercise\, Family\, Nature\, Parks
 \, Recreation\, Recreation Centers\, Schools\, Sports\, Summer Fun for Ki
 ds\, Teens\, Toddlers\, Youth\n\nWeb resources:\n\nRegistration Link\nhtt
 ps://vaalexandriaweb.myvscloud.com/webtrac/web/iteminfo.html?Module=AR&FM
 ID=79146941&fbclid=IwY2xjawQfm7lleHRuA2FlbQIxMABicmlkETFXdEFpYU5rYWp6RjVT
 Z3VKc3J0YwZhcHBfaWQQMjIyMDM5MTc4ODIwMDg5MgABHvrVkvIunbKsOCmocsEejvYUB6wsY
 Iyxk5TyFy79oGb24tGgGDShiKVWO9IW_aem_YWhXd73Uyx_HKuPhCM3Emg\nDon't miss ou
 t\, register today!\n\nRPCA's RecFest\nhttps://www.alexandriava.gov/rpca/
 recfest-2023\nLearn more about RPCA's FREE event at Armistead L. Boothe P
 ark!\n\nRPCA Website\nhttps://www.alexandriava.gov/Recreation\nFind out m
 ore about the Department of Recreation\, Parks & Cultural Activities (RPC
 A).\n\nRPCA Social Media\nhttps://www.alexandriava.gov/Recreation#Connect
 withUs\nFollow us on Instagram\, Facebook\, & Twitter!\n
DTEND:20260502T170000Z
DTSTAMP:20260312T182612Z
DTSTART:20260502T150000Z
GEO:38.828709;-77.060096
LOCATION:Mt. Vernon Rec Center\, 2701 Commonwealth Ave.
SEQUENCE:5
STATUS:CONFIRMED
SUMMARY:Mother's Day Sip & Paint
TRANSP:TRANSPARENT
UID:166c6e3f-7adb-4c68-a798-3596d14bc1f3
URL:https://vaalexandriaweb.myvscloud.com/webtrac/web/iteminfo.html?Module
 =AR&FMID=79146941&fbclid=IwY2xjawQfm7lleHRuA2FlbQIxMABicmlkETFXdEFpYU5rYW
 p6RjVTZ3VKc3J0YwZhcHBfaWQQMjIyMDM5MTc4ODIwMDg5MgABHvrVkvIunbKsOCmocsEejvY
 UB6wsYIyxk5TyFy79oGb24tGgGDShiKVWO9IW_aem_YWhXd73Uyx_HKuPhCM3Emg
X-ALT-DESC;FMTTYPE=text/html:Imported on Apr 22\, 2026\, 9 days before the
  event.<br />To verify info please see <a href="https://apps.alexandriava
 .gov/Calendar/Detail.aspx?si=62423">https://apps.alexandriava.gov/Calenda
 r/Detail.aspx?si=62423</a><br />\n<br />Ages 5 &amp\; up. Join us for an 
 afternoon of creativity\, relaxation\, and celebration as we honor mother
 s\, grandmothers\, and mother figures in our community. Guests will enjoy
  guided painting instruction in a fun and welcoming atmosphere\, and no e
 xperience is needed! Sip on refreshing beverages\, connect with friends a
 nd create a beautiful keepsake to take home.\n<br />\n<br />Location: Mt.
  Vernon Rec Center\, 2701 Commonwealth Ave.\n<br />Contact Person: Candic
 e Alexander\n<br />Contact Phone: 703.746.5556\n<br />Contact Email: cand
 ice.alexander@alexandriava.gov\n<br />Fees: $15\n<br />Audience: Anyone m
 ay attend\n<br />Tags: Arts\, Community Outreach\, Exercise\, Family\, Na
 ture\, Parks\, Recreation\, Recreation Centers\, Schools\, Sports\, Summe
 r Fun for Kids\, Teens\, Toddlers\, Youth<br>\n<a href="https://vaalexand
 riaweb.myvscloud.com/webtrac/web/iteminfo.html?Module=AR&amp\;FMID=791469
 41&amp\;fbclid=IwY2xjawQfm7lleHRuA2FlbQIxMABicmlkETFXdEFpYU5rYWp6RjVTZ3VK
 c3J0YwZhcHBfaWQQMjIyMDM5MTc4ODIwMDg5MgABHvrVkvIunbKsOCmocsEejvYUB6wsYIyxk
 5TyFy79oGb24tGgGDShiKVWO9IW_aem_YWhXd73Uyx_HKuPhCM3Emg">Registration Link
 </a><br>\nDon&#39\;t miss out\, register today!<br>\n<a href="https://www
 .alexandriava.gov/rpca/recfest-2023">RPCA&#39\;s RecFest</a><br>\nLearn m
 ore about RPCA&#39\;s FREE event at Armistead L. Boothe Park!<br>\n<a hre
 f="https://www.alexandriava.gov/Recreation">RPCA Website</a><br>\nFind ou
 t more about the Department of Recreation\, Parks &amp\; Cultural Activit
 ies (RPCA).<br>\n<a href="https://www.alexandriava.gov/Recreation#Connect
 withUs">RPCA Social Media</a><br>\nFollow us on Instagram\, Facebook\, &a
 mp\; Twitter!<br>\n
X-COA-DTSTAMP:20260312T182612Z
END:VEVENT
BEGIN:VEVENT
DESCRIPTION:Imported on Apr 22\, 2026\, 14 days before the event.\nTo veri
 fy info please see https://apps.alexandriava.gov/Calendar/Detail.aspx?si=
 62547\n\nA great time for neighbors and families to come together and con
 nect with community resources.\n\nLocation: Mt. Vernon Rec Center\, 2701 
 Commonwealth Ave.\nContact Person: Daniel Guzman\nContact Phone: 703.746.
 5419\nContact Email: daniel.guzman@alexandriava.gov\nAudience: The same a
 s NULL value.\n\nWeb resources:\n\nCommunity Cookouts\nhttps://www.alexan
 driava.gov/rpca/alexandria-community-cookouts\n
DTEND:20260506T233000Z
DTSTAMP:20260408T223826Z
DTSTART:20260506T220000Z
GEO:38.828709;-77.060096
LOCATION:Mt. Vernon Rec Center\, 2701 Commonwealth Ave.
SEQUENCE:6
STATUS:CONFIRMED
SUMMARY:Community Cookout
TRANSP:TRANSPARENT
UID:8492e40e-6fe4-42ca-a8c6-5cd0fc58c47c
URL:https://www.alexandriava.gov/rpca/alexandria-community-cookouts
X-ALT-DESC;FMTTYPE=text/html:Imported on Apr 22\, 2026\, 14 days before th
 e event.<br />To verify info please see <a href="https://apps.alexandriav
 a.gov/Calendar/Detail.aspx?si=62547">https://apps.alexandriava.gov/Calend
 ar/Detail.aspx?si=62547</a><br />\n<br />A great time for neighbors and f
 amilies to come together and connect with community resources.\n<br />\n<
 br />Location: Mt. Vernon Rec Center\, 2701 Commonwealth Ave.\n<br />Cont
 act Person: Daniel Guzman\n<br />Contact Phone: 703.746.5419\n<br />Conta
 ct Email: daniel.guzman@alexandriava.gov\n<br />Audience: The same as NUL
 L value.<br>\n<a href="https://www.alexandriava.gov/rpca/alexandria-commu
 nity-cookouts">Community Cookouts</a><br>\n
X-COA-DTSTAMP:20260408T223826Z
END:VEVENT
END:VCALENDAR
