BEGIN:VCALENDAR
CALSCALE:GREGORIAN
METHOD:PUBLISH
PRODID:-//github.com/ical-org/ical.net//NONSGML ical.net 4.0//EN
VERSION:2.0
X-WR-TIMEZONE:US/Eastern
BEGIN:VEVENT
CATEGORIES:Community Outreach
DESCRIPTION:Imported on Apr 22\, 2026\, 49 days before the event.\nTo veri
 fy info please see https://apps.alexandriava.gov/Calendar/Detail.aspx?si=
 62551\n\nA great time for neighbors and families to come together and con
 nect with community resources.\n\nLocation: Fairlington Presbyterian Chur
 ch\nContact Person: Daniel Guzman\nContact Phone: 703.746.5419\nContact E
 mail: daniel.guzman@alexandriava.gov\nAudience: The same as NULL value.\n
 Tags: Community Outreach\n\nWeb resources:\n\nCommunity Cookouts\nhttps:/
 /www.alexandriava.gov/rpca/alexandria-community-cookouts\n
DTEND:20260610T233000Z
DTSTAMP:20260408T224258Z
DTSTART:20260610T220000Z
GEO:38.831548;-77.094708
LOCATION:Fairlington Presbyterian Church
SEQUENCE:5
STATUS:CONFIRMED
SUMMARY:Community Cookout
TRANSP:TRANSPARENT
UID:c1485496-6869-4490-9b5e-5961a1338bfb
URL:https://www.alexandriava.gov/rpca/alexandria-community-cookouts
X-ALT-DESC;FMTTYPE=text/html:Imported on Apr 22\, 2026\, 49 days before th
 e event.<br />To verify info please see <a href="https://apps.alexandriav
 a.gov/Calendar/Detail.aspx?si=62551">https://apps.alexandriava.gov/Calend
 ar/Detail.aspx?si=62551</a><br />\n<br />A great time for neighbors and f
 amilies to come together and connect with community resources.\n<br />\n<
 br />Location: Fairlington Presbyterian Church\n<br />Contact Person: Dan
 iel Guzman\n<br />Contact Phone: 703.746.5419\n<br />Contact Email: danie
 l.guzman@alexandriava.gov\n<br />Audience: The same as NULL value.\n<br /
 >Tags: Community Outreach<br>\n<a href="https://www.alexandriava.gov/rpca
 /alexandria-community-cookouts">Community Cookouts</a><br>\n
X-COA-DTSTAMP:20260408T224258Z
END:VEVENT
END:VCALENDAR
