BEGIN:VCALENDAR
CALSCALE:GREGORIAN
METHOD:PUBLISH
PRODID:-//github.com/ical-org/ical.net//NONSGML ical.net 4.0//EN
VERSION:2.0
X-WR-TIMEZONE:US/Eastern
BEGIN:VEVENT
CATEGORIES:Arts
CATEGORIES:Community Outreach
CATEGORIES:Exercise
CATEGORIES:Family
CATEGORIES:Nature
CATEGORIES:Parks
CATEGORIES:Recreation
CATEGORIES:Recreation Centers
CATEGORIES:Schools
CATEGORIES:Sports
CATEGORIES:Summer Fun for Kids
CATEGORIES:Teens
CATEGORIES:Toddlers
CATEGORIES:Youth
DESCRIPTION:Imported on Apr 23\, 2026\, 78 days before the event.\nTo veri
 fy info please see https://apps.alexandriava.gov/Calendar/Detail.aspx?si=
 62426\n\nWhat's more fun than gathering with friends\, family\, and fello
 w Alexandrians to enjoy an evening of activities and entertainment in the
  park while forging new relationships.\n\nLocation: Leonard "Chick" Armst
 rong Rec Center\, 25 W. Reed Ave.\nContact Phone: 703.746.5554\nAudience:
  Anyone may attend\nTags: Arts\, Community Outreach\, Exercise\, Family\,
  Nature\, Parks\, Recreation\, Recreation Centers\, Schools\, Sports\, Su
 mmer Fun for Kids\, Teens\, Toddlers\, Youth\n\nWeb resources:\n\nRPCA We
 bsite\nhttps://www.alexandriava.gov/Recreation\nFind out more about the D
 epartment of Recreation\, Parks & Cultural Activities (RPCA).\n\nRPCA Soc
 ial Media\nhttps://www.alexandriava.gov/Recreation#ConnectwithUs\nFollow 
 us on Instagram\, Facebook\, & Twitter!\n
DTEND:20260710T233000Z
DTSTAMP:20260312T183543Z
DTSTART:20260710T223000Z
LOCATION:Leonard "Chick" Armstrong Rec Center\, 25 W. Reed Ave.
SEQUENCE:5
STATUS:CONFIRMED
SUMMARY:Community Family Picnic
TRANSP:TRANSPARENT
UID:3c53860c-c8a7-4214-b295-660ba8fc8dff
URL:https://www.alexandriava.gov/Recreation
X-ALT-DESC;FMTTYPE=text/html:Imported on Apr 23\, 2026\, 78 days before th
 e event.<br />To verify info please see <a href="https://apps.alexandriav
 a.gov/Calendar/Detail.aspx?si=62426">https://apps.alexandriava.gov/Calend
 ar/Detail.aspx?si=62426</a><br />\n<br />What?s more fun than gathering w
 ith friends\, family\, and fellow Alexandrians to enjoy an evening of act
 ivities and entertainment in the park while forging new relationships.\n<
 br />\n<br />Location: Leonard &quot\;Chick&quot\; Armstrong Rec Center\,
  25 W. Reed Ave.\n<br />Contact Phone: 703.746.5554\n<br />Audience: Anyo
 ne may attend\n<br />Tags: Arts\, Community Outreach\, Exercise\, Family\
 , Nature\, Parks\, Recreation\, Recreation Centers\, Schools\, Sports\, S
 ummer Fun for Kids\, Teens\, Toddlers\, Youth<br>\n<a href="https://www.a
 lexandriava.gov/Recreation">RPCA Website</a><br>\nFind out more about the
  Department of Recreation\, Parks &amp\; Cultural Activities (RPCA).<br>\
 n<a href="https://www.alexandriava.gov/Recreation#ConnectwithUs">RPCA Soc
 ial Media</a><br>\nFollow us on Instagram\, Facebook\, &amp\; Twitter!<br
 >\n
X-COA-DTSTAMP:20260312T183543Z
END:VEVENT
END:VCALENDAR
