BEGIN:VCALENDAR
CALSCALE:GREGORIAN
METHOD:PUBLISH
PRODID:-//github.com/ical-org/ical.net//NONSGML ical.net 4.0//EN
VERSION:2.0
X-WR-TIMEZONE:US/Eastern
BEGIN:VEVENT
CATEGORIES:Black History
CATEGORIES:Museums
CATEGORIES:Old & Historic Alexandria
CATEGORIES:Old Town
DESCRIPTION:Imported on Apr 21\, 2026\, 16 days before the event.\nTo veri
 fy info please see https://apps.alexandriava.gov/Calendar/Detail.aspx?si=
 62159\n\nGrown-Up Field Trip: Archives and Records Center\n\nFor the 100t
 h anniversary of Black History Month\, venture out on a four-part field t
 rip series for adults highlighting African American history around Alexan
 dria. Explore objects and primary sources\, dive into conversations\, and
  be ready to be hands-on as you learn more about Alexandria and American 
 history. All field trips are based on ones offered to school-age children
 \, but with extra time\, so we can go even deeper!\n\nFebruary 20: Lives 
 and Legacies at the Freedom House Museum\n\n\nMarch 20: Media Remix at th
 e Alexandria Black History Museum\n\n\nApril 10: Hayti: Uncovering an Afr
 ican American Neighborhood at the Alexandria Archaeology Museum\n\n\nMay 
 8: African American Stories at Alexandria's Archives and Records Center\n
 \nLocation: Archives and Records Center\, 801 S. Payne Street\nFees: $15/
 $12 for Grown-up Field Trip Members\nAudience: The same as NULL value.\nT
 ags: Black History\, Museums\, Old & Historic Alexandria\, Old Town\n\nWe
 b resources:\n\nPurchase Tickets Online \nhttps://shop.alexandriava.gov/E
 vents.aspx\n
DTEND:20260509T000001Z
DTSTAMP:20260130T144547Z
DTSTART:20260508T223000Z
LOCATION:Archives and Records Center\, 801 S. Payne Street
SEQUENCE:5
STATUS:CONFIRMED
SUMMARY:Grown-Up Field Trip: Archives
TRANSP:OPAQUE
UID:bb37172f-4b55-48b4-950c-cf46f04627ba
URL:https://shop.alexandriava.gov/Events.aspx
X-ALT-DESC;FMTTYPE=text/html:Imported on Apr 21\, 2026\, 16 days before th
 e event.<br />To verify info please see <a href="https://apps.alexandriav
 a.gov/Calendar/Detail.aspx?si=62159">https://apps.alexandriava.gov/Calend
 ar/Detail.aspx?si=62159</a><br />\n<br />Grown-Up Field Trip: Archives an
 d Records Center\n<br />\n<br />For the 100th anniversary of Black Histor
 y Month\, venture out on a four-part field trip series for adults highlig
 hting African American history around Alexandria. Explore objects and pri
 mary sources\, dive into conversations\, and be ready to be hands-on as y
 ou learn more about Alexandria and American history. All field trips are 
 based on ones offered to school-age children\, but with extra time\, so w
 e can go even deeper!\n<br />\n<br />February 20: Lives and Legacies at t
 he Freedom House Museum\n<br />\n<br />\n<br />March 20: Media Remix at t
 he Alexandria Black History Museum\n<br />\n<br />\n<br />April 10: Hayti
 : Uncovering an African American Neighborhood at the Alexandria Archaeolo
 gy Museum\n<br />\n<br />\n<br />May 8: African American Stories at Alexa
 ndria?s Archives and Records Center\n<br />\n<br />Location: Archives and
  Records Center\, 801 S. Payne Street\n<br />Fees: $15/$12 for Grown-up F
 ield Trip Members\n<br />Audience: The same as NULL value.\n<br />Tags: B
 lack History\, Museums\, Old &amp\; Historic Alexandria\, Old Town<br>\n<
 a href="https://shop.alexandriava.gov/Events.aspx">Purchase Tickets Onlin
 e </a><br>\n
X-COA-DTSTAMP:20260130T144547Z
BEGIN:VALARM
ACTION:DISPLAY
DESCRIPTION:Grown-Up Field Trip: Archives: Please visit website to confirm
  time\, location\, etc.
DURATION:PT30M
REPEAT:2
TRIGGER:-PT30M
END:VALARM
END:VEVENT
END:VCALENDAR
