BEGIN:VCALENDAR
CALSCALE:GREGORIAN
METHOD:PUBLISH
PRODID:-//github.com/ical-org/ical.net//NONSGML ical.net 4.0//EN
VERSION:2.0
X-WR-TIMEZONE:US/Eastern
BEGIN:VEVENT
CATEGORIES:City Council
CATEGORIES:City Council Calendar
CATEGORIES:City Hall
DESCRIPTION:Imported on Apr 21\, 2026\, 70 days before the event.\nTo veri
 fy info please see https://apps.alexandriava.gov/Calendar/Detail.aspx?si=
 59688\n\nCity Council Public Hearing Meeting\n\nLocation: City Hall\, Cou
 ncil Chamber\, 301 King St.\nContact Person: Gloria Sitton\nContact Email
 : CouncilComment@alexandriava.gov\nAudience: Anyone may attend\nTags: Cit
 y Council\, City Council Calendar\, City Hall
DTEND:20260702T030000Z
DTSTAMP:20250626T195637Z
DTSTART:20260701T230000Z
GEO:38.805393;-77.043273
LOCATION:City Hall\, Council Chamber\, 301 King St.
SEQUENCE:5
STATUS:CONFIRMED
SUMMARY:City Council Public Hearing Meeting
TRANSP:OPAQUE
UID:3a043a29-b12a-4a61-8c09-e42255dabcf9
X-ALT-DESC;FMTTYPE=text/html:Imported on Apr 21\, 2026\, 70 days before th
 e event.<br />To verify info please see <a href="https://apps.alexandriav
 a.gov/Calendar/Detail.aspx?si=59688">https://apps.alexandriava.gov/Calend
 ar/Detail.aspx?si=59688</a><br />\n<br />City Council Public Hearing Meet
 ing\n<br />\n<br />Location: City Hall\, Council Chamber\, 301 King St.\n
 <br />Contact Person: Gloria Sitton\n<br />Contact Email: CouncilComment@
 alexandriava.gov\n<br />Audience: Anyone may attend\n<br />Tags: City Cou
 ncil\, City Council Calendar\, City Hall
X-COA-DTSTAMP:20250626T195637Z
BEGIN:VALARM
ACTION:DISPLAY
DESCRIPTION:City Council Public Hearing Meeting: Please visit website to c
 onfirm time\, location\, etc.
DURATION:PT30M
REPEAT:2
TRIGGER:-PT30M
END:VALARM
END:VEVENT
END:VCALENDAR
