BEGIN:VCALENDAR
CALSCALE:GREGORIAN
METHOD:PUBLISH
PRODID:-//github.com/ical-org/ical.net//NONSGML ical.net 4.0//EN
VERSION:2.0
X-WR-TIMEZONE:US/Eastern
BEGIN:VEVENT
CATEGORIES:Boards & Commissions
CATEGORIES:Museums
CATEGORIES:Old & Historic Alexandria
CATEGORIES:Old Town
CATEGORIES:Parade
DESCRIPTION:Imported on Apr 23\, 2026\, 24 days before the event.\nTo veri
 fy info please see https://apps.alexandriava.gov/Calendar/Detail.aspx?si=
 62595\n\nA meeting of the George Washington Birthday Celebration Committe
 e (GWBCC). \n\nLocation: Lloyd House\, 220 N. Washington St.\nAudience: A
 nyone may attend\nTags: Boards & Commissions\, Museums\, Old & Historic A
 lexandria\, Old Town\, Parade
DTEND:20260519T010000Z
DTSTAMP:20260423T203558Z
DTSTART:20260518T230000Z
GEO:38.807209;-77.046797
LOCATION:Lloyd House\, 220 N. Washington St.
SEQUENCE:5
STATUS:CONFIRMED
SUMMARY:George Washington Birthday Celebration Committee
TRANSP:OPAQUE
UID:7cc43790-76fc-4152-8dbc-9b0baf97f251
X-ALT-DESC;FMTTYPE=text/html:Imported on Apr 23\, 2026\, 24 days before th
 e event.<br />To verify info please see <a href="https://apps.alexandriav
 a.gov/Calendar/Detail.aspx?si=62595">https://apps.alexandriava.gov/Calend
 ar/Detail.aspx?si=62595</a><br />\n<br />A meeting of the George Washingt
 on Birthday Celebration Committee (GWBCC). \n<br />\n<br />Location: Lloy
 d House\, 220 N. Washington St.\n<br />Audience: Anyone may attend\n<br /
 >Tags: Boards &amp\; Commissions\, Museums\, Old &amp\; Historic Alexandr
 ia\, Old Town\, Parade
X-COA-DTSTAMP:20260423T203558Z
BEGIN:VALARM
ACTION:DISPLAY
DESCRIPTION:George Washington Birthday Celebration Committee: Please visit
  website to confirm time\, location\, etc.
DURATION:PT30M
REPEAT:2
TRIGGER:-PT30M
END:VALARM
END:VEVENT
END:VCALENDAR
