BEGIN:VCALENDAR
CALSCALE:GREGORIAN
METHOD:PUBLISH
PRODID:-//github.com/ical-org/ical.net//NONSGML ical.net 4.0//EN
VERSION:2.0
X-WR-TIMEZONE:US/Eastern
BEGIN:VEVENT
CATEGORIES:Boards & Commissions
CATEGORIES:Commission Meeting
CATEGORIES:Historic Preservation
CATEGORIES:Museums
DESCRIPTION:Imported on Apr 23\, 2026\, 20 days before the event.\nTo veri
 fy info please see https://apps.alexandriava.gov/Calendar/Detail.aspx?si=
 62592\n\nAn in-person meeting of the Historic Restoration and Preservatio
 n Commission. \n\nLocation: Lloyd House\, 220 N. Washington St.\nAudience
 : Anyone may attend\nTags: Boards & Commissions\, Commission Meeting\, Hi
 storic Preservation\, Museums
DTEND:20260513T131500Z
DTSTAMP:20260422T204553Z
DTSTART:20260513T120000Z
GEO:38.807209;-77.046797
LOCATION:Lloyd House\, 220 N. Washington St.
SEQUENCE:5
STATUS:CONFIRMED
SUMMARY:Historical Restoration and Preservation Commission
TRANSP:OPAQUE
UID:44e1e8a4-27e9-47a8-9c69-8e2e2e5e5b09
X-ALT-DESC;FMTTYPE=text/html:Imported on Apr 23\, 2026\, 20 days before th
 e event.<br />To verify info please see <a href="https://apps.alexandriav
 a.gov/Calendar/Detail.aspx?si=62592">https://apps.alexandriava.gov/Calend
 ar/Detail.aspx?si=62592</a><br />\n<br />An in-person meeting of the Hist
 oric Restoration and Preservation Commission. \n<br />\n<br />Location: L
 loyd House\, 220 N. Washington St.\n<br />Audience: Anyone may attend\n<b
 r />Tags: Boards &amp\; Commissions\, Commission Meeting\, Historic Prese
 rvation\, Museums
X-COA-DTSTAMP:20260422T204553Z
BEGIN:VALARM
ACTION:DISPLAY
DESCRIPTION:Historical Restoration and Preservation Commission: Please vis
 it website to confirm time\, location\, etc.
DURATION:PT30M
REPEAT:2
TRIGGER:-PT30M
END:VALARM
END:VEVENT
END:VCALENDAR
