BEGIN:VCALENDAR
CALSCALE:GREGORIAN
METHOD:PUBLISH
PRODID:-//github.com/ical-org/ical.net//NONSGML ical.net 4.0//EN
VERSION:2.0
X-WR-TIMEZONE:US/Eastern
BEGIN:VEVENT
CATEGORIES:Boards & Commissions
CATEGORIES:Museums
CATEGORIES:Old & Historic Alexandria
CATEGORIES:Old Town
CATEGORIES:Sister Cities
DESCRIPTION:Imported on Apr 23\, 2026\, 4 days before the event.\nTo verif
 y info please see https://apps.alexandriava.gov/Calendar/Detail.aspx?si=6
 2590\n\nA meeting of the Sister Cities Committee (SCC) Dundee and Helsing
 borg.\n\nLocation: Lloyd House\, 220 N. Washington St.\nAudience: Anyone 
 may attend\nTags: Boards & Commissions\, Museums\, Old & Historic Alexand
 ria\, Old Town\, Sister Cities
DTEND:20260428T003000Z
DTSTAMP:20260422T201757Z
DTSTART:20260427T230000Z
GEO:38.807209;-77.046797
LOCATION:Lloyd House\, 220 N. Washington St.
SEQUENCE:5
STATUS:CONFIRMED
SUMMARY:Sister Cities Committee Dundee and Helsingborg
TRANSP:OPAQUE
UID:2208ae32-8888-4d71-b0b2-518c2c3eb189
X-ALT-DESC;FMTTYPE=text/html:Imported on Apr 23\, 2026\, 4 days before the
  event.<br />To verify info please see <a href="https://apps.alexandriava
 .gov/Calendar/Detail.aspx?si=62590">https://apps.alexandriava.gov/Calenda
 r/Detail.aspx?si=62590</a><br />\n<br />A meeting of the Sister Cities Co
 mmittee (SCC) Dundee and Helsingborg.\n<br />\n<br />Location: Lloyd Hous
 e\, 220 N. Washington St.\n<br />Audience: Anyone may attend\n<br />Tags:
  Boards &amp\; Commissions\, Museums\, Old &amp\; Historic Alexandria\, O
 ld Town\, Sister Cities
X-COA-DTSTAMP:20260422T201757Z
BEGIN:VALARM
ACTION:DISPLAY
DESCRIPTION:Sister Cities Committee Dundee and Helsingborg: Please visit w
 ebsite to confirm time\, location\, etc.
DURATION:PT30M
REPEAT:2
TRIGGER:-PT30M
END:VALARM
END:VEVENT
END:VCALENDAR
