BEGIN:VCALENDAR
CALSCALE:GREGORIAN
METHOD:PUBLISH
PRODID:-//github.com/ical-org/ical.net//NONSGML ical.net 4.0//EN
VERSION:2.0
X-WR-TIMEZONE:US/Eastern
BEGIN:VEVENT
CATEGORIES:Boards & Commissions
CATEGORIES:Commission Meeting
CATEGORIES:Planning Boards and Commissions
CATEGORIES:Planning Commission
CATEGORIES:Planning Meeting
CATEGORIES:Work Session
CATEGORIES:Zoning
DESCRIPTION:Imported on Apr 21\, 2026\, 13 days before the event.\nTo veri
 fy info please see https://apps.alexandriava.gov/Calendar/Detail.aspx?si=
 62585\n\nThe Planning Commission will hold a Work Session on May 5\, 2026
  at 6:00 p.m. in the Redella S. "Del" Pepper Community Resource Center\, 
 Room 1305\, 4850 Mark Center Drive\, Alexandria\, VA 22311\, for an updat
 e and discussion of the draft Duke Street Land Use Plan. \n\nLocation: De
 l Pepper Community Resource Center\, 4850 Mark Center Drive\nContact Pers
 on: Kendra Jacobs\nContact Phone: 703.746.4666\nContact Email: kendra.jac
 obs@alexandriava.gov\nAudience: The same as NULL value.\nTags: Boards & C
 ommissions\, Commission Meeting\, Planning Boards and Commissions\, Plann
 ing Commission\, Planning Meeting\, Work Session\, Zoning\n\nWeb resource
 s:\n\nhttps://alexandria.granicus.com/ViewPublisher.php?view_id=57\n
DTEND:20260505T230000Z
DTSTAMP:20260421T141029Z
DTSTART:20260505T220000Z
LOCATION:Del Pepper Community Resource Center\, 4850 Mark Center Drive
SEQUENCE:6
STATUS:CONFIRMED
SUMMARY:Planning Commission Work Session
TRANSP:TRANSPARENT
UID:6939e930-1106-46ac-ada5-b36ec943613c
URL:https://alexandria.granicus.com/ViewPublisher.php?view_id=57
X-ALT-DESC;FMTTYPE=text/html:Imported on Apr 21\, 2026\, 13 days before th
 e event.<br />To verify info please see <a href="https://apps.alexandriav
 a.gov/Calendar/Detail.aspx?si=62585">https://apps.alexandriava.gov/Calend
 ar/Detail.aspx?si=62585</a><br />\n<br />The Planning Commission will hol
 d a Work Session on May 5\, 2026 at 6:00 p.m. in the Redella S. ?Del? Pep
 per Community Resource Center\, Room 1305\, 4850 Mark Center Drive\, Alex
 andria\, VA 22311\, for an update and discussion of the draft Duke Street
  Land Use Plan. \n<br />\n<br />Location: Del Pepper Community Resource C
 enter\, 4850 Mark Center Drive\n<br />Contact Person: Kendra Jacobs\n<br 
 />Contact Phone: 703.746.4666\n<br />Contact Email: kendra.jacobs@alexand
 riava.gov\n<br />Audience: The same as NULL value.\n<br />Tags: Boards &a
 mp\; Commissions\, Commission Meeting\, Planning Boards and Commissions\,
  Planning Commission\, Planning Meeting\, Work Session\, Zoning<br>\n<a h
 ref="https://alexandria.granicus.com/ViewPublisher.php?view_id=57">https:
 //alexandria.granicus.com/ViewPublisher.php?view_id=57</a><br>\n
X-COA-DTSTAMP:20260421T141029Z
END:VEVENT
END:VCALENDAR
