BEGIN:VCALENDAR
CALSCALE:GREGORIAN
METHOD:PUBLISH
PRODID:-//github.com/ical-org/ical.net//NONSGML ical.net 4.0//EN
VERSION:2.0
X-WR-TIMEZONE:US/Eastern
BEGIN:VEVENT
CATEGORIES:Community Engagement
CATEGORIES:Community Meeting
CATEGORIES:Community Outreach
CATEGORIES:Duke Street Land Use Plan
CATEGORIES:Planning Meeting
CATEGORIES:West End
DESCRIPTION:Imported on Apr 22\, 2026\, 6 hours before the event.\nTo veri
 fy info please see https://apps.alexandriava.gov/Calendar/Detail.aspx?si=
 62499\n\nPlease join us for the Duke Street Land Use Plan Community Meeti
 ng #5 on April 22\, 2026 from 6:30 - 8:30 PM online via Zoom.  The meetin
 g will introduce the draft framework elements of the future Plan\, includ
 ing proposed Building Heights\, Land Use\, the Mobility Network\, and the
  Open Space Network. The presentation will be followed by a Q&A. For more
  information about what a Framework Plan is\, visit our project page (www
 .alexandriava.gov/DukeStreetPlan).\n\nThe virtual meeting can be accessed
  through the following: \n\nZoom Registration link: https://zoom.us/webin
 ar/register/WN_Wz51bX8vSviI7lbJGv6fAg\nWebinar ID: 990 6603 1607  \nPassw
 ord: 397068\nDial-in: +1 305 224 1968\n\nLocation:  Virtual Only\nContact
  Person: Christian Brandt\nContact Phone: 703.746.3859\nContact Email: ch
 ristian.brandt@alexandriava.gov\nAudience: The same as NULL value.\nTags:
  Community Engagement\, Community Meeting\, Community Outreach\, Duke Str
 eet Land Use Plan\, Planning Meeting\, West End
DTEND:20260423T003000Z
DTSTAMP:20260325T172558Z
DTSTART:20260422T223000Z
LOCATION: Virtual Only
SEQUENCE:6
STATUS:CONFIRMED
SUMMARY:Duke Street Land Use Plan Community Meeting #5
TRANSP:TRANSPARENT
UID:cf2d6118-812b-4d4c-9e3e-2b23402968cb
X-ALT-DESC;FMTTYPE=text/html:Imported on Apr 22\, 2026\, 6 hours before th
 e event.<br />To verify info please see <a href="https://apps.alexandriav
 a.gov/Calendar/Detail.aspx?si=62499">https://apps.alexandriava.gov/Calend
 ar/Detail.aspx?si=62499</a><br />\n<br />Please join us for the Duke Stre
 et Land Use Plan Community Meeting #5 on April 22\, 2026 from 6:30 ? 8:30
  PM online via Zoom.  The meeting will introduce the draft framework elem
 ents of the future Plan\, including proposed Building Heights\, Land Use\
 , the Mobility Network\, and the Open Space Network. The presentation wil
 l be followed by a Q&amp\;A. For more information about what a Framework 
 Plan is\, visit our project page (www.alexandriava.gov/DukeStreetPlan).\n
 <br />\n<br />The virtual meeting can be accessed through the following: 
 \n<br />\n<br />Zoom Registration link: https://zoom.us/webinar/register/
 WN_Wz51bX8vSviI7lbJGv6fAg\n<br />Webinar ID: 990 6603 1607  \n<br />Passw
 ord: 397068\n<br />Dial-in: +1 305 224 1968\n<br />\n<br />Location:  Vir
 tual Only\n<br />Contact Person: Christian Brandt\n<br />Contact Phone: 7
 03.746.3859\n<br />Contact Email: christian.brandt@alexandriava.gov\n<br 
 />Audience: The same as NULL value.\n<br />Tags: Community Engagement\, C
 ommunity Meeting\, Community Outreach\, Duke Street Land Use Plan\, Plann
 ing Meeting\, West End
X-COA-DTSTAMP:20260325T172558Z
END:VEVENT
END:VCALENDAR
