BEGIN:VCALENDAR
CALSCALE:GREGORIAN
METHOD:PUBLISH
PRODID:-//github.com/ical-org/ical.net//NONSGML ical.net 4.0//EN
VERSION:2.0
X-WR-TIMEZONE:US/Eastern
BEGIN:VEVENT
CATEGORIES:Concerts
CATEGORIES:Lyceum
CATEGORIES:Museums
CATEGORIES:Old & Historic Alexandria
CATEGORIES:Old Town
DESCRIPTION:To verify info please see https://apps.alexandriava.gov/Calend
 ar/Detail.aspx?si=62382\n\nGet into the St. Patrick's Day spirit early wi
 th a lively evening of traditional Irish music featuring The Irish Breakf
 ast Band at the Alexandria History Museum at The Lyceum on Saturday\, Mar
 ch 14\, at 7 p.m. Known for their energetic performances\, The Irish Brea
 kfast Band brings together 15 or more musicians\, blending fiddles\, flut
 es\, guitars\, drums\, pipes\, and vocals to create an unforgettable auth
 entic Irish music experience. The band has performed at major regional fe
 stivals\, including the Washington Folk Festival and Art on the Avenue in
  Alexandria.  Tickets: $10 in advance\, $15 at the door | Children 17 & U
 nder: $5 at Alexandriava.gov/Shop. Free Snacks | Beer & Wine for Sale Pro
 ceeds benefit the Office of Historic Alexandria. Doors at 6:30 p.m. / con
 cert begins at 7 p.m. Don't miss this fun-filled night of music\, culture
 \, and community! \n\nLocation: Lyceum\nFees: $10 in advance\, $15 at the
  door | Children 17 & Under: $5 \nAudience: The same as NULL value.\nTags
 : Concerts\, Lyceum\, Museums\, Old & Historic Alexandria\, Old Town\n\nW
 eb resources:\n\nPurchase tickets online\nhttps://shop.alexandriava.gov/E
 vents.aspx\n
DTEND:20260315T010000Z
DTSTAMP:20260313T191910Z
DTSTART:20260314T230000Z
LOCATION:Lyceum
SEQUENCE:9
STATUS:CONFIRMED
SUMMARY:An Evening of Irish Music - SOLD OUT
TRANSP:OPAQUE
UID:6eb35e5f-aeac-4c0b-b85e-08538e84b8ba
URL:https://shop.alexandriava.gov/Events.aspx
X-ALT-DESC;FMTTYPE=text/html:To verify info please see <a href="https://ap
 ps.alexandriava.gov/Calendar/Detail.aspx?si=62382">https://apps.alexandri
 ava.gov/Calendar/Detail.aspx?si=62382</a><br />\n<br />Get into the St. P
 atrick?s Day spirit early with a lively evening of traditional Irish musi
 c featuring The Irish Breakfast Band at the Alexandria History Museum at 
 The Lyceum on Saturday\, March 14\, at 7 p.m. Known for their energetic p
 erformances\, The Irish Breakfast Band brings together 15 or more musicia
 ns\, blending fiddles\, flutes\, guitars\, drums\, pipes\, and vocals to 
 create an unforgettable authentic Irish music experience. The band has pe
 rformed at major regional festivals\, including the Washington Folk Festi
 val and Art on the Avenue in Alexandria.  Tickets: $10 in advance\, $15 a
 t the door | Children 17 &amp\; Under: $5 at Alexandriava.gov/Shop. Free 
 Snacks | Beer &amp\; Wine for Sale Proceeds benefit the Office of Histori
 c Alexandria. Doors at 6:30 p.m. / concert begins at 7 p.m. Don?t miss th
 is fun-filled night of music\, culture\, and community! \n<br />\n<br />L
 ocation: Lyceum\n<br />Fees: $10 in advance\, $15 at the door | Children 
 17 &amp\; Under: $5 \n<br />Audience: The same as NULL value.\n<br />Tags
 : Concerts\, Lyceum\, Museums\, Old &amp\; Historic Alexandria\, Old Town
 <br>\n<a href="https://shop.alexandriava.gov/Events.aspx">Purchase ticket
 s online</a><br>\n
X-COA-DTSTAMP:20260313T191910Z
END:VEVENT
END:VCALENDAR
