BEGIN:VCALENDAR
CALSCALE:GREGORIAN
METHOD:PUBLISH
PRODID:-//github.com/ical-org/ical.net//NONSGML ical.net 4.0//EN
VERSION:2.0
X-WR-TIMEZONE:US/Eastern
BEGIN:VEVENT
CATEGORIES:Bicycle
CATEGORIES:Community Event
CATEGORIES:Community Outreach
CATEGORIES:DASH
CATEGORIES:Eco-City
CATEGORIES:Environment
CATEGORIES:Family
CATEGORIES:GO Alex
CATEGORIES:Parks
DESCRIPTION:To verify info please see https://apps.alexandriava.gov/Calend
 ar/Detail.aspx?si=62358\n\nTest drive different electric vehicles from lo
 cal dealerships and talk to local EV owners about their experiences\, cha
 rging\, and the benefits of electric transportation.\n\nDon't drive a car
 ? Test ride a scooter or e-bike from a local retailer or one of the City'
 s micromobility operators. \n\nMore information on the event can be found
  at https://www.alexandriava.gov/energy/electric-vehicles.\n\nLocation: C
 hinquapin Park\, 3210 King St.\nContact Person: Amy Posner\nContact Phone
 : 703.746.3916\nContact Email: amy.posner@alexandriava.gov\nAudience: The
  same as NULL value.\nTags: Bicycle\, Community Event\, Community Outreac
 h\, DASH\, Eco-City\, Environment\, Family\, GO Alex\, Parks\n\nWeb resou
 rces:\n\nElectric Vehicles in Alexandria\nhttps://www.alexandriava.gov/en
 ergy/electric-vehicles-in-alexandria#/find/nearest?fuel=ELEC&location=ale
 xandria\,va\n
DTEND:20260411T180000Z
DTSTAMP:20260303T183929Z
DTSTART:20260411T140000Z
GEO:38.822415;-77.082363
LOCATION:Chinquapin Park\, 3210 King St.
SEQUENCE:6
STATUS:CONFIRMED
SUMMARY:Electric Vehicle Ride and Drive and Showcase
TRANSP:TRANSPARENT
UID:ceae8926-8e5b-4cfd-9466-a762ab10e31b
URL:https://www.alexandriava.gov/energy/electric-vehicles-in-alexandria#/f
 ind/nearest?fuel=ELEC&location=alexandria,va
X-ALT-DESC;FMTTYPE=text/html:To verify info please see <a href="https://ap
 ps.alexandriava.gov/Calendar/Detail.aspx?si=62358">https://apps.alexandri
 ava.gov/Calendar/Detail.aspx?si=62358</a><br />\n<br />Test drive differe
 nt electric vehicles from local dealerships and talk to local EV owners a
 bout their experiences\, charging\, and the benefits of electric transpor
 tation.\n<br />\n<br />Don&#39\;t drive a car? Test ride a scooter or e-b
 ike from a local retailer or one of the City&#39\;s micromobility operato
 rs. \n<br />\n<br />More information on the event can be found at <a href
 ="https://www.alexandriava.gov/energy/electric-vehicles.">https://www.ale
 xandriava.gov/energy/electric-vehicles.</a><br />\n<br />Location: Chinqu
 apin Park\, 3210 King St.\n<br />Contact Person: Amy Posner\n<br />Contac
 t Phone: 703.746.3916\n<br />Contact Email: amy.posner@alexandriava.gov\n
 <br />Audience: The same as NULL value.\n<br />Tags: Bicycle\, Community 
 Event\, Community Outreach\, DASH\, Eco-City\, Environment\, Family\, GO 
 Alex\, Parks<br>\n<a href="https://www.alexandriava.gov/energy/electric-v
 ehicles-in-alexandria#/find/nearest?fuel=ELEC&amp\;location=alexandria\,v
 a">Electric Vehicles in Alexandria</a><br>\n
X-COA-DTSTAMP:20260303T183929Z
END:VEVENT
END:VCALENDAR
