BEGIN:VCALENDAR
CALSCALE:GREGORIAN
METHOD:PUBLISH
PRODID:-//github.com/ical-org/ical.net//NONSGML ical.net 4.0//EN
VERSION:2.0
X-WR-TIMEZONE:US/Eastern
BEGIN:VEVENT
CATEGORIES:Boards & Commissions
CATEGORIES:Commission Meeting
CATEGORIES:DASH
CATEGORIES:T&ES Events
CATEGORIES:Transportation
DESCRIPTION:To verify info please see https://apps.alexandriava.gov/Calend
 ar/Detail.aspx?si=62350\n\nThe Board members will be attending in person 
 at the Del Pepper Community Resource Center @ Mark Center: 4850 Mark Cent
 er Drive\, Conference Room 9151 (9th floor)\, Alexandria\, VA 22311 \n\nL
 ocation: Del Pepper Community Resource Center\, 4850 Mark Center Drive\nC
 ontact Person: Beth Reveles\nContact Phone: 703.746.5637\nContact Email: 
 beth.reveles@alexandriava.gov\nAudience: The same as NULL value.\nTags: B
 oards & Commissions\, Commission Meeting\, DASH\, T&ES Events\, Transport
 ation
DTEND:20260311T233000Z
DTSTAMP:20260302T152449Z
DTSTART:20260311T213000Z
LOCATION:Del Pepper Community Resource Center\, 4850 Mark Center Drive
SEQUENCE:6
STATUS:CONFIRMED
SUMMARY:Alexandria Transit Co. Board of Directors Meeting
TRANSP:OPAQUE
UID:e1af45f5-4355-4ceb-85e3-1142137ac505
X-ALT-DESC;FMTTYPE=text/html:To verify info please see <a href="https://ap
 ps.alexandriava.gov/Calendar/Detail.aspx?si=62350">https://apps.alexandri
 ava.gov/Calendar/Detail.aspx?si=62350</a><br />\n<br />The Board members 
 will be attending in person at the Del Pepper Community Resource Center @
  Mark Center: 4850 Mark Center Drive\, Conference Room 9151 (9th floor)\,
  Alexandria\, VA 22311 \n<br />\n<br />Location: Del Pepper Community Res
 ource Center\, 4850 Mark Center Drive\n<br />Contact Person: Beth Reveles
 \n<br />Contact Phone: 703.746.5637\n<br />Contact Email: beth.reveles@al
 exandriava.gov\n<br />Audience: The same as NULL value.\n<br />Tags: Boar
 ds &amp\; Commissions\, Commission Meeting\, DASH\, T&amp\;ES Events\, Tr
 ansportation
X-COA-DTSTAMP:20260302T152449Z
END:VEVENT
END:VCALENDAR
