BEGIN:VCALENDAR
CALSCALE:GREGORIAN
METHOD:PUBLISH
PRODID:-//github.com/ical-org/ical.net//NONSGML ical.net 4.0//EN
VERSION:2.0
X-WR-TIMEZONE:US/Eastern
BEGIN:VEVENT
CATEGORIES:BAR-OHAD
CATEGORIES:BAR-PG
CATEGORIES:Board of Architectural Review
CATEGORIES:Boards & Commissions
CATEGORIES:Cablecast
CATEGORIES:Commission Meeting
CATEGORIES:Parker Gray
CATEGORIES:Planning Boards and Commissions
CATEGORIES:Planning Meeting
CATEGORIES:Public Hearing Commissions
CATEGORIES:Regular Meeting
CATEGORIES:Webcast
CATEGORIES:Zoning
DESCRIPTION:Imported on Apr 23\, 2026\, 223 days before the event.\nTo ver
 ify info please see https://apps.alexandriava.gov/Calendar/Detail.aspx?si
 =62100\n\nRegular Monthly Public Hearing of the Board of Architectural Re
 view * Hearing end times are approximate\n\nLocation: Charles Houston Rec
 reation Center\, 901 Wythe St.\nContact Person: William Conkey\nContact P
 hone: 703.746.4666\nContact Email: william.conkey@alexandriava.gov\nAudie
 nce: The same as NULL value.\nTags: BAR-OHAD\, BAR-PG\, Board of Architec
 tural Review\, Boards & Commissions\, Cablecast\, Commission Meeting\, Pa
 rker Gray\, Planning Boards and Commissions\, Planning Meeting\, Public H
 earing Commissions\, Regular Meeting\, Webcast\, Zoning\n\nWeb resources:
 \n\nhttps://alexandria.granicus.com/ViewPublisher.php?view_id=57\n
DTEND:20261203T045900Z
DTSTAMP:20260320T140937Z
DTSTART:20261203T000001Z
GEO:38.812326;-77.048213
LOCATION:Charles Houston Recreation Center\, 901 Wythe St.
SEQUENCE:6
STATUS:CONFIRMED
SUMMARY:Board of Architectural Review Public Hearing
TRANSP:TRANSPARENT
UID:043d3a2e-edaa-4ccf-b979-0ab0212d474d
URL:https://alexandria.granicus.com/ViewPublisher.php?view_id=57
X-ALT-DESC;FMTTYPE=text/html:Imported on Apr 23\, 2026\, 223 days before t
 he event.<br />To verify info please see <a href="https://apps.alexandria
 va.gov/Calendar/Detail.aspx?si=62100">https://apps.alexandriava.gov/Calen
 dar/Detail.aspx?si=62100</a><br />\n<br />Regular Monthly Public Hearing 
 of the Board of Architectural Review * Hearing end times are approximate\
 n<br />\n<br />Location: Charles Houston Recreation Center\, 901 Wythe St
 .\n<br />Contact Person: William Conkey\n<br />Contact Phone: 703.746.466
 6\n<br />Contact Email: william.conkey@alexandriava.gov\n<br />Audience: 
 The same as NULL value.\n<br />Tags: BAR-OHAD\, BAR-PG\, Board of Archite
 ctural Review\, Boards &amp\; Commissions\, Cablecast\, Commission Meetin
 g\, Parker Gray\, Planning Boards and Commissions\, Planning Meeting\, Pu
 blic Hearing Commissions\, Regular Meeting\, Webcast\, Zoning<br>\n<a hre
 f="https://alexandria.granicus.com/ViewPublisher.php?view_id=57">https://
 alexandria.granicus.com/ViewPublisher.php?view_id=57</a><br>\n
X-COA-DTSTAMP:20260320T140937Z
END:VEVENT
END:VCALENDAR
