BEGIN:VCALENDAR
CALSCALE:GREGORIAN
METHOD:PUBLISH
PRODID:-//github.com/ical-org/ical.net//NONSGML ical.net 4.0//EN
VERSION:2.0
X-WR-TIMEZONE:US/Eastern
BEGIN:VEVENT
CATEGORIES:BAR-OHAD
CATEGORIES:BAR-PG
CATEGORIES:Board of Architectural Review
CATEGORIES:Boards & Commissions
CATEGORIES:Cablecast
CATEGORIES:Commission Meeting
CATEGORIES:Parker Gray
CATEGORIES:Planning Boards and Commissions
CATEGORIES:Planning Meeting
CATEGORIES:Public Hearing Commissions
CATEGORIES:Regular Meeting
CATEGORIES:Webcast
CATEGORIES:Zoning
DESCRIPTION:Imported on Apr 23\, 2026\, 83 days before the event.\nTo veri
 fy info please see https://apps.alexandriava.gov/Calendar/Detail.aspx?si=
 62093\n\nRegular Monthly Public Hearing of the Board of Architectural Rev
 iew * Hearing end times are approximate\n\nLocation: Charles Houston Recr
 eation Center\, 901 Wythe St.\nContact Person: William Conkey\nContact Ph
 one: 703.746.4666\nContact Email: william.conkey@alexandriava.gov\nAudien
 ce: The same as NULL value.\nTags: BAR-OHAD\, BAR-PG\, Board of Architect
 ural Review\, Boards & Commissions\, Cablecast\, Commission Meeting\, Par
 ker Gray\, Planning Boards and Commissions\, Planning Meeting\, Public He
 aring Commissions\, Regular Meeting\, Webcast\, Zoning\n\nWeb resources:\
 n\nhttps://alexandria.granicus.com/ViewPublisher.php?view_id=57\n
DTEND:20260716T035900Z
DTSTAMP:20260320T140936Z
DTSTART:20260715T230000Z
GEO:38.812326;-77.048213
LOCATION:Charles Houston Recreation Center\, 901 Wythe St.
SEQUENCE:6
STATUS:CONFIRMED
SUMMARY:Board of Architectural Review Public Hearing
TRANSP:TRANSPARENT
UID:67ff1a70-97c6-4187-8b26-063420455e9d
URL:https://alexandria.granicus.com/ViewPublisher.php?view_id=57
X-ALT-DESC;FMTTYPE=text/html:Imported on Apr 23\, 2026\, 83 days before th
 e event.<br />To verify info please see <a href="https://apps.alexandriav
 a.gov/Calendar/Detail.aspx?si=62093">https://apps.alexandriava.gov/Calend
 ar/Detail.aspx?si=62093</a><br />\n<br />Regular Monthly Public Hearing o
 f the Board of Architectural Review * Hearing end times are approximate\n
 <br />\n<br />Location: Charles Houston Recreation Center\, 901 Wythe St.
 \n<br />Contact Person: William Conkey\n<br />Contact Phone: 703.746.4666
 \n<br />Contact Email: william.conkey@alexandriava.gov\n<br />Audience: T
 he same as NULL value.\n<br />Tags: BAR-OHAD\, BAR-PG\, Board of Architec
 tural Review\, Boards &amp\; Commissions\, Cablecast\, Commission Meeting
 \, Parker Gray\, Planning Boards and Commissions\, Planning Meeting\, Pub
 lic Hearing Commissions\, Regular Meeting\, Webcast\, Zoning<br>\n<a href
 ="https://alexandria.granicus.com/ViewPublisher.php?view_id=57">https://a
 lexandria.granicus.com/ViewPublisher.php?view_id=57</a><br>\n
X-COA-DTSTAMP:20260320T140936Z
END:VEVENT
END:VCALENDAR
