BEGIN:VCALENDAR
CALSCALE:GREGORIAN
METHOD:PUBLISH
PRODID:-//github.com/ical-org/ical.net//NONSGML ical.net 4.0//EN
VERSION:2.0
X-WR-TIMEZONE:US/Eastern
BEGIN:VEVENT
CATEGORIES:Business Events
CATEGORIES:Eco-City
CATEGORIES:Environment
DESCRIPTION:To verify info please see https://apps.alexandriava.gov/Calend
 ar/Detail.aspx?si=62072\n\nTest your trivia skills AND connect with resou
 rces to help your house\, apartment\, or condo be more efficient\, comfor
 table\, and healthy! Join the Eco-City team and Go Electric DMV for a nig
 ht of friendly competition. No pre-registration needed. Seating opens at 
 6:30PM and is first come\, first served!\n\nLocation: Port City Brewing C
 ompany\nContact Person: Samantha Heitsch\nContact Phone: 703.746.3776\nCo
 ntact Email: Samantha.Heitsch@AlexandriaVA.gov\nAudience: The same as NUL
 L value.\nTags: Business Events\, Eco-City\, Environment\n\nWeb resources
 :\n\nhttps://www.portcitybrewing.com/event-details/trains-planes-automobi
 les-an-invention-trivia-night\n
DTEND:20260220T013000Z
DTSTAMP:20260209T200325Z
DTSTART:20260220T000001Z
LOCATION:Port City Brewing Company
SEQUENCE:6
STATUS:CONFIRMED
SUMMARY:Eco-City at Port City Trivia Night
TRANSP:TRANSPARENT
UID:eabf4a1e-1394-4e50-b9e8-26195d3f03b6
URL:https://www.portcitybrewing.com/event-details/trains-planes-automobile
 s-an-invention-trivia-night
X-ALT-DESC;FMTTYPE=text/html:To verify info please see <a href="https://ap
 ps.alexandriava.gov/Calendar/Detail.aspx?si=62072">https://apps.alexandri
 ava.gov/Calendar/Detail.aspx?si=62072</a><br />\n<br />Test your trivia s
 kills AND connect with resources to help your house\, apartment\, or cond
 o be more efficient\, comfortable\, and healthy! Join the Eco-City team a
 nd Go Electric DMV for a night of friendly competition. No pre-registrati
 on needed. Seating opens at 6:30PM and is first come\, first served!\n<br
  />\n<br />Location: Port City Brewing Company\n<br />Contact Person: Sam
 antha Heitsch\n<br />Contact Phone: 703.746.3776\n<br />Contact Email: Sa
 mantha.Heitsch@AlexandriaVA.gov\n<br />Audience: The same as NULL value.\
 n<br />Tags: Business Events\, Eco-City\, Environment<br>\n<a href="https
 ://www.portcitybrewing.com/event-details/trains-planes-automobiles-an-inv
 ention-trivia-night">https://www.portcitybrewing.com/event-details/trains
 -planes-automobiles-an-invention-trivia-night</a><br>\n
X-COA-DTSTAMP:20260209T200325Z
END:VEVENT
END:VCALENDAR
